BEGIN:VCALENDAR
VERSION:2.0
PRODID:-//Myerstown Community Library - ECPv6.15.17.1//NONSGML v1.0//EN
CALSCALE:GREGORIAN
METHOD:PUBLISH
X-WR-CALNAME:Myerstown Community Library
X-ORIGINAL-URL:https://myerstown.lclibs.org
X-WR-CALDESC:Events for Myerstown Community Library
REFRESH-INTERVAL;VALUE=DURATION:PT1H
X-Robots-Tag:noindex
X-PUBLISHED-TTL:PT1H
BEGIN:VTIMEZONE
TZID:America/New_York
BEGIN:DAYLIGHT
TZOFFSETFROM:-0500
TZOFFSETTO:-0400
TZNAME:EDT
DTSTART:20230312T070000
END:DAYLIGHT
BEGIN:STANDARD
TZOFFSETFROM:-0400
TZOFFSETTO:-0500
TZNAME:EST
DTSTART:20231105T060000
END:STANDARD
BEGIN:DAYLIGHT
TZOFFSETFROM:-0500
TZOFFSETTO:-0400
TZNAME:EDT
DTSTART:20240310T070000
END:DAYLIGHT
BEGIN:STANDARD
TZOFFSETFROM:-0400
TZOFFSETTO:-0500
TZNAME:EST
DTSTART:20241103T060000
END:STANDARD
BEGIN:DAYLIGHT
TZOFFSETFROM:-0500
TZOFFSETTO:-0400
TZNAME:EDT
DTSTART:20250309T070000
END:DAYLIGHT
BEGIN:STANDARD
TZOFFSETFROM:-0400
TZOFFSETTO:-0500
TZNAME:EST
DTSTART:20251102T060000
END:STANDARD
END:VTIMEZONE
BEGIN:VEVENT
DTSTART;TZID=America/New_York:20241217T183000
DTEND;TZID=America/New_York:20241217T200000
DTSTAMP:20260421T094339
CREATED:20240212T195749Z
LAST-MODIFIED:20251219T175204Z
UID:30461-1734460200-1734465600@myerstown.lclibs.org
SUMMARY:Library Board Meeting
DESCRIPTION:The Library Board meets on the third Tuesday of each month at 6:30pm. These meetings are open to the public and are subject to change without notice.
URL:https://myerstown.lclibs.org/event/library-board-meeting/2024-12-17/
LOCATION:Myerstown Community Library\, 199 N. College Street\, Myerstown\, PA\, 17067\, United States
CATEGORIES:Adult program,Board Meeting,Myerstown Community Library
ORGANIZER;CN="Sarah Bair":MAILTO:sbair@lclibs.org
END:VEVENT
BEGIN:VEVENT
DTSTART;TZID=America/New_York:20241216T153000
DTEND;TZID=America/New_York:20241216T163000
DTSTAMP:20260421T094339
CREATED:20240212T194638Z
LAST-MODIFIED:20251223T210033Z
UID:30437-1734363000-1734366600@myerstown.lclibs.org
SUMMARY:PokeMondays
DESCRIPTION:Bring your deck or devices to play. No previous experience required!
URL:https://myerstown.lclibs.org/event/pokemondays-2/2024-12-16/
LOCATION:Myerstown Community Library\, 199 N. College Street\, Myerstown\, PA\, 17067\, United States
CATEGORIES:After-School Club,Children,Myerstown Community Library
ORGANIZER;CN="Sarah Bair":MAILTO:sbair@lclibs.org
END:VEVENT
BEGIN:VEVENT
DTSTART;TZID=America/New_York:20241214T180000
DTEND;TZID=America/New_York:20241214T200000
DTSTAMP:20260421T094339
CREATED:20241028T165143Z
LAST-MODIFIED:20241028T165143Z
UID:31334-1734199200-1734206400@myerstown.lclibs.org
SUMMARY:Historical Lantern Walk at the Isaac Meier Homestead
DESCRIPTION:*This event takes place at the Isaac Meier Homestead* \nMake a lantern at the library December 9th – 13th. Supplies are provided for you and the activity is FREE! No registration required. \nAfter you make a lantern\, stop by the Isaac Meier Homestead on Saturday\, December 14th for their Historical Lantern Walk. Miss Sarah will share a story and craft\, and the Hometown Historian will lead a tour at 6:45pm. \nDon’t miss out on candle-lit tours of the homestead\, hot mulled cider\, cookies\, s’mores\, and even a hayride! See you there!
URL:https://myerstown.lclibs.org/event/historical-lantern-walk-at-the-isaac-meier-homestead/
CATEGORIES:Adult program,Adults,Children,Community Event,Craft Program,Family Program,Food,Games,Lebanon County Libraries,Lebanon County Library System,Music,Myerstown Community Library,STEM,Storytime,Teens,Tweens
ORGANIZER;CN="Sarah Bair":MAILTO:sbair@lclibs.org
END:VEVENT
BEGIN:VEVENT
DTSTART;TZID=America/New_York:20241213T130000
DTEND;TZID=America/New_York:20241213T150000
DTSTAMP:20260421T094339
CREATED:20241028T153443Z
LAST-MODIFIED:20241028T153443Z
UID:31332-1734094800-1734102000@myerstown.lclibs.org
SUMMARY:Polar Express at the Library!
DESCRIPTION:We are celebrating the winter season with some hot cocoa\, story time\, and a showing of the Polar Express (rated G\, 100min). Brian’s Model Trains will be here to share a train display\, as well! Come in your pjs to listen to the story and watch the movie. Don’t miss out! \nRegister by calling the library at 717-866-2800!
URL:https://myerstown.lclibs.org/event/polar-express-at-the-library/
LOCATION:Myerstown Community Library\, 199 N. College Street\, Myerstown\, PA\, 17067\, United States
CATEGORIES:Children,Community Event,Family Program,Lebanon County Libraries,Lebanon County Library System,Movie,Myerstown Community Library,STEM,Storytime
ORGANIZER;CN="Sarah Bair":MAILTO:sbair@lclibs.org
END:VEVENT
BEGIN:VEVENT
DTSTART;TZID=America/New_York:20241213T103000
DTEND;TZID=America/New_York:20241213T113000
DTSTAMP:20260421T094339
CREATED:20240301T195818Z
LAST-MODIFIED:20251219T154238Z
UID:30637-1734085800-1734089400@myerstown.lclibs.org
SUMMARY:Preschool Story Time
DESCRIPTION:Join in the fun with stories\, songs\, and more that encourage development of Early Literacy skills in young children.
URL:https://myerstown.lclibs.org/event/preschool-story-time-2/2024-12-13/
LOCATION:Myerstown Community Library\, 199 N. College Street\, Myerstown\, PA\, 17067\, United States
CATEGORIES:Children,Myerstown Community Library,Storytime
ORGANIZER;CN="Sarah Bair":MAILTO:sbair@lclibs.org
END:VEVENT
BEGIN:VEVENT
DTSTART;TZID=America/New_York:20241212T173000
DTEND;TZID=America/New_York:20241212T183000
DTSTAMP:20260421T094339
CREATED:20240212T200633Z
LAST-MODIFIED:20240212T200633Z
UID:30485-1734024600-1734028200@myerstown.lclibs.org
SUMMARY:Great Discussions
DESCRIPTION:Join us for Great Discussions in the humanities and a review of the annual Great Decisions publication.
URL:https://myerstown.lclibs.org/event/great-discussions/2024-12-12/
LOCATION:Myerstown Community Library\, 199 N. College Street\, Myerstown\, PA\, 17067\, United States
CATEGORIES:Adult program,Adults,Book Discussion,Civic Literacy,Interest Group,Myerstown Community Library
ORGANIZER;CN="Sarah Bair":MAILTO:sbair@lclibs.org
END:VEVENT
BEGIN:VEVENT
DTSTART;TZID=America/New_York:20241211T173000
DTEND;TZID=America/New_York:20241211T183000
DTSTAMP:20260421T094339
CREATED:20240905T182133Z
LAST-MODIFIED:20250609T165158Z
UID:31313-1733938200-1733941800@myerstown.lclibs.org
SUMMARY:Explorations in Music
DESCRIPTION:Join in the discussion! Each month\, on the second Wednesday at 6pm\, we will meet at the library to discuss music culture\, genre\, and influence. This group is open to the public\, and discussions are moderated. Share your thoughts and lend your voice!\n\nSeptember – Apple Music’s 100 Best AlbumsOctober – Cover Songs and Tribute AlbumsNovember – What is country music?December – Holiday Music
URL:https://myerstown.lclibs.org/event/explorations-in-music/2024-12-11/
LOCATION:Myerstown Community Library\, 199 N. College Street\, Myerstown\, PA\, 17067\, United States
CATEGORIES:Adult program,Adults,Interest Group,Lebanon County Libraries,Lebanon County Library System,Music,Myerstown Community Library
ORGANIZER;CN="Sarah Bair":MAILTO:sbair@lclibs.org
END:VEVENT
BEGIN:VEVENT
DTSTART;TZID=America/New_York:20241207T130000
DTEND;TZID=America/New_York:20241207T150000
DTSTAMP:20260421T094339
CREATED:20241028T152339Z
LAST-MODIFIED:20241028T152339Z
UID:31330-1733576400-1733583600@myerstown.lclibs.org
SUMMARY:"Gingerbread" Houses Crafternoon
DESCRIPTION:‘Tis the season! And we are celebrating by creating “gingerbread” houses at the library! Our houses will be a bit different than the traditional gingerbread… We will be using wooden houses and craft supplies to construct our homes! Don’t miss out on this festive crafternoon! \nAges 16+\, registration is required! Give the library a call to register at 717-866-2800.
URL:https://myerstown.lclibs.org/event/gingerbread-houses-crafternoon/
LOCATION:Myerstown Community Library\, 199 N. College Street\, Myerstown\, PA\, 17067\, United States
CATEGORIES:Adult program,Adults,Craft Program,Lebanon County Libraries,Lebanon County Library System,Myerstown Community Library,STEM
ORGANIZER;CN="Sarah Bair":MAILTO:sbair@lclibs.org
END:VEVENT
BEGIN:VEVENT
DTSTART;TZID=America/New_York:20241206T103000
DTEND;TZID=America/New_York:20241206T113000
DTSTAMP:20260421T094339
CREATED:20240301T195818Z
LAST-MODIFIED:20251219T154238Z
UID:30636-1733481000-1733484600@myerstown.lclibs.org
SUMMARY:Preschool Story Time
DESCRIPTION:Join in the fun with stories\, songs\, and more that encourage development of Early Literacy skills in young children.
URL:https://myerstown.lclibs.org/event/preschool-story-time-2/2024-12-06/
LOCATION:Myerstown Community Library\, 199 N. College Street\, Myerstown\, PA\, 17067\, United States
CATEGORIES:Children,Myerstown Community Library,Storytime
ORGANIZER;CN="Sarah Bair":MAILTO:sbair@lclibs.org
END:VEVENT
BEGIN:VEVENT
DTSTART;TZID=America/New_York:20241205T180000
DTEND;TZID=America/New_York:20241205T200000
DTSTAMP:20260421T094339
CREATED:20241025T182904Z
LAST-MODIFIED:20241025T182904Z
UID:31307-1733421600-1733428800@myerstown.lclibs.org
SUMMARY:Books & Brews
DESCRIPTION:We are excited to partner with the Porch in Myerstown to offer a new type of book club. Come to the restaurant to browse and learn about new releases across multiple genres. \nEnjoy a burger or adult beverage while you chat about what you’ve read and hear about what’s new! \nThursday\, 11/7 and 12/5 at 6pm; ages 21 and up; call the library to register – space is limited!! 717.866.2800
URL:https://myerstown.lclibs.org/event/books-brews/2024-12-05/
LOCATION:Porch Restaurant & Pub\, 890 Tulpehocken Rd\, Myerstown\, PA\, 17067\, United States
CATEGORIES:Adult program,Adults,Book Club,Book Discussion,Community Event,Food,Lebanon County Libraries,Lebanon County Library System,Myerstown Community Library
ORGANIZER;CN="Sarah Bair":MAILTO:sbair@lclibs.org
END:VEVENT
BEGIN:VEVENT
DTSTART;TZID=America/New_York:20241204T103000
DTEND;TZID=America/New_York:20241204T113000
DTSTAMP:20260421T094339
CREATED:20240212T192844Z
LAST-MODIFIED:20241223T214033Z
UID:30395-1733308200-1733311800@myerstown.lclibs.org
SUMMARY:Sit & Knit
DESCRIPTION:A place to talk\, ask questions\, and share your love of knitting\, crocheting and everything that goes with it.
URL:https://myerstown.lclibs.org/event/sit-knit-2/2024-12-04/
LOCATION:Myerstown Community Library\, 199 N. College Street\, Myerstown\, PA\, 17067\, United States
CATEGORIES:Adult program,Adults,Craft Program,Myerstown Community Library
ORGANIZER;CN="Sarah Bair":MAILTO:sbair@lclibs.org
END:VEVENT
BEGIN:VEVENT
DTSTART;TZID=America/New_York:20241130T110000
DTEND;TZID=America/New_York:20241130T120000
DTSTAMP:20260421T094339
CREATED:20240212T201719Z
LAST-MODIFIED:20260112T223901Z
UID:30508-1732964400-1732968000@myerstown.lclibs.org
SUMMARY:BYOB Book Club
DESCRIPTION:BYOB – Bring Your Own Book Club! We discuss our favorite books and current reads.
URL:https://myerstown.lclibs.org/event/byob-book-club/2024-11-30/
LOCATION:Myerstown Community Library\, 199 N. College Street\, Myerstown\, PA\, 17067\, United States
CATEGORIES:Adult program,Adults,Book Club,Book Discussion,Myerstown Community Library
ORGANIZER;CN="Sarah Bair":MAILTO:sbair@lclibs.org
END:VEVENT
BEGIN:VEVENT
DTSTART;VALUE=DATE:20241130
DTEND;VALUE=DATE:20241201
DTSTAMP:20260421T094339
CREATED:20241003T024638Z
LAST-MODIFIED:20241003T024638Z
UID:31286-1732924800-1733011199@myerstown.lclibs.org
SUMMARY:MCL CLOSING @1PM
DESCRIPTION:Closing early due to the Myerstown Community Parade. See you there!
URL:https://myerstown.lclibs.org/event/mcl-closing-1pm-2/
LOCATION:Myerstown Community Library\, 199 N. College Street\, Myerstown\, PA\, 17067\, United States
CATEGORIES:Lebanon County Libraries,Lebanon County Library System,Myerstown Community Library
ORGANIZER;CN="Sarah Bair":MAILTO:sbair@lclibs.org
END:VEVENT
BEGIN:VEVENT
DTSTART;VALUE=DATE:20241128
DTEND;VALUE=DATE:20241130
DTSTAMP:20260421T094339
CREATED:20241003T024206Z
LAST-MODIFIED:20241003T024206Z
UID:31282-1732752000-1732924799@myerstown.lclibs.org
SUMMARY:MCL CLOSED
DESCRIPTION:HAPPY THANKSGIVING!! We are thankful for all of our wonderful patrons and library friends!
URL:https://myerstown.lclibs.org/event/mcl-closed-5/
LOCATION:Myerstown Community Library\, 199 N. College Street\, Myerstown\, PA\, 17067\, United States
CATEGORIES:Lebanon County Libraries,Lebanon County Library System,Myerstown Community Library
ORGANIZER;CN="Sarah Bair":MAILTO:sbair@lclibs.org
END:VEVENT
BEGIN:VEVENT
DTSTART;VALUE=DATE:20241127
DTEND;VALUE=DATE:20241128
DTSTAMP:20260421T094339
CREATED:20241003T024419Z
LAST-MODIFIED:20241003T024419Z
UID:31284-1732665600-1732751999@myerstown.lclibs.org
SUMMARY:MCL CLOSING @5PM
DESCRIPTION:HAPPY THANKSGIVING!! We are thankful for all of our wonderful patrons and library friends!
URL:https://myerstown.lclibs.org/event/mcl-closing-5pm/
LOCATION:Myerstown Community Library\, 199 N. College Street\, Myerstown\, PA\, 17067\, United States
CATEGORIES:Lebanon County Libraries,Lebanon County Library System,Myerstown Community Library
ORGANIZER;CN="Sarah Bair":MAILTO:sbair@lclibs.org
END:VEVENT
BEGIN:VEVENT
DTSTART;TZID=America/New_York:20241122T103000
DTEND;TZID=America/New_York:20241122T113000
DTSTAMP:20260421T094339
CREATED:20240301T195818Z
LAST-MODIFIED:20251219T154237Z
UID:30635-1732271400-1732275000@myerstown.lclibs.org
SUMMARY:Preschool Story Time
DESCRIPTION:Join in the fun with stories\, songs\, and more that encourage development of Early Literacy skills in young children.
URL:https://myerstown.lclibs.org/event/preschool-story-time-2/2024-11-22/
LOCATION:Myerstown Community Library\, 199 N. College Street\, Myerstown\, PA\, 17067\, United States
CATEGORIES:Children,Myerstown Community Library,Storytime
ORGANIZER;CN="Sarah Bair":MAILTO:sbair@lclibs.org
END:VEVENT
BEGIN:VEVENT
DTSTART;TZID=America/New_York:20241121T170000
DTEND;TZID=America/New_York:20241121T190000
DTSTAMP:20260421T094339
CREATED:20241003T014859Z
LAST-MODIFIED:20250411T183802Z
UID:31247-1732208400-1732215600@myerstown.lclibs.org
SUMMARY:Chess Club
DESCRIPTION:Join us for FREE play and chess lessons for improving players!\nChess Club is open to ALL AGES and playing ability! No registration required!\nAll boards and sets are provided for you and this club is completely FREE!\nFor questions\, contact Michael Cook at myerstownchess@gmail.com or text/call 717-813-1427
URL:https://myerstown.lclibs.org/event/chess-club/2024-11-21/
LOCATION:Myerstown Community Library\, 199 N. College Street\, Myerstown\, PA\, 17067\, United States
CATEGORIES:Adults,Children,Community Event,Family Program,Games,Lebanon County Libraries,Lebanon County Library System,Myerstown Community Library,Teens,Tweens
ORGANIZER;CN="Sarah Bair":MAILTO:sbair@lclibs.org
END:VEVENT
BEGIN:VEVENT
DTSTART;TZID=America/New_York:20241120T103000
DTEND;TZID=America/New_York:20241120T113000
DTSTAMP:20260421T094339
CREATED:20240212T192844Z
LAST-MODIFIED:20241223T214033Z
UID:30394-1732098600-1732102200@myerstown.lclibs.org
SUMMARY:Sit & Knit
DESCRIPTION:A place to talk\, ask questions\, and share your love of knitting\, crocheting and everything that goes with it.
URL:https://myerstown.lclibs.org/event/sit-knit-2/2024-11-20/
LOCATION:Myerstown Community Library\, 199 N. College Street\, Myerstown\, PA\, 17067\, United States
CATEGORIES:Adult program,Adults,Craft Program,Myerstown Community Library
ORGANIZER;CN="Sarah Bair":MAILTO:sbair@lclibs.org
END:VEVENT
BEGIN:VEVENT
DTSTART;TZID=America/New_York:20241119T183000
DTEND;TZID=America/New_York:20241119T200000
DTSTAMP:20260421T094339
CREATED:20240212T195749Z
LAST-MODIFIED:20251219T175113Z
UID:30460-1732041000-1732046400@myerstown.lclibs.org
SUMMARY:Library Board Meeting
DESCRIPTION:The Library Board meets on the third Tuesday of each month at 6:30pm. These meetings are open to the public and are subject to change without notice.
URL:https://myerstown.lclibs.org/event/library-board-meeting/2024-11-19/
LOCATION:Myerstown Community Library\, 199 N. College Street\, Myerstown\, PA\, 17067\, United States
CATEGORIES:Adult program,Board Meeting,Myerstown Community Library
ORGANIZER;CN="Sarah Bair":MAILTO:sbair@lclibs.org
END:VEVENT
BEGIN:VEVENT
DTSTART;TZID=America/New_York:20241119T163000
DTEND;TZID=America/New_York:20241119T173000
DTSTAMP:20260421T094339
CREATED:20241025T191249Z
LAST-MODIFIED:20241025T191249Z
UID:31328-1732033800-1732037400@myerstown.lclibs.org
SUMMARY:Book Peeps
DESCRIPTION:Do you love the Ivy and Bean series? Are you seven or older? Do you like snacks and crafts?? Then this program is for you!\nJoin the Book Peeps Book Club on Tuesday\, 10/15 at 4:30pm!  Psst… This program is with Miss Amy!! 
URL:https://myerstown.lclibs.org/event/book-peeps-3/
LOCATION:Myerstown Community Library\, 199 N. College Street\, Myerstown\, PA\, 17067\, United States
CATEGORIES:After-School Club,Book Club,Book Discussion,Children,Craft Program,Lebanon County Libraries,Lebanon County Library System,Myerstown Community Library
ORGANIZER;CN="Sarah Bair":MAILTO:sbair@lclibs.org
END:VEVENT
BEGIN:VEVENT
DTSTART;TZID=America/New_York:20241118T170000
DTEND;TZID=America/New_York:20241118T190000
DTSTAMP:20260421T094339
CREATED:20241025T190933Z
LAST-MODIFIED:20241025T190934Z
UID:31326-1731949200-1731956400@myerstown.lclibs.org
SUMMARY:Dungeons & Dragons
DESCRIPTION:Join our adventure guild and test out your skills! We are looking for paladins\, wizards\, bards\, and warlocks to join us on our adventure as we train to fight monsters\, beasts\, and other mythical creatures!\nThis is a Dungeons & Dragons (D&D) roleplaying group that meets once a month. Recommended for ages 14 and up! Beginners welcome – we will teach you!\nREGISTRATION IS REQUIRED.
URL:https://myerstown.lclibs.org/event/dungeons-dragons-2/
LOCATION:Myerstown Community Library\, 199 N. College Street\, Myerstown\, PA\, 17067\, United States
CATEGORIES:Adults,Games,Lebanon County Libraries,Lebanon County Library System,Myerstown Community Library,Teens
ORGANIZER;CN="Sarah Bair":MAILTO:sbair@lclibs.org
END:VEVENT
BEGIN:VEVENT
DTSTART;TZID=America/New_York:20241118T153000
DTEND;TZID=America/New_York:20241118T163000
DTSTAMP:20260421T094339
CREATED:20240212T194638Z
LAST-MODIFIED:20251223T210033Z
UID:30435-1731943800-1731947400@myerstown.lclibs.org
SUMMARY:PokeMondays
DESCRIPTION:Bring your deck or devices to play. No previous experience required!
URL:https://myerstown.lclibs.org/event/pokemondays-2/2024-11-18/
LOCATION:Myerstown Community Library\, 199 N. College Street\, Myerstown\, PA\, 17067\, United States
CATEGORIES:After-School Club,Children,Myerstown Community Library
ORGANIZER;CN="Sarah Bair":MAILTO:sbair@lclibs.org
END:VEVENT
BEGIN:VEVENT
DTSTART;TZID=America/New_York:20241116T110000
DTEND;TZID=America/New_York:20241116T120000
DTSTAMP:20260421T094339
CREATED:20240301T200314Z
LAST-MODIFIED:20260130T192712Z
UID:30574-1731754800-1731758400@myerstown.lclibs.org
SUMMARY:STEAM Saturdays
DESCRIPTION:Registration required. Recommended for ages 8-14.\n\nSTEAM stands for Science Technology Engineering Art and Math! “STEAM” Saturdays allow children to partake in building challenges\, experiments\, robotics\, and more!
URL:https://myerstown.lclibs.org/event/steam-saturdays/2024-11-16/
LOCATION:Myerstown Community Library\, 199 N. College Street\, Myerstown\, PA\, 17067\, United States
CATEGORIES:Children,Myerstown Community Library,STEM
ORGANIZER;CN="Sarah Bair":MAILTO:sbair@lclibs.org
END:VEVENT
BEGIN:VEVENT
DTSTART;TZID=America/New_York:20241115T103000
DTEND;TZID=America/New_York:20241115T113000
DTSTAMP:20260421T094339
CREATED:20240301T195818Z
LAST-MODIFIED:20251219T154237Z
UID:30634-1731666600-1731670200@myerstown.lclibs.org
SUMMARY:Preschool Story Time
DESCRIPTION:Join in the fun with stories\, songs\, and more that encourage development of Early Literacy skills in young children.
URL:https://myerstown.lclibs.org/event/preschool-story-time-2/2024-11-15/
LOCATION:Myerstown Community Library\, 199 N. College Street\, Myerstown\, PA\, 17067\, United States
CATEGORIES:Children,Myerstown Community Library,Storytime
ORGANIZER;CN="Sarah Bair":MAILTO:sbair@lclibs.org
END:VEVENT
BEGIN:VEVENT
DTSTART;TZID=America/New_York:20241114T173000
DTEND;TZID=America/New_York:20241114T183000
DTSTAMP:20260421T094339
CREATED:20240212T200633Z
LAST-MODIFIED:20240212T200633Z
UID:30484-1731605400-1731609000@myerstown.lclibs.org
SUMMARY:Great Discussions
DESCRIPTION:Join us for Great Discussions in the humanities and a review of the annual Great Decisions publication.
URL:https://myerstown.lclibs.org/event/great-discussions/2024-11-14/
LOCATION:Myerstown Community Library\, 199 N. College Street\, Myerstown\, PA\, 17067\, United States
CATEGORIES:Adult program,Adults,Book Discussion,Civic Literacy,Interest Group,Myerstown Community Library
ORGANIZER;CN="Sarah Bair":MAILTO:sbair@lclibs.org
END:VEVENT
BEGIN:VEVENT
DTSTART;TZID=America/New_York:20241113T173000
DTEND;TZID=America/New_York:20241113T183000
DTSTAMP:20260421T094339
CREATED:20240905T182133Z
LAST-MODIFIED:20250609T165158Z
UID:31312-1731519000-1731522600@myerstown.lclibs.org
SUMMARY:Explorations in Music
DESCRIPTION:Join in the discussion! Each month\, on the second Wednesday at 6pm\, we will meet at the library to discuss music culture\, genre\, and influence. This group is open to the public\, and discussions are moderated. Share your thoughts and lend your voice!\n\nSeptember – Apple Music’s 100 Best AlbumsOctober – Cover Songs and Tribute AlbumsNovember – What is country music?December – Holiday Music
URL:https://myerstown.lclibs.org/event/explorations-in-music/2024-11-13/
LOCATION:Myerstown Community Library\, 199 N. College Street\, Myerstown\, PA\, 17067\, United States
CATEGORIES:Adult program,Adults,Interest Group,Lebanon County Libraries,Lebanon County Library System,Music,Myerstown Community Library
ORGANIZER;CN="Sarah Bair":MAILTO:sbair@lclibs.org
END:VEVENT
BEGIN:VEVENT
DTSTART;TZID=America/New_York:20241109T130000
DTEND;TZID=America/New_York:20241109T150000
DTSTAMP:20260421T094339
CREATED:20241025T184647Z
LAST-MODIFIED:20241025T184647Z
UID:31309-1731157200-1731164400@myerstown.lclibs.org
SUMMARY:Dinovember
DESCRIPTION:Join us for some prehistoric fun! We will have dinosaur-themed crafts\, activities\, and more. \nDrop-in between 1-3 pm – Storytime @ 2 pm! Please call the library to register! (717)866-2800
URL:https://myerstown.lclibs.org/event/dinovember/
LOCATION:Myerstown Community Library\, 199 N. College Street\, Myerstown\, PA\, 17067\, United States
CATEGORIES:Children,Community Event,Craft Program,Family Program,Games,Lebanon County Libraries,Lebanon County Library System,Myerstown Community Library,STEM,Storytime
ORGANIZER;CN="Sarah Bair":MAILTO:sbair@lclibs.org
END:VEVENT
BEGIN:VEVENT
DTSTART;TZID=America/New_York:20241108T103000
DTEND;TZID=America/New_York:20241108T113000
DTSTAMP:20260421T094339
CREATED:20240301T195818Z
LAST-MODIFIED:20251219T154237Z
UID:30633-1731061800-1731065400@myerstown.lclibs.org
SUMMARY:Preschool Story Time
DESCRIPTION:Join in the fun with stories\, songs\, and more that encourage development of Early Literacy skills in young children.
URL:https://myerstown.lclibs.org/event/preschool-story-time-2/2024-11-08/
LOCATION:Myerstown Community Library\, 199 N. College Street\, Myerstown\, PA\, 17067\, United States
CATEGORIES:Children,Myerstown Community Library,Storytime
ORGANIZER;CN="Sarah Bair":MAILTO:sbair@lclibs.org
END:VEVENT
BEGIN:VEVENT
DTSTART;TZID=America/New_York:20241107T180000
DTEND;TZID=America/New_York:20241107T200000
DTSTAMP:20260421T094339
CREATED:20241025T182904Z
LAST-MODIFIED:20241025T182904Z
UID:31306-1731002400-1731009600@myerstown.lclibs.org
SUMMARY:Books & Brews
DESCRIPTION:We are excited to partner with the Porch in Myerstown to offer a new type of book club. Come to the restaurant to browse and learn about new releases across multiple genres. \nEnjoy a burger or adult beverage while you chat about what you’ve read and hear about what’s new! \nThursday\, 11/7 and 12/5 at 6pm; ages 21 and up; call the library to register – space is limited!! 717.866.2800
URL:https://myerstown.lclibs.org/event/books-brews/2024-11-07/
LOCATION:Porch Restaurant & Pub\, 890 Tulpehocken Rd\, Myerstown\, PA\, 17067\, United States
CATEGORIES:Adult program,Adults,Book Club,Book Discussion,Community Event,Food,Lebanon County Libraries,Lebanon County Library System,Myerstown Community Library
ORGANIZER;CN="Sarah Bair":MAILTO:sbair@lclibs.org
END:VEVENT
BEGIN:VEVENT
DTSTART;TZID=America/New_York:20241106T103000
DTEND;TZID=America/New_York:20241106T113000
DTSTAMP:20260421T094339
CREATED:20240212T192844Z
LAST-MODIFIED:20241223T214033Z
UID:30393-1730889000-1730892600@myerstown.lclibs.org
SUMMARY:Sit & Knit
DESCRIPTION:A place to talk\, ask questions\, and share your love of knitting\, crocheting and everything that goes with it.
URL:https://myerstown.lclibs.org/event/sit-knit-2/2024-11-06/
LOCATION:Myerstown Community Library\, 199 N. College Street\, Myerstown\, PA\, 17067\, United States
CATEGORIES:Adult program,Adults,Craft Program,Myerstown Community Library
ORGANIZER;CN="Sarah Bair":MAILTO:sbair@lclibs.org
END:VEVENT
END:VCALENDAR