BEGIN:VCALENDAR
VERSION:2.0
PRODID:-//Myerstown Community Library - ECPv6.15.17.1//NONSGML v1.0//EN
CALSCALE:GREGORIAN
METHOD:PUBLISH
X-ORIGINAL-URL:https://myerstown.lclibs.org
X-WR-CALDESC:Events for Myerstown Community Library
REFRESH-INTERVAL;VALUE=DURATION:PT1H
X-Robots-Tag:noindex
X-PUBLISHED-TTL:PT1H
BEGIN:VTIMEZONE
TZID:America/New_York
BEGIN:DAYLIGHT
TZOFFSETFROM:-0500
TZOFFSETTO:-0400
TZNAME:EDT
DTSTART:20230312T070000
END:DAYLIGHT
BEGIN:STANDARD
TZOFFSETFROM:-0400
TZOFFSETTO:-0500
TZNAME:EST
DTSTART:20231105T060000
END:STANDARD
BEGIN:DAYLIGHT
TZOFFSETFROM:-0500
TZOFFSETTO:-0400
TZNAME:EDT
DTSTART:20240310T070000
END:DAYLIGHT
BEGIN:STANDARD
TZOFFSETFROM:-0400
TZOFFSETTO:-0500
TZNAME:EST
DTSTART:20241103T060000
END:STANDARD
BEGIN:DAYLIGHT
TZOFFSETFROM:-0500
TZOFFSETTO:-0400
TZNAME:EDT
DTSTART:20250309T070000
END:DAYLIGHT
BEGIN:STANDARD
TZOFFSETFROM:-0400
TZOFFSETTO:-0500
TZNAME:EST
DTSTART:20251102T060000
END:STANDARD
END:VTIMEZONE
BEGIN:VEVENT
DTSTART;TZID=America/New_York:20241114T173000
DTEND;TZID=America/New_York:20241114T183000
DTSTAMP:20260421T133220
CREATED:20240212T200633Z
LAST-MODIFIED:20240212T200633Z
UID:30484-1731605400-1731609000@myerstown.lclibs.org
SUMMARY:Great Discussions
DESCRIPTION:Join us for Great Discussions in the humanities and a review of the annual Great Decisions publication.
URL:https://myerstown.lclibs.org/event/great-discussions/2024-11-14/
LOCATION:Myerstown Community Library\, 199 N. College Street\, Myerstown\, PA\, 17067\, United States
CATEGORIES:Adult program,Adults,Book Discussion,Civic Literacy,Interest Group,Myerstown Community Library
ORGANIZER;CN="Sarah Bair":MAILTO:sbair@lclibs.org
END:VEVENT
BEGIN:VEVENT
DTSTART;TZID=America/New_York:20241113T173000
DTEND;TZID=America/New_York:20241113T183000
DTSTAMP:20260421T133220
CREATED:20240905T182133Z
LAST-MODIFIED:20250609T165158Z
UID:31312-1731519000-1731522600@myerstown.lclibs.org
SUMMARY:Explorations in Music
DESCRIPTION:Join in the discussion! Each month\, on the second Wednesday at 6pm\, we will meet at the library to discuss music culture\, genre\, and influence. This group is open to the public\, and discussions are moderated. Share your thoughts and lend your voice!\n\nSeptember – Apple Music’s 100 Best AlbumsOctober – Cover Songs and Tribute AlbumsNovember – What is country music?December – Holiday Music
URL:https://myerstown.lclibs.org/event/explorations-in-music/2024-11-13/
LOCATION:Myerstown Community Library\, 199 N. College Street\, Myerstown\, PA\, 17067\, United States
CATEGORIES:Adult program,Adults,Interest Group,Lebanon County Libraries,Lebanon County Library System,Music,Myerstown Community Library
ORGANIZER;CN="Sarah Bair":MAILTO:sbair@lclibs.org
END:VEVENT
BEGIN:VEVENT
DTSTART;TZID=America/New_York:20241109T130000
DTEND;TZID=America/New_York:20241109T150000
DTSTAMP:20260421T133220
CREATED:20241025T184647Z
LAST-MODIFIED:20241025T184647Z
UID:31309-1731157200-1731164400@myerstown.lclibs.org
SUMMARY:Dinovember
DESCRIPTION:Join us for some prehistoric fun! We will have dinosaur-themed crafts\, activities\, and more. \nDrop-in between 1-3 pm – Storytime @ 2 pm! Please call the library to register! (717)866-2800
URL:https://myerstown.lclibs.org/event/dinovember/
LOCATION:Myerstown Community Library\, 199 N. College Street\, Myerstown\, PA\, 17067\, United States
CATEGORIES:Children,Community Event,Craft Program,Family Program,Games,Lebanon County Libraries,Lebanon County Library System,Myerstown Community Library,STEM,Storytime
ORGANIZER;CN="Sarah Bair":MAILTO:sbair@lclibs.org
END:VEVENT
BEGIN:VEVENT
DTSTART;TZID=America/New_York:20241108T103000
DTEND;TZID=America/New_York:20241108T113000
DTSTAMP:20260421T133220
CREATED:20240301T195818Z
LAST-MODIFIED:20251219T154237Z
UID:30633-1731061800-1731065400@myerstown.lclibs.org
SUMMARY:Preschool Story Time
DESCRIPTION:Join in the fun with stories\, songs\, and more that encourage development of Early Literacy skills in young children.
URL:https://myerstown.lclibs.org/event/preschool-story-time-2/2024-11-08/
LOCATION:Myerstown Community Library\, 199 N. College Street\, Myerstown\, PA\, 17067\, United States
CATEGORIES:Children,Myerstown Community Library,Storytime
ORGANIZER;CN="Sarah Bair":MAILTO:sbair@lclibs.org
END:VEVENT
BEGIN:VEVENT
DTSTART;TZID=America/New_York:20241107T180000
DTEND;TZID=America/New_York:20241107T200000
DTSTAMP:20260421T133220
CREATED:20241025T182904Z
LAST-MODIFIED:20241025T182904Z
UID:31306-1731002400-1731009600@myerstown.lclibs.org
SUMMARY:Books & Brews
DESCRIPTION:We are excited to partner with the Porch in Myerstown to offer a new type of book club. Come to the restaurant to browse and learn about new releases across multiple genres. \nEnjoy a burger or adult beverage while you chat about what you’ve read and hear about what’s new! \nThursday\, 11/7 and 12/5 at 6pm; ages 21 and up; call the library to register – space is limited!! 717.866.2800
URL:https://myerstown.lclibs.org/event/books-brews/2024-11-07/
LOCATION:Porch Restaurant & Pub\, 890 Tulpehocken Rd\, Myerstown\, PA\, 17067\, United States
CATEGORIES:Adult program,Adults,Book Club,Book Discussion,Community Event,Food,Lebanon County Libraries,Lebanon County Library System,Myerstown Community Library
ORGANIZER;CN="Sarah Bair":MAILTO:sbair@lclibs.org
END:VEVENT
BEGIN:VEVENT
DTSTART;TZID=America/New_York:20241106T103000
DTEND;TZID=America/New_York:20241106T113000
DTSTAMP:20260421T133220
CREATED:20240212T192844Z
LAST-MODIFIED:20241223T214033Z
UID:30393-1730889000-1730892600@myerstown.lclibs.org
SUMMARY:Sit & Knit
DESCRIPTION:A place to talk\, ask questions\, and share your love of knitting\, crocheting and everything that goes with it.
URL:https://myerstown.lclibs.org/event/sit-knit-2/2024-11-06/
LOCATION:Myerstown Community Library\, 199 N. College Street\, Myerstown\, PA\, 17067\, United States
CATEGORIES:Adult program,Adults,Craft Program,Myerstown Community Library
ORGANIZER;CN="Sarah Bair":MAILTO:sbair@lclibs.org
END:VEVENT
BEGIN:VEVENT
DTSTART;VALUE=DATE:20241105
DTEND;VALUE=DATE:20241106
DTSTAMP:20260421T133220
CREATED:20241003T023849Z
LAST-MODIFIED:20241003T023849Z
UID:31280-1730764800-1730851199@myerstown.lclibs.org
SUMMARY:MCL CLOSED
DESCRIPTION:The library is closed due to Election Day. While the building is closed to library patrons\, don’t forget to stop by the library if it is your polling place and VOTE!
URL:https://myerstown.lclibs.org/event/mcl-closed-4/
LOCATION:Myerstown Community Library\, 199 N. College Street\, Myerstown\, PA\, 17067\, United States
CATEGORIES:Lebanon County Libraries,Lebanon County Library System,Library Closure,Myerstown Community Library
ORGANIZER;CN="Sarah Bair":MAILTO:sbair@lclibs.org
END:VEVENT
BEGIN:VEVENT
DTSTART;TZID=America/New_York:20241101T103000
DTEND;TZID=America/New_York:20241101T113000
DTSTAMP:20260421T133220
CREATED:20240301T195818Z
LAST-MODIFIED:20251219T154237Z
UID:30632-1730457000-1730460600@myerstown.lclibs.org
SUMMARY:Preschool Story Time
DESCRIPTION:Join in the fun with stories\, songs\, and more that encourage development of Early Literacy skills in young children.
URL:https://myerstown.lclibs.org/event/preschool-story-time-2/2024-11-01/
LOCATION:Myerstown Community Library\, 199 N. College Street\, Myerstown\, PA\, 17067\, United States
CATEGORIES:Children,Myerstown Community Library,Storytime
ORGANIZER;CN="Sarah Bair":MAILTO:sbair@lclibs.org
END:VEVENT
BEGIN:VEVENT
DTSTART;TZID=America/New_York:20241028T170000
DTEND;TZID=America/New_York:20241028T190000
DTSTAMP:20260421T133220
CREATED:20241003T022655Z
LAST-MODIFIED:20241003T022655Z
UID:31275-1730134800-1730142000@myerstown.lclibs.org
SUMMARY:Trunk-or-Treat at Poplar Run
DESCRIPTION: Halloween Trunk & Treat at StoneRidge Poplar Run! \nCalling all little goblins\, ghosts\, monsters\, and fairies! Join us for a spooktacular evening at StoneRidge Poplar Run. Bring the kids to Trunk or Treat with our residents and community partners.\nEvent Details:Monday\, October 28 5:00 PM – 7:00 PM StoneRidge Poplar Run Theatre & Parking Lot (East Entrance)440 East Lincoln Ave.\, Myerstown\nThis FREE community event is perfect for children and families. We’ll have community vendors and food trucks on-site to add to the fun! NO RSVP required.\nCome for the candy\, stay for the fun! 
URL:https://myerstown.lclibs.org/event/trunk-or-treat-at-poplar-run/
LOCATION:StoneRidge Poplar Run\, 440 E Lincoln Ave\, Myerstown\, PA\, 17067\, United States
CATEGORIES:Children,Community Event,Family Program,Food,Games,Lebanon County Libraries,Lebanon County Library System,Music,Myerstown Community Library,Teens,Tweens
ORGANIZER;CN="Sarah Bair":MAILTO:sbair@lclibs.org
END:VEVENT
BEGIN:VEVENT
DTSTART;TZID=America/New_York:20241026T110000
DTEND;TZID=America/New_York:20241026T120000
DTSTAMP:20260421T133220
CREATED:20240212T201719Z
LAST-MODIFIED:20260112T223901Z
UID:30507-1729940400-1729944000@myerstown.lclibs.org
SUMMARY:BYOB Book Club
DESCRIPTION:BYOB – Bring Your Own Book Club! We discuss our favorite books and current reads.
URL:https://myerstown.lclibs.org/event/byob-book-club/2024-10-26/
LOCATION:Myerstown Community Library\, 199 N. College Street\, Myerstown\, PA\, 17067\, United States
CATEGORIES:Adult program,Adults,Book Club,Book Discussion,Myerstown Community Library
ORGANIZER;CN="Sarah Bair":MAILTO:sbair@lclibs.org
END:VEVENT
BEGIN:VEVENT
DTSTART;TZID=America/New_York:20241025T103000
DTEND;TZID=America/New_York:20241025T113000
DTSTAMP:20260421T133220
CREATED:20240301T195818Z
LAST-MODIFIED:20251219T154237Z
UID:30631-1729852200-1729855800@myerstown.lclibs.org
SUMMARY:Preschool Story Time
DESCRIPTION:Join in the fun with stories\, songs\, and more that encourage development of Early Literacy skills in young children.
URL:https://myerstown.lclibs.org/event/preschool-story-time-2/2024-10-25/
LOCATION:Myerstown Community Library\, 199 N. College Street\, Myerstown\, PA\, 17067\, United States
CATEGORIES:Children,Myerstown Community Library,Storytime
ORGANIZER;CN="Sarah Bair":MAILTO:sbair@lclibs.org
END:VEVENT
BEGIN:VEVENT
DTSTART;TZID=America/New_York:20241023T170000
DTEND;TZID=America/New_York:20241023T190000
DTSTAMP:20260421T133220
CREATED:20241003T021526Z
LAST-MODIFIED:20241003T021526Z
UID:31273-1729702800-1729710000@myerstown.lclibs.org
SUMMARY:Adult Craft Night
DESCRIPTION:Looking for date night ideas? Want an evening out of the house? Join us for this FREE evening of crafting. If you’re not a “crafter”\, don’t worry\, you can still have fun! \nAll supplies are provided for you and registration is required. Call the library to register! 717-866-2800 Ages 18+ \nOctober Craft: Sugar Skull Suncatchers
URL:https://myerstown.lclibs.org/event/adult-craft-night-5/
LOCATION:Myerstown Community Library\, 199 N. College Street\, Myerstown\, PA\, 17067\, United States
CATEGORIES:Adult program,Adults,Craft Program,Lebanon County Libraries,Lebanon County Library System,Myerstown Community Library
ORGANIZER;CN="Sarah Bair":MAILTO:sbair@lclibs.org
END:VEVENT
BEGIN:VEVENT
DTSTART;TZID=America/New_York:20241021T170000
DTEND;TZID=America/New_York:20241021T190000
DTSTAMP:20260421T133220
CREATED:20241003T015628Z
LAST-MODIFIED:20241003T015628Z
UID:31271-1729530000-1729537200@myerstown.lclibs.org
SUMMARY:Dungeons & Dragons
DESCRIPTION:Join our adventure guild and test out your skills! We are looking for paladins\, wizards\, bards\, and warlocks to join us on our adventure as we train to fight monsters\, beasts\, and other mythical creatures!\nThis is a Dungeons & Dragons (D&D) roleplaying group that meets once a month. Recommended for ages 14 and up! Beginners welcome – we will teach you!\nREGISTRATION IS REQUIRED.
URL:https://myerstown.lclibs.org/event/dungeons-dragons/
LOCATION:Myerstown Community Library\, 199 N. College Street\, Myerstown\, PA\, 17067\, United States
CATEGORIES:Adults,Games,Lebanon County Libraries,Lebanon County Library System,Myerstown Community Library,Teens
ORGANIZER;CN="Sarah Bair":MAILTO:sbair@lclibs.org
END:VEVENT
BEGIN:VEVENT
DTSTART;TZID=America/New_York:20241018T103000
DTEND;TZID=America/New_York:20241018T113000
DTSTAMP:20260421T133220
CREATED:20240301T195818Z
LAST-MODIFIED:20251219T154237Z
UID:30630-1729247400-1729251000@myerstown.lclibs.org
SUMMARY:Preschool Story Time
DESCRIPTION:Join in the fun with stories\, songs\, and more that encourage development of Early Literacy skills in young children.
URL:https://myerstown.lclibs.org/event/preschool-story-time-2/2024-10-18/
LOCATION:Myerstown Community Library\, 199 N. College Street\, Myerstown\, PA\, 17067\, United States
CATEGORIES:Children,Myerstown Community Library,Storytime
ORGANIZER;CN="Sarah Bair":MAILTO:sbair@lclibs.org
END:VEVENT
BEGIN:VEVENT
DTSTART;TZID=America/New_York:20241017T170000
DTEND;TZID=America/New_York:20241017T190000
DTSTAMP:20260421T133220
CREATED:20241003T014859Z
LAST-MODIFIED:20250411T183801Z
UID:31246-1729184400-1729191600@myerstown.lclibs.org
SUMMARY:Chess Club
DESCRIPTION:Join us for FREE play and chess lessons for improving players!\nChess Club is open to ALL AGES and playing ability! No registration required!\nAll boards and sets are provided for you and this club is completely FREE!\nFor questions\, contact Michael Cook at myerstownchess@gmail.com or text/call 717-813-1427
URL:https://myerstown.lclibs.org/event/chess-club/2024-10-17/
LOCATION:Myerstown Community Library\, 199 N. College Street\, Myerstown\, PA\, 17067\, United States
CATEGORIES:Adults,Children,Community Event,Family Program,Games,Lebanon County Libraries,Lebanon County Library System,Myerstown Community Library,Teens,Tweens
ORGANIZER;CN="Sarah Bair":MAILTO:sbair@lclibs.org
END:VEVENT
BEGIN:VEVENT
DTSTART;TZID=America/New_York:20241017T140000
DTEND;TZID=America/New_York:20241017T183000
DTSTAMP:20260421T133220
CREATED:20241003T014143Z
LAST-MODIFIED:20241003T014143Z
UID:31244-1729173600-1729189800@myerstown.lclibs.org
SUMMARY:Costume Closet
DESCRIPTION:Have your little monsters outgrown their costumes? Drop them off at the library for others to peruse!\nLooking for a more economical or green approach to Halloween? Stop by the Costume Closet to pick up what others have dropped off!\nWe are now accepting donations of costumes for this event! Please drop them off during library operating hours.
URL:https://myerstown.lclibs.org/event/costume-closet/
LOCATION:Myerstown Community Library\, 199 N. College Street\, Myerstown\, PA\, 17067\, United States
CATEGORIES:Children,Community Event,Family Program,Lebanon County Libraries,Lebanon County Library System,Myerstown Community Library
ORGANIZER;CN="Sarah Bair":MAILTO:sbair@lclibs.org
END:VEVENT
BEGIN:VEVENT
DTSTART;TZID=America/New_York:20241016T103000
DTEND;TZID=America/New_York:20241016T113000
DTSTAMP:20260421T133220
CREATED:20240212T192844Z
LAST-MODIFIED:20241223T214033Z
UID:30392-1729074600-1729078200@myerstown.lclibs.org
SUMMARY:Sit & Knit
DESCRIPTION:A place to talk\, ask questions\, and share your love of knitting\, crocheting and everything that goes with it.
URL:https://myerstown.lclibs.org/event/sit-knit-2/2024-10-16/
LOCATION:Myerstown Community Library\, 199 N. College Street\, Myerstown\, PA\, 17067\, United States
CATEGORIES:Adult program,Adults,Craft Program,Myerstown Community Library
ORGANIZER;CN="Sarah Bair":MAILTO:sbair@lclibs.org
END:VEVENT
BEGIN:VEVENT
DTSTART;TZID=America/New_York:20241015T183000
DTEND;TZID=America/New_York:20241015T200000
DTSTAMP:20260421T133220
CREATED:20240212T195749Z
LAST-MODIFIED:20251219T175113Z
UID:30459-1729017000-1729022400@myerstown.lclibs.org
SUMMARY:Library Board Meeting
DESCRIPTION:The Library Board meets on the third Tuesday of each month at 6:30pm. These meetings are open to the public and are subject to change without notice.
URL:https://myerstown.lclibs.org/event/library-board-meeting/2024-10-15/
LOCATION:Myerstown Community Library\, 199 N. College Street\, Myerstown\, PA\, 17067\, United States
CATEGORIES:Adult program,Board Meeting,Myerstown Community Library
ORGANIZER;CN="Sarah Bair":MAILTO:sbair@lclibs.org
END:VEVENT
BEGIN:VEVENT
DTSTART;TZID=America/New_York:20241015T163000
DTEND;TZID=America/New_York:20241015T173000
DTSTAMP:20260421T133220
CREATED:20241003T013451Z
LAST-MODIFIED:20241003T013451Z
UID:31242-1729009800-1729013400@myerstown.lclibs.org
SUMMARY:Book Peeps
DESCRIPTION:Do you love the Ivy and Bean series? Are you seven or older? Do you like snacks and crafts?? Then this program is for you!\nJoin the Book Peeps Book Club on Tuesday\, 10/15 at 4:30pm!  Psst… This program is with Miss Amy!! 
URL:https://myerstown.lclibs.org/event/book-peeps-2/
LOCATION:Myerstown Community Library\, 199 N. College Street\, Myerstown\, PA\, 17067\, United States
CATEGORIES:After-School Club,Book Club,Book Discussion,Children,Craft Program,Lebanon County Libraries,Lebanon County Library System,Myerstown Community Library
ORGANIZER;CN="Sarah Bair":MAILTO:sbair@lclibs.org
END:VEVENT
BEGIN:VEVENT
DTSTART;TZID=America/New_York:20241014T153000
DTEND;TZID=America/New_York:20241014T163000
DTSTAMP:20260421T133220
CREATED:20240212T194638Z
LAST-MODIFIED:20251223T210033Z
UID:31202-1728919800-1728923400@myerstown.lclibs.org
SUMMARY:PokeMondays
DESCRIPTION:Bring your deck or devices to play. No previous experience required!
URL:https://myerstown.lclibs.org/event/pokemondays-2/2024-10-14/
LOCATION:Myerstown Community Library\, 199 N. College Street\, Myerstown\, PA\, 17067\, United States
CATEGORIES:After-School Club,Children,Myerstown Community Library
ORGANIZER;CN="Sarah Bair":MAILTO:sbair@lclibs.org
END:VEVENT
BEGIN:VEVENT
DTSTART;TZID=America/New_York:20241012T130000
DTEND;TZID=America/New_York:20241012T150000
DTSTAMP:20260421T133220
CREATED:20241003T012523Z
LAST-MODIFIED:20241003T012523Z
UID:31211-1728738000-1728745200@myerstown.lclibs.org
SUMMARY:Jigsaw Puzzle Competition
DESCRIPTION:We are accepting SIX teams of FOUR people each\, ages 14+. The entry fee is $20 per team. Each team solves the same 500-piece puzzle\, and the first team to finish\, WINS! There are prizes for the team that comes in first place! \nStop by the library to register your team\, or call if you have any questions: 717-866-2800.
URL:https://myerstown.lclibs.org/event/jigsaw-puzzle-competition/
LOCATION:Myerstown Community Library\, 199 N. College Street\, Myerstown\, PA\, 17067\, United States
CATEGORIES:Adult program,Adults,Community Event,Fundraiser,Games,Lebanon County Libraries,Lebanon County Library System,Myerstown Community Library
ORGANIZER;CN="Sarah Bair":MAILTO:sbair@lclibs.org
END:VEVENT
BEGIN:VEVENT
DTSTART;TZID=America/New_York:20241011T103000
DTEND;TZID=America/New_York:20241011T113000
DTSTAMP:20260421T133220
CREATED:20240301T195818Z
LAST-MODIFIED:20251219T154237Z
UID:30629-1728642600-1728646200@myerstown.lclibs.org
SUMMARY:Preschool Story Time
DESCRIPTION:Join in the fun with stories\, songs\, and more that encourage development of Early Literacy skills in young children.
URL:https://myerstown.lclibs.org/event/preschool-story-time-2/2024-10-11/
LOCATION:Myerstown Community Library\, 199 N. College Street\, Myerstown\, PA\, 17067\, United States
CATEGORIES:Children,Myerstown Community Library,Storytime
ORGANIZER;CN="Sarah Bair":MAILTO:sbair@lclibs.org
END:VEVENT
BEGIN:VEVENT
DTSTART;TZID=America/New_York:20241010T173000
DTEND;TZID=America/New_York:20241010T183000
DTSTAMP:20260421T133220
CREATED:20240212T200633Z
LAST-MODIFIED:20240212T200633Z
UID:30483-1728581400-1728585000@myerstown.lclibs.org
SUMMARY:Great Discussions
DESCRIPTION:Join us for Great Discussions in the humanities and a review of the annual Great Decisions publication.
URL:https://myerstown.lclibs.org/event/great-discussions/2024-10-10/
LOCATION:Myerstown Community Library\, 199 N. College Street\, Myerstown\, PA\, 17067\, United States
CATEGORIES:Adult program,Adults,Book Discussion,Civic Literacy,Interest Group,Myerstown Community Library
ORGANIZER;CN="Sarah Bair":MAILTO:sbair@lclibs.org
END:VEVENT
BEGIN:VEVENT
DTSTART;TZID=America/New_York:20241009T173000
DTEND;TZID=America/New_York:20241009T183000
DTSTAMP:20260421T133220
CREATED:20240905T182133Z
LAST-MODIFIED:20250609T165158Z
UID:31311-1728495000-1728498600@myerstown.lclibs.org
SUMMARY:Explorations in Music
DESCRIPTION:Join in the discussion! Each month\, on the second Wednesday at 6pm\, we will meet at the library to discuss music culture\, genre\, and influence. This group is open to the public\, and discussions are moderated. Share your thoughts and lend your voice!\n\nSeptember – Apple Music’s 100 Best AlbumsOctober – Cover Songs and Tribute AlbumsNovember – What is country music?December – Holiday Music
URL:https://myerstown.lclibs.org/event/explorations-in-music/2024-10-09/
LOCATION:Myerstown Community Library\, 199 N. College Street\, Myerstown\, PA\, 17067\, United States
CATEGORIES:Adult program,Adults,Interest Group,Lebanon County Libraries,Lebanon County Library System,Music,Myerstown Community Library
ORGANIZER;CN="Sarah Bair":MAILTO:sbair@lclibs.org
END:VEVENT
BEGIN:VEVENT
DTSTART;TZID=America/New_York:20241004T103000
DTEND;TZID=America/New_York:20241004T113000
DTSTAMP:20260421T133220
CREATED:20240301T195818Z
LAST-MODIFIED:20251219T154236Z
UID:30628-1728037800-1728041400@myerstown.lclibs.org
SUMMARY:Preschool Story Time
DESCRIPTION:Join in the fun with stories\, songs\, and more that encourage development of Early Literacy skills in young children.
URL:https://myerstown.lclibs.org/event/preschool-story-time-2/2024-10-04/
LOCATION:Myerstown Community Library\, 199 N. College Street\, Myerstown\, PA\, 17067\, United States
CATEGORIES:Children,Myerstown Community Library,Storytime
ORGANIZER;CN="Sarah Bair":MAILTO:sbair@lclibs.org
END:VEVENT
BEGIN:VEVENT
DTSTART;TZID=America/New_York:20241002T103000
DTEND;TZID=America/New_York:20241002T113000
DTSTAMP:20260421T133220
CREATED:20240212T192844Z
LAST-MODIFIED:20241223T214032Z
UID:30391-1727865000-1727868600@myerstown.lclibs.org
SUMMARY:Sit & Knit
DESCRIPTION:A place to talk\, ask questions\, and share your love of knitting\, crocheting and everything that goes with it.
URL:https://myerstown.lclibs.org/event/sit-knit-2/2024-10-02/
LOCATION:Myerstown Community Library\, 199 N. College Street\, Myerstown\, PA\, 17067\, United States
CATEGORIES:Adult program,Adults,Craft Program,Myerstown Community Library
ORGANIZER;CN="Sarah Bair":MAILTO:sbair@lclibs.org
END:VEVENT
BEGIN:VEVENT
DTSTART;TZID=America/New_York:20240928T133000
DTEND;TZID=America/New_York:20240928T143000
DTSTAMP:20260421T133220
CREATED:20240905T212334Z
LAST-MODIFIED:20240905T212334Z
UID:31185-1727530200-1727533800@myerstown.lclibs.org
SUMMARY:Artist Trading Card (ATC) Workshop & Swap
DESCRIPTION:Learn about Artist Trading Cards (ATC) and make your own! Already make ATCs? Bring them to trade with others!\n\nAges 10 and up; all skill levels welcome; beginners encouraged!\nSupplies are provided for you. Space is limited! Give the library a call to register. 717-866-2800
URL:https://myerstown.lclibs.org/event/artist-trading-card-atc-workshop-swap-2/
LOCATION:Myerstown Community Library\, 199 N. College Street\, Myerstown\, PA\, 17067\, United States
CATEGORIES:Adults,Craft Program,Lebanon County Libraries,Lebanon County Library System,Myerstown Community Library,STEM,Teens,Tweens
ORGANIZER;CN="Sarah Bair":MAILTO:sbair@lclibs.org
END:VEVENT
BEGIN:VEVENT
DTSTART;TZID=America/New_York:20240928T110000
DTEND;TZID=America/New_York:20240928T120000
DTSTAMP:20260421T133220
CREATED:20240212T201719Z
LAST-MODIFIED:20260112T223901Z
UID:30506-1727521200-1727524800@myerstown.lclibs.org
SUMMARY:BYOB Book Club
DESCRIPTION:BYOB – Bring Your Own Book Club! We discuss our favorite books and current reads.
URL:https://myerstown.lclibs.org/event/byob-book-club/2024-09-28/
LOCATION:Myerstown Community Library\, 199 N. College Street\, Myerstown\, PA\, 17067\, United States
CATEGORIES:Adult program,Adults,Book Club,Book Discussion,Myerstown Community Library
ORGANIZER;CN="Sarah Bair":MAILTO:sbair@lclibs.org
END:VEVENT
BEGIN:VEVENT
DTSTART;TZID=America/New_York:20240928T100000
DTEND;TZID=America/New_York:20240928T190000
DTSTAMP:20260421T133220
CREATED:20240905T233919Z
LAST-MODIFIED:20240905T233919Z
UID:31187-1727517600-1727550000@myerstown.lclibs.org
SUMMARY:Myerstown Block Party & Car Cruise
DESCRIPTION:Join us for the annual Myerstown Community Block Party & Car Cruise! Featuring beer garden\, food trucks\, car cruise\, vendors\, chili cookoff\, apple pie baking contest\, children’s activities\, inflatables\, and more! \nThis year\, the proceeds for the Car Cruise will be donated to the library!! Stop by to take part in the fun and support the library community! \nBlock Party: 10am-7pm; W Main Ave. & Railroad St.\, Myerstown\, PA 17067 \nCar Cruise: 12pm-7pm; E Main Ave\, Myerstown\, PA 17067
URL:https://myerstown.lclibs.org/event/myerstown-block-party-car-cruise/
LOCATION:Myerstown Community Library\, 199 N. College Street\, Myerstown\, PA\, 17067\, United States
CATEGORIES:Community Event,Family Program,Food,Fundraiser,Games,Lebanon County Libraries,Lebanon County Library System,Music,Myerstown Community Library
ORGANIZER;CN="Sarah Bair":MAILTO:sbair@lclibs.org
END:VEVENT
BEGIN:VEVENT
DTSTART;TZID=America/New_York:20240927T103000
DTEND;TZID=America/New_York:20240927T113000
DTSTAMP:20260421T133220
CREATED:20240301T195818Z
LAST-MODIFIED:20251219T154215Z
UID:30627-1727433000-1727436600@myerstown.lclibs.org
SUMMARY:Preschool Story Time
DESCRIPTION:Join in the fun with stories\, songs\, and more that encourage development of Early Literacy skills in young children.
URL:https://myerstown.lclibs.org/event/preschool-story-time-2/2024-09-27/
LOCATION:Myerstown Community Library\, 199 N. College Street\, Myerstown\, PA\, 17067\, United States
CATEGORIES:Children,Myerstown Community Library,Storytime
ORGANIZER;CN="Sarah Bair":MAILTO:sbair@lclibs.org
END:VEVENT
END:VCALENDAR