BEGIN:VCALENDAR
VERSION:2.0
PRODID:-//Myerstown Community Library - ECPv6.15.17.1//NONSGML v1.0//EN
CALSCALE:GREGORIAN
METHOD:PUBLISH
X-WR-CALNAME:Myerstown Community Library
X-ORIGINAL-URL:https://myerstown.lclibs.org
X-WR-CALDESC:Events for Myerstown Community Library
REFRESH-INTERVAL;VALUE=DURATION:PT1H
X-Robots-Tag:noindex
X-PUBLISHED-TTL:PT1H
BEGIN:VTIMEZONE
TZID:America/New_York
BEGIN:DAYLIGHT
TZOFFSETFROM:-0500
TZOFFSETTO:-0400
TZNAME:EDT
DTSTART:20230312T070000
END:DAYLIGHT
BEGIN:STANDARD
TZOFFSETFROM:-0400
TZOFFSETTO:-0500
TZNAME:EST
DTSTART:20231105T060000
END:STANDARD
BEGIN:DAYLIGHT
TZOFFSETFROM:-0500
TZOFFSETTO:-0400
TZNAME:EDT
DTSTART:20240310T070000
END:DAYLIGHT
BEGIN:STANDARD
TZOFFSETFROM:-0400
TZOFFSETTO:-0500
TZNAME:EST
DTSTART:20241103T060000
END:STANDARD
BEGIN:DAYLIGHT
TZOFFSETFROM:-0500
TZOFFSETTO:-0400
TZNAME:EDT
DTSTART:20250309T070000
END:DAYLIGHT
BEGIN:STANDARD
TZOFFSETFROM:-0400
TZOFFSETTO:-0500
TZNAME:EST
DTSTART:20251102T060000
END:STANDARD
END:VTIMEZONE
BEGIN:VEVENT
DTSTART;TZID=America/New_York:20240725T140000
DTEND;TZID=America/New_York:20240725T143000
DTSTAMP:20260422T014400
CREATED:20240524T173617Z
LAST-MODIFIED:20240524T173617Z
UID:30873-1721916000-1721917800@myerstown.lclibs.org
SUMMARY:Water Bug Book Club
DESCRIPTION:Join Miss Sarah for story time at the Myerstown Community Pool!\nThursdays @ 2 pm from June 13 through August 8 \nGet your Water Bug Book Club punch card at the Pool Admissions Office. Fill your card and earn a prize as you read and splash your way through summer!
URL:https://myerstown.lclibs.org/event/water-bug-book-club/2024-07-25/
LOCATION:Myerstown Community Pool\, 1 W Center Ave\, Myerstown\, PA\, 17067\, United States
CATEGORIES:Children,Community Event,Family Program,Lebanon County Libraries,Myerstown Community Library,Storytime,Summer Reading Program
ORGANIZER;CN="Sarah Bair":MAILTO:sbair@lclibs.org
END:VEVENT
BEGIN:VEVENT
DTSTART;TZID=America/New_York:20240724T130000
DTEND;TZID=America/New_York:20240724T140000
DTSTAMP:20260422T014400
CREATED:20240617T214030Z
LAST-MODIFIED:20240617T214030Z
UID:31025-1721826000-1721829600@myerstown.lclibs.org
SUMMARY:Mr. Boom Boom presents Going on an Adventure!
DESCRIPTION:Looking for an exciting and engaging program that combines music and storytelling? Look no further than this fantastic musical storytelling program! Complete with an imaginative parade and a focus on the importance of friendship\, this program is sure to captivate and inspire audiences of all ages.\n\nJoin us for an unforgettable experience that will leave you feeling uplifted and inspired!\n\nCall to register so we know that you are coming! 717-866-2800
URL:https://myerstown.lclibs.org/event/mr-boom-boom-presents-going-on-an-adventure/
LOCATION:Myerstown Community Library\, 199 N. College Street\, Myerstown\, PA\, 17067\, United States
CATEGORIES:Children,Community Event,Family Program,Lebanon County Libraries,Lebanon County Library System,Myerstown Community Library,Summer Reading Program
ORGANIZER;CN="Sarah Bair":MAILTO:sbair@lclibs.org
END:VEVENT
BEGIN:VEVENT
DTSTART;TZID=America/New_York:20240723T120000
DTEND;TZID=America/New_York:20240723T160000
DTSTAMP:20260422T014401
CREATED:20240524T165445Z
LAST-MODIFIED:20240524T165445Z
UID:30863-1721736000-1721750400@myerstown.lclibs.org
SUMMARY:Be a Space Scientist!
DESCRIPTION:This program is hosted by the library and presented by the North Museum of Nature & Science of Lancaster! This is a drop-in program presented in stations around the library with a variety of science activities.\nNo registration is required.\n\nThis FREE program is recommended for grades K-6th. You do NOT need to attend all of the sessions consecutively.
URL:https://myerstown.lclibs.org/event/be-a-space-scientist/2024-07-23/
LOCATION:Myerstown Community Library\, 199 N. College Street\, Myerstown\, PA\, 17067\, United States
CATEGORIES:Children,Family Program,Lebanon County Libraries,Myerstown Community Library,STEM,Summer Reading Program
ORGANIZER;CN="Sarah Bair":MAILTO:sbair@lclibs.org
END:VEVENT
BEGIN:VEVENT
DTSTART;TZID=America/New_York:20240722T110000
DTEND;TZID=America/New_York:20240722T113000
DTSTAMP:20260422T014401
CREATED:20240523T222906Z
LAST-MODIFIED:20240523T222906Z
UID:30853-1721646000-1721647800@myerstown.lclibs.org
SUMMARY:ABC Babies and Books
DESCRIPTION:An interactive story time for children ages 0-2 and their caregivers. No registration required! \nThis program is in lieu of Smart Start Story Time during the summer months.
URL:https://myerstown.lclibs.org/event/abc-babies-and-books/2024-07-22/
LOCATION:Myerstown Community Library\, 199 N. College Street\, Myerstown\, PA\, 17067\, United States
CATEGORIES:Children,Storytime,Summer Reading Program
ORGANIZER;CN="Sarah Bair":MAILTO:sbair@lclibs.org
END:VEVENT
BEGIN:VEVENT
DTSTART;TZID=America/New_York:20240720T110000
DTEND;TZID=America/New_York:20240720T120000
DTSTAMP:20260422T014401
CREATED:20240301T200314Z
LAST-MODIFIED:20260130T192711Z
UID:30570-1721473200-1721476800@myerstown.lclibs.org
SUMMARY:STEAM Saturdays
DESCRIPTION:Registration required. Recommended for ages 8-14.\n\nSTEAM stands for Science Technology Engineering Art and Math! “STEAM” Saturdays allow children to partake in building challenges\, experiments\, robotics\, and more!
URL:https://myerstown.lclibs.org/event/steam-saturdays/2024-07-20/
LOCATION:Myerstown Community Library\, 199 N. College Street\, Myerstown\, PA\, 17067\, United States
CATEGORIES:Children,Myerstown Community Library,STEM
ORGANIZER;CN="Sarah Bair":MAILTO:sbair@lclibs.org
END:VEVENT
BEGIN:VEVENT
DTSTART;TZID=America/New_York:20240720T110000
DTEND;TZID=America/New_York:20240720T120000
DTSTAMP:20260422T014401
CREATED:20240212T201719Z
LAST-MODIFIED:20260112T223900Z
UID:30877-1721473200-1721476800@myerstown.lclibs.org
SUMMARY:BYOB Book Club
DESCRIPTION:BYOB – Bring Your Own Book Club! We discuss our favorite books and current reads.
URL:https://myerstown.lclibs.org/event/byob-book-club/2024-07-20/
LOCATION:Myerstown Community Library\, 199 N. College Street\, Myerstown\, PA\, 17067\, United States
CATEGORIES:Adult program,Adults,Book Club,Book Discussion,Myerstown Community Library
ORGANIZER;CN="Sarah Bair":MAILTO:sbair@lclibs.org
END:VEVENT
BEGIN:VEVENT
DTSTART;TZID=America/New_York:20240719T103000
DTEND;TZID=America/New_York:20240719T113000
DTSTAMP:20260422T014401
CREATED:20240301T195818Z
LAST-MODIFIED:20251219T154155Z
UID:30617-1721385000-1721388600@myerstown.lclibs.org
SUMMARY:Preschool Story Time
DESCRIPTION:Join in the fun with stories\, songs\, and more that encourage development of Early Literacy skills in young children.
URL:https://myerstown.lclibs.org/event/preschool-story-time-2/2024-07-19/
LOCATION:Myerstown Community Library\, 199 N. College Street\, Myerstown\, PA\, 17067\, United States
CATEGORIES:Children,Myerstown Community Library,Storytime
ORGANIZER;CN="Sarah Bair":MAILTO:sbair@lclibs.org
END:VEVENT
BEGIN:VEVENT
DTSTART;TZID=America/New_York:20240718T170000
DTEND;TZID=America/New_York:20240718T183000
DTSTAMP:20260422T014401
CREATED:20240617T212019Z
LAST-MODIFIED:20240617T212019Z
UID:31023-1721322000-1721327400@myerstown.lclibs.org
SUMMARY:#Game+Chill
DESCRIPTION:Join us for an afternoon of video games. #Game+Chill provides the consoles and controllers. YOU provide the skills and competition!\n\nThis is a Tweens & Teens event for ages 12 and up.\n\nRegistration is required. Call 717-866-2800 to register.
URL:https://myerstown.lclibs.org/event/gamechill/
LOCATION:Myerstown Community Library\, 199 N. College Street\, Myerstown\, PA\, 17067\, United States
CATEGORIES:Lebanon County Libraries,Lebanon County Library System,Myerstown Community Library,STEM,Summer Reading Program,Technology,Teens,Tweens,YA Program
ORGANIZER;CN="Sarah Bair":MAILTO:sbair@lclibs.org
END:VEVENT
BEGIN:VEVENT
DTSTART;TZID=America/New_York:20240718T140000
DTEND;TZID=America/New_York:20240718T143000
DTSTAMP:20260422T014401
CREATED:20240524T173617Z
LAST-MODIFIED:20240524T173617Z
UID:30872-1721311200-1721313000@myerstown.lclibs.org
SUMMARY:Water Bug Book Club
DESCRIPTION:Join Miss Sarah for story time at the Myerstown Community Pool!\nThursdays @ 2 pm from June 13 through August 8 \nGet your Water Bug Book Club punch card at the Pool Admissions Office. Fill your card and earn a prize as you read and splash your way through summer!
URL:https://myerstown.lclibs.org/event/water-bug-book-club/2024-07-18/
LOCATION:Myerstown Community Pool\, 1 W Center Ave\, Myerstown\, PA\, 17067\, United States
CATEGORIES:Children,Community Event,Family Program,Lebanon County Libraries,Myerstown Community Library,Storytime,Summer Reading Program
ORGANIZER;CN="Sarah Bair":MAILTO:sbair@lclibs.org
END:VEVENT
BEGIN:VEVENT
DTSTART;TZID=America/New_York:20240717T173000
DTEND;TZID=America/New_York:20240717T183000
DTSTAMP:20260422T014401
CREATED:20240617T205607Z
LAST-MODIFIED:20240617T205644Z
UID:31020-1721237400-1721241000@myerstown.lclibs.org
SUMMARY:Animal Olympics
DESCRIPTION:Lancaster Parks presents: Animal Olympics! \nParticipants will be challenged with the same physical prowess as creatures in the animal kingdom: jumping\, running\, breath holding\, the sloth crawl and more!\n\nRegistration required. Give us a call to register! 717-866-2800
URL:https://myerstown.lclibs.org/event/animal-olympics/
LOCATION:Myerstown Community Library\, 199 N. College Street\, Myerstown\, PA\, 17067\, United States
CATEGORIES:Lebanon County Library System,Myerstown Community Library,Summer Reading Program,Teens,Tweens,YA Program
ORGANIZER;CN="Sarah Bair":MAILTO:sbair@lclibs.org
END:VEVENT
BEGIN:VEVENT
DTSTART;TZID=America/New_York:20240717T103000
DTEND;TZID=America/New_York:20240717T113000
DTSTAMP:20260422T014401
CREATED:20240212T192844Z
LAST-MODIFIED:20241223T214011Z
UID:30385-1721212200-1721215800@myerstown.lclibs.org
SUMMARY:Sit & Knit
DESCRIPTION:A place to talk\, ask questions\, and share your love of knitting\, crocheting and everything that goes with it.
URL:https://myerstown.lclibs.org/event/sit-knit-2/2024-07-17/
LOCATION:Myerstown Community Library\, 199 N. College Street\, Myerstown\, PA\, 17067\, United States
CATEGORIES:Adult program,Adults,Craft Program,Myerstown Community Library
ORGANIZER;CN="Sarah Bair":MAILTO:sbair@lclibs.org
END:VEVENT
BEGIN:VEVENT
DTSTART;TZID=America/New_York:20240716T183000
DTEND;TZID=America/New_York:20240716T200000
DTSTAMP:20260422T014401
CREATED:20240212T195749Z
LAST-MODIFIED:20251219T175113Z
UID:30456-1721154600-1721160000@myerstown.lclibs.org
SUMMARY:Library Board Meeting
DESCRIPTION:The Library Board meets on the third Tuesday of each month at 6:30pm. These meetings are open to the public and are subject to change without notice.
URL:https://myerstown.lclibs.org/event/library-board-meeting/2024-07-16/
LOCATION:Myerstown Community Library\, 199 N. College Street\, Myerstown\, PA\, 17067\, United States
CATEGORIES:Adult program,Board Meeting,Myerstown Community Library
ORGANIZER;CN="Sarah Bair":MAILTO:sbair@lclibs.org
END:VEVENT
BEGIN:VEVENT
DTSTART;TZID=America/New_York:20240716T160000
DTEND;TZID=America/New_York:20240716T170000
DTSTAMP:20260422T014401
CREATED:20240617T203901Z
LAST-MODIFIED:20240617T203901Z
UID:31018-1721145600-1721149200@myerstown.lclibs.org
SUMMARY:Book Peeps Book Club for Kids
DESCRIPTION:Do you love the author Jean Craighead George? Are you seven or older? Do you like snacks and crafts?? Then this program is for you! No registration required.\n\nJoin the Book Peeps Book Club on Tuesday\, 7/16 at 4pm!  Psst… This program is with Miss Amy!! 
URL:https://myerstown.lclibs.org/event/book-peeps-book-club-for-kids-2/
LOCATION:Myerstown Community Library\, 199 N. College Street\, Myerstown\, PA\, 17067\, United States
CATEGORIES:Book Club,Book Discussion,Children,Craft Program,Lebanon County Libraries,Myerstown Community Library,Summer Reading Program
ORGANIZER;CN="Sarah Bair":MAILTO:sbair@lclibs.org
END:VEVENT
BEGIN:VEVENT
DTSTART;TZID=America/New_York:20240716T120000
DTEND;TZID=America/New_York:20240716T160000
DTSTAMP:20260422T014401
CREATED:20240524T165445Z
LAST-MODIFIED:20240524T165445Z
UID:30862-1721131200-1721145600@myerstown.lclibs.org
SUMMARY:Be a Space Scientist!
DESCRIPTION:This program is hosted by the library and presented by the North Museum of Nature & Science of Lancaster! This is a drop-in program presented in stations around the library with a variety of science activities.\nNo registration is required.\n\nThis FREE program is recommended for grades K-6th. You do NOT need to attend all of the sessions consecutively.
URL:https://myerstown.lclibs.org/event/be-a-space-scientist/2024-07-16/
LOCATION:Myerstown Community Library\, 199 N. College Street\, Myerstown\, PA\, 17067\, United States
CATEGORIES:Children,Family Program,Lebanon County Libraries,Myerstown Community Library,STEM,Summer Reading Program
ORGANIZER;CN="Sarah Bair":MAILTO:sbair@lclibs.org
END:VEVENT
BEGIN:VEVENT
DTSTART;TZID=America/New_York:20240715T153000
DTEND;TZID=America/New_York:20240715T163000
DTSTAMP:20260422T014401
CREATED:20240212T194638Z
LAST-MODIFIED:20251223T210033Z
UID:30431-1721057400-1721061000@myerstown.lclibs.org
SUMMARY:PokeMondays
DESCRIPTION:Bring your deck or devices to play. No previous experience required!
URL:https://myerstown.lclibs.org/event/pokemondays-2/2024-07-15/
LOCATION:Myerstown Community Library\, 199 N. College Street\, Myerstown\, PA\, 17067\, United States
CATEGORIES:After-School Club,Children,Myerstown Community Library
ORGANIZER;CN="Sarah Bair":MAILTO:sbair@lclibs.org
END:VEVENT
BEGIN:VEVENT
DTSTART;TZID=America/New_York:20240715T110000
DTEND;TZID=America/New_York:20240715T113000
DTSTAMP:20260422T014401
CREATED:20240523T222906Z
LAST-MODIFIED:20240523T222906Z
UID:30852-1721041200-1721043000@myerstown.lclibs.org
SUMMARY:ABC Babies and Books
DESCRIPTION:An interactive story time for children ages 0-2 and their caregivers. No registration required! \nThis program is in lieu of Smart Start Story Time during the summer months.
URL:https://myerstown.lclibs.org/event/abc-babies-and-books/2024-07-15/
LOCATION:Myerstown Community Library\, 199 N. College Street\, Myerstown\, PA\, 17067\, United States
CATEGORIES:Children,Storytime,Summer Reading Program
ORGANIZER;CN="Sarah Bair":MAILTO:sbair@lclibs.org
END:VEVENT
BEGIN:VEVENT
DTSTART;TZID=America/New_York:20240712T103000
DTEND;TZID=America/New_York:20240712T113000
DTSTAMP:20260422T014401
CREATED:20240301T195818Z
LAST-MODIFIED:20251219T154155Z
UID:30616-1720780200-1720783800@myerstown.lclibs.org
SUMMARY:Preschool Story Time
DESCRIPTION:Join in the fun with stories\, songs\, and more that encourage development of Early Literacy skills in young children.
URL:https://myerstown.lclibs.org/event/preschool-story-time-2/2024-07-12/
LOCATION:Myerstown Community Library\, 199 N. College Street\, Myerstown\, PA\, 17067\, United States
CATEGORIES:Children,Myerstown Community Library,Storytime
ORGANIZER;CN="Sarah Bair":MAILTO:sbair@lclibs.org
END:VEVENT
BEGIN:VEVENT
DTSTART;TZID=America/New_York:20240711T173000
DTEND;TZID=America/New_York:20240711T183000
DTSTAMP:20260422T014401
CREATED:20240212T200633Z
LAST-MODIFIED:20240212T200633Z
UID:30480-1720719000-1720722600@myerstown.lclibs.org
SUMMARY:Great Discussions
DESCRIPTION:Join us for Great Discussions in the humanities and a review of the annual Great Decisions publication.
URL:https://myerstown.lclibs.org/event/great-discussions/2024-07-11/
LOCATION:Myerstown Community Library\, 199 N. College Street\, Myerstown\, PA\, 17067\, United States
CATEGORIES:Adult program,Adults,Book Discussion,Civic Literacy,Interest Group,Myerstown Community Library
ORGANIZER;CN="Sarah Bair":MAILTO:sbair@lclibs.org
END:VEVENT
BEGIN:VEVENT
DTSTART;TZID=America/New_York:20240711T140000
DTEND;TZID=America/New_York:20240711T143000
DTSTAMP:20260422T014401
CREATED:20240524T173617Z
LAST-MODIFIED:20240524T173617Z
UID:30871-1720706400-1720708200@myerstown.lclibs.org
SUMMARY:Water Bug Book Club
DESCRIPTION:Join Miss Sarah for story time at the Myerstown Community Pool!\nThursdays @ 2 pm from June 13 through August 8 \nGet your Water Bug Book Club punch card at the Pool Admissions Office. Fill your card and earn a prize as you read and splash your way through summer!
URL:https://myerstown.lclibs.org/event/water-bug-book-club/2024-07-11/
LOCATION:Myerstown Community Pool\, 1 W Center Ave\, Myerstown\, PA\, 17067\, United States
CATEGORIES:Children,Community Event,Family Program,Lebanon County Libraries,Myerstown Community Library,Storytime,Summer Reading Program
ORGANIZER;CN="Sarah Bair":MAILTO:sbair@lclibs.org
END:VEVENT
BEGIN:VEVENT
DTSTART;TZID=America/New_York:20240709T120000
DTEND;TZID=America/New_York:20240709T160000
DTSTAMP:20260422T014401
CREATED:20240524T165445Z
LAST-MODIFIED:20240524T165445Z
UID:30861-1720526400-1720540800@myerstown.lclibs.org
SUMMARY:Be a Space Scientist!
DESCRIPTION:This program is hosted by the library and presented by the North Museum of Nature & Science of Lancaster! This is a drop-in program presented in stations around the library with a variety of science activities.\nNo registration is required.\n\nThis FREE program is recommended for grades K-6th. You do NOT need to attend all of the sessions consecutively.
URL:https://myerstown.lclibs.org/event/be-a-space-scientist/2024-07-09/
LOCATION:Myerstown Community Library\, 199 N. College Street\, Myerstown\, PA\, 17067\, United States
CATEGORIES:Children,Family Program,Lebanon County Libraries,Myerstown Community Library,STEM,Summer Reading Program
ORGANIZER;CN="Sarah Bair":MAILTO:sbair@lclibs.org
END:VEVENT
BEGIN:VEVENT
DTSTART;TZID=America/New_York:20240708T110000
DTEND;TZID=America/New_York:20240708T113000
DTSTAMP:20260422T014401
CREATED:20240523T222906Z
LAST-MODIFIED:20240523T222906Z
UID:30851-1720436400-1720438200@myerstown.lclibs.org
SUMMARY:ABC Babies and Books
DESCRIPTION:An interactive story time for children ages 0-2 and their caregivers. No registration required! \nThis program is in lieu of Smart Start Story Time during the summer months.
URL:https://myerstown.lclibs.org/event/abc-babies-and-books/2024-07-08/
LOCATION:Myerstown Community Library\, 199 N. College Street\, Myerstown\, PA\, 17067\, United States
CATEGORIES:Children,Storytime,Summer Reading Program
ORGANIZER;CN="Sarah Bair":MAILTO:sbair@lclibs.org
END:VEVENT
BEGIN:VEVENT
DTSTART;TZID=America/New_York:20240705T103000
DTEND;TZID=America/New_York:20240705T113000
DTSTAMP:20260422T014401
CREATED:20240301T195818Z
LAST-MODIFIED:20251219T154155Z
UID:30615-1720175400-1720179000@myerstown.lclibs.org
SUMMARY:Preschool Story Time
DESCRIPTION:Join in the fun with stories\, songs\, and more that encourage development of Early Literacy skills in young children.
URL:https://myerstown.lclibs.org/event/preschool-story-time-2/2024-07-05/
LOCATION:Myerstown Community Library\, 199 N. College Street\, Myerstown\, PA\, 17067\, United States
CATEGORIES:Children,Myerstown Community Library,Storytime
ORGANIZER;CN="Sarah Bair":MAILTO:sbair@lclibs.org
END:VEVENT
BEGIN:VEVENT
DTSTART;VALUE=DATE:20240704
DTEND;VALUE=DATE:20240705
DTSTAMP:20260422T014401
CREATED:20240524T202546Z
LAST-MODIFIED:20240524T202642Z
UID:30972-1720051200-1720137599@myerstown.lclibs.org
SUMMARY:MCL CLOSED FOR INDEPENDENCE DAY
DESCRIPTION:
URL:https://myerstown.lclibs.org/event/mcl-closed-for-independence-day/
LOCATION:Myerstown Community Library\, 199 N. College Street\, Myerstown\, PA\, 17067\, United States
CATEGORIES:Lebanon County Libraries,Library Closure,Myerstown Community Library
ORGANIZER;CN="Sarah Bair":MAILTO:sbair@lclibs.org
END:VEVENT
BEGIN:VEVENT
DTSTART;TZID=America/New_York:20240703T103000
DTEND;TZID=America/New_York:20240703T113000
DTSTAMP:20260422T014401
CREATED:20240212T192844Z
LAST-MODIFIED:20241223T214010Z
UID:30384-1720002600-1720006200@myerstown.lclibs.org
SUMMARY:Sit & Knit
DESCRIPTION:A place to talk\, ask questions\, and share your love of knitting\, crocheting and everything that goes with it.
URL:https://myerstown.lclibs.org/event/sit-knit-2/2024-07-03/
LOCATION:Myerstown Community Library\, 199 N. College Street\, Myerstown\, PA\, 17067\, United States
CATEGORIES:Adult program,Adults,Craft Program,Myerstown Community Library
ORGANIZER;CN="Sarah Bair":MAILTO:sbair@lclibs.org
END:VEVENT
BEGIN:VEVENT
DTSTART;TZID=America/New_York:20240629T110000
DTEND;TZID=America/New_York:20240629T120000
DTSTAMP:20260422T014401
CREATED:20240212T201719Z
LAST-MODIFIED:20260112T223900Z
UID:30503-1719658800-1719662400@myerstown.lclibs.org
SUMMARY:BYOB Book Club
DESCRIPTION:BYOB – Bring Your Own Book Club! We discuss our favorite books and current reads.
URL:https://myerstown.lclibs.org/event/byob-book-club/2024-06-29/
LOCATION:Myerstown Community Library\, 199 N. College Street\, Myerstown\, PA\, 17067\, United States
CATEGORIES:Adult program,Adults,Book Club,Book Discussion,Myerstown Community Library
ORGANIZER;CN="Sarah Bair":MAILTO:sbair@lclibs.org
END:VEVENT
BEGIN:VEVENT
DTSTART;TZID=America/New_York:20240628T103000
DTEND;TZID=America/New_York:20240628T113000
DTSTAMP:20260422T014401
CREATED:20240301T195818Z
LAST-MODIFIED:20251219T154155Z
UID:30614-1719570600-1719574200@myerstown.lclibs.org
SUMMARY:Preschool Story Time
DESCRIPTION:Join in the fun with stories\, songs\, and more that encourage development of Early Literacy skills in young children.
URL:https://myerstown.lclibs.org/event/preschool-story-time-2/2024-06-28/
LOCATION:Myerstown Community Library\, 199 N. College Street\, Myerstown\, PA\, 17067\, United States
CATEGORIES:Children,Myerstown Community Library,Storytime
ORGANIZER;CN="Sarah Bair":MAILTO:sbair@lclibs.org
END:VEVENT
BEGIN:VEVENT
DTSTART;TZID=America/New_York:20240627T173000
DTEND;TZID=America/New_York:20240627T183000
DTSTAMP:20260422T014401
CREATED:20240524T201131Z
LAST-MODIFIED:20240524T201131Z
UID:30914-1719509400-1719513000@myerstown.lclibs.org
SUMMARY:Spellbinding Adventures
DESCRIPTION:Come participate in a celebration of Harry Potter adventures\, learning the ins and outs of owls\, and creating your own mythical creature. This is a Tweens & Teens event! \nCall the library to register beginning June 1st! 717-866-2800
URL:https://myerstown.lclibs.org/event/spellbinding-adventures/
LOCATION:Myerstown Community Library\, 199 N. College Street\, Myerstown\, PA\, 17067\, United States
CATEGORIES:Craft Program,Lebanon County Libraries,Myerstown Community Library,Summer Reading Program,Teens
ORGANIZER;CN="Sarah Bair":MAILTO:sbair@lclibs.org
END:VEVENT
BEGIN:VEVENT
DTSTART;TZID=America/New_York:20240627T140000
DTEND;TZID=America/New_York:20240627T143000
DTSTAMP:20260422T014401
CREATED:20240524T173617Z
LAST-MODIFIED:20240524T173617Z
UID:30870-1719496800-1719498600@myerstown.lclibs.org
SUMMARY:Water Bug Book Club
DESCRIPTION:Join Miss Sarah for story time at the Myerstown Community Pool!\nThursdays @ 2 pm from June 13 through August 8 \nGet your Water Bug Book Club punch card at the Pool Admissions Office. Fill your card and earn a prize as you read and splash your way through summer!
URL:https://myerstown.lclibs.org/event/water-bug-book-club/2024-06-27/
LOCATION:Myerstown Community Pool\, 1 W Center Ave\, Myerstown\, PA\, 17067\, United States
CATEGORIES:Children,Community Event,Family Program,Lebanon County Libraries,Myerstown Community Library,Storytime,Summer Reading Program
ORGANIZER;CN="Sarah Bair":MAILTO:sbair@lclibs.org
END:VEVENT
BEGIN:VEVENT
DTSTART;TZID=America/New_York:20240626T170000
DTEND;TZID=America/New_York:20240626T180000
DTSTAMP:20260422T014401
CREATED:20240524T193744Z
LAST-MODIFIED:20240524T193744Z
UID:30912-1719421200-1719424800@myerstown.lclibs.org
SUMMARY:Reptile Explorers
DESCRIPTION:Hosted by Forgotten Friend Reptile Sanctuary at the library!\nTHIS PROGRAM WILL HAVE LIVE ANIMALS!\nGeared towards children\, but open to all ages! \nCall the library to register beginning June 1st! 717-866-2800
URL:https://myerstown.lclibs.org/event/reptile-explorers/
LOCATION:Myerstown Community Library\, 199 N. College Street\, Myerstown\, PA\, 17067\, United States
CATEGORIES:Children,Community Event,Family Program,Lebanon County Libraries,Myerstown Community Library,Summer Reading Program
ORGANIZER;CN="Sarah Bair":MAILTO:sbair@lclibs.org
END:VEVENT
BEGIN:VEVENT
DTSTART;TZID=America/New_York:20240625T170000
DTEND;TZID=America/New_York:20240625T180000
DTSTAMP:20260422T014401
CREATED:20240524T205402Z
LAST-MODIFIED:20240524T205402Z
UID:30974-1719334800-1719338400@myerstown.lclibs.org
SUMMARY:Adult Craft Night
DESCRIPTION:Looking for date night ideas? Want an evening out of the house? Join us for this FREE evening of crafting. If you’re not a “crafter”\, don’t worry\, you can still have fun! \n*REGISTRATION REQUIRED* Ages 18 and up\nJune craft: DIY Birdhouses
URL:https://myerstown.lclibs.org/event/adult-craft-night/
LOCATION:Myerstown Community Library\, 199 N. College Street\, Myerstown\, PA\, 17067\, United States
CATEGORIES:Adult program,Adults,Craft Program,Lebanon County Libraries,Myerstown Community Library,Summer Reading Program
ORGANIZER;CN="Sarah Bair":MAILTO:sbair@lclibs.org
END:VEVENT
END:VCALENDAR