BEGIN:VCALENDAR
VERSION:2.0
PRODID:-//Myerstown Community Library - ECPv6.15.17.1//NONSGML v1.0//EN
CALSCALE:GREGORIAN
METHOD:PUBLISH
X-WR-CALNAME:Myerstown Community Library
X-ORIGINAL-URL:https://myerstown.lclibs.org
X-WR-CALDESC:Events for Myerstown Community Library
REFRESH-INTERVAL;VALUE=DURATION:PT1H
X-Robots-Tag:noindex
X-PUBLISHED-TTL:PT1H
BEGIN:VTIMEZONE
TZID:America/New_York
BEGIN:DAYLIGHT
TZOFFSETFROM:-0500
TZOFFSETTO:-0400
TZNAME:EDT
DTSTART:20230312T070000
END:DAYLIGHT
BEGIN:STANDARD
TZOFFSETFROM:-0400
TZOFFSETTO:-0500
TZNAME:EST
DTSTART:20231105T060000
END:STANDARD
BEGIN:DAYLIGHT
TZOFFSETFROM:-0500
TZOFFSETTO:-0400
TZNAME:EDT
DTSTART:20240310T070000
END:DAYLIGHT
BEGIN:STANDARD
TZOFFSETFROM:-0400
TZOFFSETTO:-0500
TZNAME:EST
DTSTART:20241103T060000
END:STANDARD
BEGIN:DAYLIGHT
TZOFFSETFROM:-0500
TZOFFSETTO:-0400
TZNAME:EDT
DTSTART:20250309T070000
END:DAYLIGHT
BEGIN:STANDARD
TZOFFSETFROM:-0400
TZOFFSETTO:-0500
TZNAME:EST
DTSTART:20251102T060000
END:STANDARD
END:VTIMEZONE
BEGIN:VEVENT
DTSTART;TZID=America/New_York:20240629T110000
DTEND;TZID=America/New_York:20240629T120000
DTSTAMP:20260422T051526
CREATED:20240212T201719Z
LAST-MODIFIED:20260112T223900Z
UID:30503-1719658800-1719662400@myerstown.lclibs.org
SUMMARY:BYOB Book Club
DESCRIPTION:BYOB – Bring Your Own Book Club! We discuss our favorite books and current reads.
URL:https://myerstown.lclibs.org/event/byob-book-club/2024-06-29/
LOCATION:Myerstown Community Library\, 199 N. College Street\, Myerstown\, PA\, 17067\, United States
CATEGORIES:Adult program,Adults,Book Club,Book Discussion,Myerstown Community Library
ORGANIZER;CN="Sarah Bair":MAILTO:sbair@lclibs.org
END:VEVENT
BEGIN:VEVENT
DTSTART;TZID=America/New_York:20240628T103000
DTEND;TZID=America/New_York:20240628T113000
DTSTAMP:20260422T051526
CREATED:20240301T195818Z
LAST-MODIFIED:20251219T154155Z
UID:30614-1719570600-1719574200@myerstown.lclibs.org
SUMMARY:Preschool Story Time
DESCRIPTION:Join in the fun with stories\, songs\, and more that encourage development of Early Literacy skills in young children.
URL:https://myerstown.lclibs.org/event/preschool-story-time-2/2024-06-28/
LOCATION:Myerstown Community Library\, 199 N. College Street\, Myerstown\, PA\, 17067\, United States
CATEGORIES:Children,Myerstown Community Library,Storytime
ORGANIZER;CN="Sarah Bair":MAILTO:sbair@lclibs.org
END:VEVENT
BEGIN:VEVENT
DTSTART;TZID=America/New_York:20240627T173000
DTEND;TZID=America/New_York:20240627T183000
DTSTAMP:20260422T051526
CREATED:20240524T201131Z
LAST-MODIFIED:20240524T201131Z
UID:30914-1719509400-1719513000@myerstown.lclibs.org
SUMMARY:Spellbinding Adventures
DESCRIPTION:Come participate in a celebration of Harry Potter adventures\, learning the ins and outs of owls\, and creating your own mythical creature. This is a Tweens & Teens event! \nCall the library to register beginning June 1st! 717-866-2800
URL:https://myerstown.lclibs.org/event/spellbinding-adventures/
LOCATION:Myerstown Community Library\, 199 N. College Street\, Myerstown\, PA\, 17067\, United States
CATEGORIES:Craft Program,Lebanon County Libraries,Myerstown Community Library,Summer Reading Program,Teens
ORGANIZER;CN="Sarah Bair":MAILTO:sbair@lclibs.org
END:VEVENT
BEGIN:VEVENT
DTSTART;TZID=America/New_York:20240627T140000
DTEND;TZID=America/New_York:20240627T143000
DTSTAMP:20260422T051526
CREATED:20240524T173617Z
LAST-MODIFIED:20240524T173617Z
UID:30870-1719496800-1719498600@myerstown.lclibs.org
SUMMARY:Water Bug Book Club
DESCRIPTION:Join Miss Sarah for story time at the Myerstown Community Pool!\nThursdays @ 2 pm from June 13 through August 8 \nGet your Water Bug Book Club punch card at the Pool Admissions Office. Fill your card and earn a prize as you read and splash your way through summer!
URL:https://myerstown.lclibs.org/event/water-bug-book-club/2024-06-27/
LOCATION:Myerstown Community Pool\, 1 W Center Ave\, Myerstown\, PA\, 17067\, United States
CATEGORIES:Children,Community Event,Family Program,Lebanon County Libraries,Myerstown Community Library,Storytime,Summer Reading Program
ORGANIZER;CN="Sarah Bair":MAILTO:sbair@lclibs.org
END:VEVENT
BEGIN:VEVENT
DTSTART;TZID=America/New_York:20240626T170000
DTEND;TZID=America/New_York:20240626T180000
DTSTAMP:20260422T051526
CREATED:20240524T193744Z
LAST-MODIFIED:20240524T193744Z
UID:30912-1719421200-1719424800@myerstown.lclibs.org
SUMMARY:Reptile Explorers
DESCRIPTION:Hosted by Forgotten Friend Reptile Sanctuary at the library!\nTHIS PROGRAM WILL HAVE LIVE ANIMALS!\nGeared towards children\, but open to all ages! \nCall the library to register beginning June 1st! 717-866-2800
URL:https://myerstown.lclibs.org/event/reptile-explorers/
LOCATION:Myerstown Community Library\, 199 N. College Street\, Myerstown\, PA\, 17067\, United States
CATEGORIES:Children,Community Event,Family Program,Lebanon County Libraries,Myerstown Community Library,Summer Reading Program
ORGANIZER;CN="Sarah Bair":MAILTO:sbair@lclibs.org
END:VEVENT
BEGIN:VEVENT
DTSTART;TZID=America/New_York:20240625T170000
DTEND;TZID=America/New_York:20240625T180000
DTSTAMP:20260422T051526
CREATED:20240524T205402Z
LAST-MODIFIED:20240524T205402Z
UID:30974-1719334800-1719338400@myerstown.lclibs.org
SUMMARY:Adult Craft Night
DESCRIPTION:Looking for date night ideas? Want an evening out of the house? Join us for this FREE evening of crafting. If you’re not a “crafter”\, don’t worry\, you can still have fun! \n*REGISTRATION REQUIRED* Ages 18 and up\nJune craft: DIY Birdhouses
URL:https://myerstown.lclibs.org/event/adult-craft-night/
LOCATION:Myerstown Community Library\, 199 N. College Street\, Myerstown\, PA\, 17067\, United States
CATEGORIES:Adult program,Adults,Craft Program,Lebanon County Libraries,Myerstown Community Library,Summer Reading Program
ORGANIZER;CN="Sarah Bair":MAILTO:sbair@lclibs.org
END:VEVENT
BEGIN:VEVENT
DTSTART;TZID=America/New_York:20240624T170000
DTEND;TZID=America/New_York:20240624T190000
DTSTAMP:20260422T051526
CREATED:20240606T153107Z
LAST-MODIFIED:20240606T153107Z
UID:30994-1719248400-1719255600@myerstown.lclibs.org
SUMMARY:Roll for initiative! D&D at the library!
DESCRIPTION:Join our adventure guild and test out your skills! We are looking for paladins\, wizards\, bards\, and warlocks to join us on our adventure as we train to fight monsters\, beasts\, and other mythical creatures! \nThis is a Dungeons & Dragons (D&D) roleplaying group that meets once a month. Recommended for ages 14 and up! Beginners welcome – we will teach you! \nREGISTRATION IS REQUIRED!
URL:https://myerstown.lclibs.org/event/roll-for-initiative-dd-at-the-library/
LOCATION:Myerstown Community Library\, 199 N. College Street\, Myerstown\, PA\, 17067\, United States
CATEGORIES:Adult program,Adults,Lebanon County Library System,Myerstown Community Library,STEM,Summer Reading Program,Teens,YA Program
ORGANIZER;CN="Sarah Bair":MAILTO:sbair@lclibs.org
END:VEVENT
BEGIN:VEVENT
DTSTART;TZID=America/New_York:20240624T110000
DTEND;TZID=America/New_York:20240624T113000
DTSTAMP:20260422T051526
CREATED:20240523T222906Z
LAST-MODIFIED:20240523T222906Z
UID:30850-1719226800-1719228600@myerstown.lclibs.org
SUMMARY:ABC Babies and Books
DESCRIPTION:An interactive story time for children ages 0-2 and their caregivers. No registration required! \nThis program is in lieu of Smart Start Story Time during the summer months.
URL:https://myerstown.lclibs.org/event/abc-babies-and-books/2024-06-24/
LOCATION:Myerstown Community Library\, 199 N. College Street\, Myerstown\, PA\, 17067\, United States
CATEGORIES:Children,Storytime,Summer Reading Program
ORGANIZER;CN="Sarah Bair":MAILTO:sbair@lclibs.org
END:VEVENT
BEGIN:VEVENT
DTSTART;TZID=America/New_York:20240622T100000
DTEND;TZID=America/New_York:20240622T110000
DTSTAMP:20260422T051526
CREATED:20240524T210408Z
LAST-MODIFIED:20240524T210408Z
UID:30976-1719050400-1719054000@myerstown.lclibs.org
SUMMARY:Artist Trading Card (ATC) Workshop & Swap
DESCRIPTION:Learn about Artist Trading Cards (ATC) and make your own! Already make ATCs? Bring them to trade with others!\n\nAges 10 and up; all skill levels welcome; beginners encouraged!\nSupplies are provided for you. Space is limited! Give the library a call to register. 717-866-2800
URL:https://myerstown.lclibs.org/event/artist-trading-card-atc-workshop-swap/
LOCATION:Myerstown Community Library\, 199 N. College Street\, Myerstown\, PA\, 17067\, United States
CATEGORIES:Adult program,Adults,Children,Craft Program,Family Program,Lebanon County Libraries,Myerstown Community Library,Summer Reading Program,Teens
ORGANIZER;CN="Sarah Bair":MAILTO:sbair@lclibs.org
END:VEVENT
BEGIN:VEVENT
DTSTART;TZID=America/New_York:20240621T103000
DTEND;TZID=America/New_York:20240621T113000
DTSTAMP:20260422T051526
CREATED:20240301T195818Z
LAST-MODIFIED:20251219T154155Z
UID:30613-1718965800-1718969400@myerstown.lclibs.org
SUMMARY:Preschool Story Time
DESCRIPTION:Join in the fun with stories\, songs\, and more that encourage development of Early Literacy skills in young children.
URL:https://myerstown.lclibs.org/event/preschool-story-time-2/2024-06-21/
LOCATION:Myerstown Community Library\, 199 N. College Street\, Myerstown\, PA\, 17067\, United States
CATEGORIES:Children,Myerstown Community Library,Storytime
ORGANIZER;CN="Sarah Bair":MAILTO:sbair@lclibs.org
END:VEVENT
BEGIN:VEVENT
DTSTART;TZID=America/New_York:20240620T180000
DTEND;TZID=America/New_York:20240620T190000
DTSTAMP:20260422T051526
CREATED:20240606T152330Z
LAST-MODIFIED:20240606T152330Z
UID:30992-1718906400-1718910000@myerstown.lclibs.org
SUMMARY:Robert Trout Book Talk
DESCRIPTION:Join us for this book talk and Q&A with published local author Bob Trout! Check out his books at the library! \nBob will be giving out and signing his books at this event for FREE!
URL:https://myerstown.lclibs.org/event/robert-trout-book-talk/
LOCATION:Myerstown Community Library\, 199 N. College Street\, Myerstown\, PA\, 17067\, United States
CATEGORIES:Book Discussion,Children,Community Event,Family Program,Lebanon County Library System,Myerstown Community Library,Summer Reading Program
ORGANIZER;CN="Sarah Bair":MAILTO:sbair@lclibs.org
END:VEVENT
BEGIN:VEVENT
DTSTART;TZID=America/New_York:20240620T140000
DTEND;TZID=America/New_York:20240620T143000
DTSTAMP:20260422T051526
CREATED:20240524T173617Z
LAST-MODIFIED:20240524T173617Z
UID:30869-1718892000-1718893800@myerstown.lclibs.org
SUMMARY:Water Bug Book Club
DESCRIPTION:Join Miss Sarah for story time at the Myerstown Community Pool!\nThursdays @ 2 pm from June 13 through August 8 \nGet your Water Bug Book Club punch card at the Pool Admissions Office. Fill your card and earn a prize as you read and splash your way through summer!
URL:https://myerstown.lclibs.org/event/water-bug-book-club/2024-06-20/
LOCATION:Myerstown Community Pool\, 1 W Center Ave\, Myerstown\, PA\, 17067\, United States
CATEGORIES:Children,Community Event,Family Program,Lebanon County Libraries,Myerstown Community Library,Storytime,Summer Reading Program
ORGANIZER;CN="Sarah Bair":MAILTO:sbair@lclibs.org
END:VEVENT
BEGIN:VEVENT
DTSTART;VALUE=DATE:20240619
DTEND;VALUE=DATE:20240620
DTSTAMP:20260422T051526
CREATED:20240524T201826Z
LAST-MODIFIED:20240524T204116Z
UID:30970-1718755200-1718841599@myerstown.lclibs.org
SUMMARY:MCL CLOSED FOR JUNETEENTH
DESCRIPTION:
URL:https://myerstown.lclibs.org/event/mcl-closed-for-juneteenth/
LOCATION:Myerstown Community Library\, 199 N. College Street\, Myerstown\, PA\, 17067\, United States
CATEGORIES:Lebanon County Libraries,Lebanon County Library System,Library Closure,Myerstown Community Library
ORGANIZER;CN="Sarah Bair":MAILTO:sbair@lclibs.org
END:VEVENT
BEGIN:VEVENT
DTSTART;TZID=America/New_York:20240618T183000
DTEND;TZID=America/New_York:20240618T200000
DTSTAMP:20260422T051526
CREATED:20240212T195749Z
LAST-MODIFIED:20251219T175112Z
UID:30455-1718735400-1718740800@myerstown.lclibs.org
SUMMARY:Library Board Meeting
DESCRIPTION:The Library Board meets on the third Tuesday of each month at 6:30pm. These meetings are open to the public and are subject to change without notice.
URL:https://myerstown.lclibs.org/event/library-board-meeting/2024-06-18/
LOCATION:Myerstown Community Library\, 199 N. College Street\, Myerstown\, PA\, 17067\, United States
CATEGORIES:Adult program,Board Meeting,Myerstown Community Library
ORGANIZER;CN="Sarah Bair":MAILTO:sbair@lclibs.org
END:VEVENT
BEGIN:VEVENT
DTSTART;TZID=America/New_York:20240618T160000
DTEND;TZID=America/New_York:20240618T170000
DTSTAMP:20260422T051526
CREATED:20240528T225545Z
LAST-MODIFIED:20240528T225545Z
UID:30978-1718726400-1718730000@myerstown.lclibs.org
SUMMARY:Book Peeps Book Club for Kids
DESCRIPTION:Do you love the Bad Guys Series? Are you seven or older? Do you like snacks and crafts?? Then this program is for you!\nJoin the Book Peeps Book Club on Tuesday\, 6/18 at 4pm!  Psst… This program is with Miss Amy!! 
URL:https://myerstown.lclibs.org/event/book-peeps-book-club-for-kids/
LOCATION:Myerstown Community Library\, 199 N. College Street\, Myerstown\, PA\, 17067\, United States
CATEGORIES:Book Club,Book Discussion,Children,Craft Program,Lebanon County Libraries,Myerstown Community Library,STEM,Summer Reading Program
ORGANIZER;CN="Sarah Bair":MAILTO:sbair@lclibs.org
END:VEVENT
BEGIN:VEVENT
DTSTART;TZID=America/New_York:20240618T103000
DTEND;TZID=America/New_York:20240618T113000
DTSTAMP:20260422T051526
CREATED:20240212T192844Z
LAST-MODIFIED:20241223T214010Z
UID:30916-1718706600-1718710200@myerstown.lclibs.org
SUMMARY:Sit & Knit
DESCRIPTION:A place to talk\, ask questions\, and share your love of knitting\, crocheting and everything that goes with it.
URL:https://myerstown.lclibs.org/event/sit-knit-2/2024-06-18/
LOCATION:Myerstown Community Library\, 199 N. College Street\, Myerstown\, PA\, 17067\, United States
CATEGORIES:Adult program,Adults,Craft Program,Myerstown Community Library
ORGANIZER;CN="Sarah Bair":MAILTO:sbair@lclibs.org
END:VEVENT
BEGIN:VEVENT
DTSTART;TZID=America/New_York:20240617T153000
DTEND;TZID=America/New_York:20240617T163000
DTSTAMP:20260422T051526
CREATED:20240212T194638Z
LAST-MODIFIED:20251223T210033Z
UID:30430-1718638200-1718641800@myerstown.lclibs.org
SUMMARY:PokeMondays
DESCRIPTION:Bring your deck or devices to play. No previous experience required!
URL:https://myerstown.lclibs.org/event/pokemondays-2/2024-06-17/
LOCATION:Myerstown Community Library\, 199 N. College Street\, Myerstown\, PA\, 17067\, United States
CATEGORIES:After-School Club,Children,Myerstown Community Library
ORGANIZER;CN="Sarah Bair":MAILTO:sbair@lclibs.org
END:VEVENT
BEGIN:VEVENT
DTSTART;TZID=America/New_York:20240615T130000
DTEND;TZID=America/New_York:20240615T153000
DTSTAMP:20260422T051526
CREATED:20240524T180232Z
LAST-MODIFIED:20240524T180232Z
UID:30902-1718456400-1718465400@myerstown.lclibs.org
SUMMARY:Story Time at the Homestead
DESCRIPTION:Join Miss Sarah for story time at the Isaac Meier Homestead! The Homestead is hosting an open house from 1pm-3:30pm and we will have story time outside (weather permitting)! \nThis event is happening at the Homestead\, not the library!
URL:https://myerstown.lclibs.org/event/story-time-at-the-homestead/2024-06-15/
CATEGORIES:Children,Community Event,Family Program,Lebanon County Libraries,Myerstown Community Library,Storytime
ORGANIZER;CN="Sarah Bair":MAILTO:sbair@lclibs.org
END:VEVENT
BEGIN:VEVENT
DTSTART;TZID=America/New_York:20240615T110000
DTEND;TZID=America/New_York:20240615T120000
DTSTAMP:20260422T051526
CREATED:20240301T200314Z
LAST-MODIFIED:20260130T192711Z
UID:30569-1718449200-1718452800@myerstown.lclibs.org
SUMMARY:STEAM Saturdays
DESCRIPTION:Registration required. Recommended for ages 8-14.\n\nSTEAM stands for Science Technology Engineering Art and Math! “STEAM” Saturdays allow children to partake in building challenges\, experiments\, robotics\, and more!
URL:https://myerstown.lclibs.org/event/steam-saturdays/2024-06-15/
LOCATION:Myerstown Community Library\, 199 N. College Street\, Myerstown\, PA\, 17067\, United States
CATEGORIES:Children,Myerstown Community Library,STEM
ORGANIZER;CN="Sarah Bair":MAILTO:sbair@lclibs.org
END:VEVENT
BEGIN:VEVENT
DTSTART;TZID=America/New_York:20240614T103000
DTEND;TZID=America/New_York:20240614T113000
DTSTAMP:20260422T051526
CREATED:20240301T195818Z
LAST-MODIFIED:20251219T154155Z
UID:30612-1718361000-1718364600@myerstown.lclibs.org
SUMMARY:Preschool Story Time
DESCRIPTION:Join in the fun with stories\, songs\, and more that encourage development of Early Literacy skills in young children.
URL:https://myerstown.lclibs.org/event/preschool-story-time-2/2024-06-14/
LOCATION:Myerstown Community Library\, 199 N. College Street\, Myerstown\, PA\, 17067\, United States
CATEGORIES:Children,Myerstown Community Library,Storytime
ORGANIZER;CN="Sarah Bair":MAILTO:sbair@lclibs.org
END:VEVENT
BEGIN:VEVENT
DTSTART;TZID=America/New_York:20240613T173000
DTEND;TZID=America/New_York:20240613T183000
DTSTAMP:20260422T051526
CREATED:20240212T200633Z
LAST-MODIFIED:20240212T200633Z
UID:30479-1718299800-1718303400@myerstown.lclibs.org
SUMMARY:Great Discussions
DESCRIPTION:Join us for Great Discussions in the humanities and a review of the annual Great Decisions publication.
URL:https://myerstown.lclibs.org/event/great-discussions/2024-06-13/
LOCATION:Myerstown Community Library\, 199 N. College Street\, Myerstown\, PA\, 17067\, United States
CATEGORIES:Adult program,Adults,Book Discussion,Civic Literacy,Interest Group,Myerstown Community Library
ORGANIZER;CN="Sarah Bair":MAILTO:sbair@lclibs.org
END:VEVENT
BEGIN:VEVENT
DTSTART;TZID=America/New_York:20240613T170000
DTEND;TZID=America/New_York:20240613T190000
DTSTAMP:20260422T051526
CREATED:20240524T190908Z
LAST-MODIFIED:20240524T190908Z
UID:30910-1718298000-1718305200@myerstown.lclibs.org
SUMMARY:Paint Night at the Library
DESCRIPTION:Join us for this Tweens & Teens event! All supplies are provided by the library for this FREE event. \nCome ready to create! \nCall the library to register beginning June 1st! 717-866-2800
URL:https://myerstown.lclibs.org/event/paint-night-at-the-library/
LOCATION:Myerstown Community Library\, 199 N. College Street\, Myerstown\, PA\, 17067\, United States
CATEGORIES:Craft Program,Lebanon County Libraries,Myerstown Community Library,Teens
ORGANIZER;CN="Sarah Bair":MAILTO:sbair@lclibs.org
END:VEVENT
BEGIN:VEVENT
DTSTART;TZID=America/New_York:20240613T140000
DTEND;TZID=America/New_York:20240613T143000
DTSTAMP:20260422T051526
CREATED:20240524T173617Z
LAST-MODIFIED:20240524T173617Z
UID:30867-1718287200-1718289000@myerstown.lclibs.org
SUMMARY:Water Bug Book Club
DESCRIPTION:Join Miss Sarah for story time at the Myerstown Community Pool!\nThursdays @ 2 pm from June 13 through August 8 \nGet your Water Bug Book Club punch card at the Pool Admissions Office. Fill your card and earn a prize as you read and splash your way through summer!
URL:https://myerstown.lclibs.org/event/water-bug-book-club/2024-06-13/
LOCATION:Myerstown Community Pool\, 1 W Center Ave\, Myerstown\, PA\, 17067\, United States
CATEGORIES:Children,Community Event,Family Program,Lebanon County Libraries,Myerstown Community Library,Storytime,Summer Reading Program
ORGANIZER;CN="Sarah Bair":MAILTO:sbair@lclibs.org
END:VEVENT
BEGIN:VEVENT
DTSTART;TZID=America/New_York:20240612T173000
DTEND;TZID=America/New_York:20240612T183000
DTSTAMP:20260422T051526
CREATED:20240524T183237Z
LAST-MODIFIED:20240524T183237Z
UID:30908-1718213400-1718217000@myerstown.lclibs.org
SUMMARY:Wackadoo Party & Frozen Treats
DESCRIPTION:Join us for activities and games\, like Keepy Uppy and Pass the Parcel! Plus\, we will have frozen treats\, because who doesn’t love ice cream and popsicles?! \nPlease call the library to register beginning June 1st! 717-866-2800
URL:https://myerstown.lclibs.org/event/wackadoo-party-frozen-treats/
LOCATION:Myerstown Community Library\, 199 N. College Street\, Myerstown\, PA\, 17067\, United States
CATEGORIES:Children,Family Program,Lebanon County Libraries,Lebanon County Library System,Myerstown Community Library,Summer Reading Program
ORGANIZER;CN="Sarah Bair":MAILTO:sbair@lclibs.org
END:VEVENT
BEGIN:VEVENT
DTSTART;TZID=America/New_York:20240610T110000
DTEND;TZID=America/New_York:20240610T113000
DTSTAMP:20260422T051526
CREATED:20240523T222906Z
LAST-MODIFIED:20240523T222906Z
UID:30849-1718017200-1718019000@myerstown.lclibs.org
SUMMARY:ABC Babies and Books
DESCRIPTION:An interactive story time for children ages 0-2 and their caregivers. No registration required! \nThis program is in lieu of Smart Start Story Time during the summer months.
URL:https://myerstown.lclibs.org/event/abc-babies-and-books/2024-06-10/
LOCATION:Myerstown Community Library\, 199 N. College Street\, Myerstown\, PA\, 17067\, United States
CATEGORIES:Children,Storytime,Summer Reading Program
ORGANIZER;CN="Sarah Bair":MAILTO:sbair@lclibs.org
END:VEVENT
BEGIN:VEVENT
DTSTART;TZID=America/New_York:20240607T103000
DTEND;TZID=America/New_York:20240607T113000
DTSTAMP:20260422T051526
CREATED:20240301T195818Z
LAST-MODIFIED:20251219T154155Z
UID:30611-1717756200-1717759800@myerstown.lclibs.org
SUMMARY:Preschool Story Time
DESCRIPTION:Join in the fun with stories\, songs\, and more that encourage development of Early Literacy skills in young children.
URL:https://myerstown.lclibs.org/event/preschool-story-time-2/2024-06-07/
LOCATION:Myerstown Community Library\, 199 N. College Street\, Myerstown\, PA\, 17067\, United States
CATEGORIES:Children,Myerstown Community Library,Storytime
ORGANIZER;CN="Sarah Bair":MAILTO:sbair@lclibs.org
END:VEVENT
BEGIN:VEVENT
DTSTART;TZID=America/New_York:20240605T183000
DTEND;TZID=America/New_York:20240605T193000
DTSTAMP:20260422T051526
CREATED:20240524T181114Z
LAST-MODIFIED:20240524T181114Z
UID:30906-1717612200-1717615800@myerstown.lclibs.org
SUMMARY:The Trees Remember Book Talk
DESCRIPTION:Join us for a book talk and signing with local author\, Joyce Kieffer! Kieffer is the author of The Trees Remember\, a trilogy of historical novels set in the virgin forests of Juniata County\, Pennsylvania at the turn of the 20th century. The series shares a heroine’s odyssey from her small family farm in the forest foothills\, to the John’s Hopkins Training School for Nurses\, and back to her forest homeland and its dangerous lumber camps.\n\nCall the library to register! 717-866-2800
URL:https://myerstown.lclibs.org/event/the-trees-remember-book-talk/
LOCATION:Myerstown Community Library\, 199 N. College Street\, Myerstown\, PA\, 17067\, United States
CATEGORIES:Adult program,Adults,Book Discussion,Community Event,Lebanon County Libraries,Myerstown Community Library
ORGANIZER;CN="Sarah Bair":MAILTO:sbair@lclibs.org
END:VEVENT
BEGIN:VEVENT
DTSTART;TZID=America/New_York:20240605T103000
DTEND;TZID=America/New_York:20240605T113000
DTSTAMP:20260422T051526
CREATED:20240212T192844Z
LAST-MODIFIED:20241223T214010Z
UID:30382-1717583400-1717587000@myerstown.lclibs.org
SUMMARY:Sit & Knit
DESCRIPTION:A place to talk\, ask questions\, and share your love of knitting\, crocheting and everything that goes with it.
URL:https://myerstown.lclibs.org/event/sit-knit-2/2024-06-05/
LOCATION:Myerstown Community Library\, 199 N. College Street\, Myerstown\, PA\, 17067\, United States
CATEGORIES:Adult program,Adults,Craft Program,Myerstown Community Library
ORGANIZER;CN="Sarah Bair":MAILTO:sbair@lclibs.org
END:VEVENT
BEGIN:VEVENT
DTSTART;TZID=America/New_York:20240603T110000
DTEND;TZID=America/New_York:20240603T113000
DTSTAMP:20260422T051526
CREATED:20240523T222906Z
LAST-MODIFIED:20240523T222906Z
UID:30848-1717412400-1717414200@myerstown.lclibs.org
SUMMARY:ABC Babies and Books
DESCRIPTION:An interactive story time for children ages 0-2 and their caregivers. No registration required! \nThis program is in lieu of Smart Start Story Time during the summer months.
URL:https://myerstown.lclibs.org/event/abc-babies-and-books/2024-06-03/
LOCATION:Myerstown Community Library\, 199 N. College Street\, Myerstown\, PA\, 17067\, United States
CATEGORIES:Children,Storytime,Summer Reading Program
ORGANIZER;CN="Sarah Bair":MAILTO:sbair@lclibs.org
END:VEVENT
BEGIN:VEVENT
DTSTART;VALUE=DATE:20240601
DTEND;VALUE=DATE:20240602
DTSTAMP:20260422T051526
CREATED:20240524T155057Z
LAST-MODIFIED:20240524T155057Z
UID:30859-1717200000-1717286399@myerstown.lclibs.org
SUMMARY:Summer Learning Sign-Up Saturday!
DESCRIPTION:Pick up your reading packet\, register for events\, and grab some books to kick off your Summer Reading Adventure!! We have programs for elementary readers\, teens & tweens\, and adults! \nSign-up at the library while we’re open! 9am-4pm
URL:https://myerstown.lclibs.org/event/summer-learning-sign-up-saturday/
LOCATION:Myerstown Community Library\, 199 N. College Street\, Myerstown\, PA\, 17067\, United States
CATEGORIES:Adults,Children,Community Event,Family Program,Lebanon County Libraries,Myerstown Community Library,Summer Reading Program,Teens
ORGANIZER;CN="Sarah Bair":MAILTO:sbair@lclibs.org
END:VEVENT
END:VCALENDAR