BEGIN:VCALENDAR
VERSION:2.0
PRODID:-//Myerstown Community Library - ECPv6.15.17.1//NONSGML v1.0//EN
CALSCALE:GREGORIAN
METHOD:PUBLISH
X-WR-CALNAME:Myerstown Community Library
X-ORIGINAL-URL:https://myerstown.lclibs.org
X-WR-CALDESC:Events for Myerstown Community Library
REFRESH-INTERVAL;VALUE=DURATION:PT1H
X-Robots-Tag:noindex
X-PUBLISHED-TTL:PT1H
BEGIN:VTIMEZONE
TZID:America/New_York
BEGIN:DAYLIGHT
TZOFFSETFROM:-0500
TZOFFSETTO:-0400
TZNAME:EDT
DTSTART:20230312T070000
END:DAYLIGHT
BEGIN:STANDARD
TZOFFSETFROM:-0400
TZOFFSETTO:-0500
TZNAME:EST
DTSTART:20231105T060000
END:STANDARD
BEGIN:DAYLIGHT
TZOFFSETFROM:-0500
TZOFFSETTO:-0400
TZNAME:EDT
DTSTART:20240310T070000
END:DAYLIGHT
BEGIN:STANDARD
TZOFFSETFROM:-0400
TZOFFSETTO:-0500
TZNAME:EST
DTSTART:20241103T060000
END:STANDARD
BEGIN:DAYLIGHT
TZOFFSETFROM:-0500
TZOFFSETTO:-0400
TZNAME:EDT
DTSTART:20250309T070000
END:DAYLIGHT
BEGIN:STANDARD
TZOFFSETFROM:-0400
TZOFFSETTO:-0500
TZNAME:EST
DTSTART:20251102T060000
END:STANDARD
END:VTIMEZONE
BEGIN:VEVENT
DTSTART;TZID=America/New_York:20240610T110000
DTEND;TZID=America/New_York:20240610T113000
DTSTAMP:20260422T083330
CREATED:20240523T222906Z
LAST-MODIFIED:20240523T222906Z
UID:30849-1718017200-1718019000@myerstown.lclibs.org
SUMMARY:ABC Babies and Books
DESCRIPTION:An interactive story time for children ages 0-2 and their caregivers. No registration required! \nThis program is in lieu of Smart Start Story Time during the summer months.
URL:https://myerstown.lclibs.org/event/abc-babies-and-books/2024-06-10/
LOCATION:Myerstown Community Library\, 199 N. College Street\, Myerstown\, PA\, 17067\, United States
CATEGORIES:Children,Storytime,Summer Reading Program
ORGANIZER;CN="Sarah Bair":MAILTO:sbair@lclibs.org
END:VEVENT
BEGIN:VEVENT
DTSTART;TZID=America/New_York:20240607T103000
DTEND;TZID=America/New_York:20240607T113000
DTSTAMP:20260422T083330
CREATED:20240301T195818Z
LAST-MODIFIED:20251219T154155Z
UID:30611-1717756200-1717759800@myerstown.lclibs.org
SUMMARY:Preschool Story Time
DESCRIPTION:Join in the fun with stories\, songs\, and more that encourage development of Early Literacy skills in young children.
URL:https://myerstown.lclibs.org/event/preschool-story-time-2/2024-06-07/
LOCATION:Myerstown Community Library\, 199 N. College Street\, Myerstown\, PA\, 17067\, United States
CATEGORIES:Children,Myerstown Community Library,Storytime
ORGANIZER;CN="Sarah Bair":MAILTO:sbair@lclibs.org
END:VEVENT
BEGIN:VEVENT
DTSTART;TZID=America/New_York:20240605T183000
DTEND;TZID=America/New_York:20240605T193000
DTSTAMP:20260422T083330
CREATED:20240524T181114Z
LAST-MODIFIED:20240524T181114Z
UID:30906-1717612200-1717615800@myerstown.lclibs.org
SUMMARY:The Trees Remember Book Talk
DESCRIPTION:Join us for a book talk and signing with local author\, Joyce Kieffer! Kieffer is the author of The Trees Remember\, a trilogy of historical novels set in the virgin forests of Juniata County\, Pennsylvania at the turn of the 20th century. The series shares a heroine’s odyssey from her small family farm in the forest foothills\, to the John’s Hopkins Training School for Nurses\, and back to her forest homeland and its dangerous lumber camps.\n\nCall the library to register! 717-866-2800
URL:https://myerstown.lclibs.org/event/the-trees-remember-book-talk/
LOCATION:Myerstown Community Library\, 199 N. College Street\, Myerstown\, PA\, 17067\, United States
CATEGORIES:Adult program,Adults,Book Discussion,Community Event,Lebanon County Libraries,Myerstown Community Library
ORGANIZER;CN="Sarah Bair":MAILTO:sbair@lclibs.org
END:VEVENT
BEGIN:VEVENT
DTSTART;TZID=America/New_York:20240605T103000
DTEND;TZID=America/New_York:20240605T113000
DTSTAMP:20260422T083330
CREATED:20240212T192844Z
LAST-MODIFIED:20241223T214010Z
UID:30382-1717583400-1717587000@myerstown.lclibs.org
SUMMARY:Sit & Knit
DESCRIPTION:A place to talk\, ask questions\, and share your love of knitting\, crocheting and everything that goes with it.
URL:https://myerstown.lclibs.org/event/sit-knit-2/2024-06-05/
LOCATION:Myerstown Community Library\, 199 N. College Street\, Myerstown\, PA\, 17067\, United States
CATEGORIES:Adult program,Adults,Craft Program,Myerstown Community Library
ORGANIZER;CN="Sarah Bair":MAILTO:sbair@lclibs.org
END:VEVENT
BEGIN:VEVENT
DTSTART;TZID=America/New_York:20240603T110000
DTEND;TZID=America/New_York:20240603T113000
DTSTAMP:20260422T083330
CREATED:20240523T222906Z
LAST-MODIFIED:20240523T222906Z
UID:30848-1717412400-1717414200@myerstown.lclibs.org
SUMMARY:ABC Babies and Books
DESCRIPTION:An interactive story time for children ages 0-2 and their caregivers. No registration required! \nThis program is in lieu of Smart Start Story Time during the summer months.
URL:https://myerstown.lclibs.org/event/abc-babies-and-books/2024-06-03/
LOCATION:Myerstown Community Library\, 199 N. College Street\, Myerstown\, PA\, 17067\, United States
CATEGORIES:Children,Storytime,Summer Reading Program
ORGANIZER;CN="Sarah Bair":MAILTO:sbair@lclibs.org
END:VEVENT
BEGIN:VEVENT
DTSTART;VALUE=DATE:20240601
DTEND;VALUE=DATE:20240602
DTSTAMP:20260422T083330
CREATED:20240524T155057Z
LAST-MODIFIED:20240524T155057Z
UID:30859-1717200000-1717286399@myerstown.lclibs.org
SUMMARY:Summer Learning Sign-Up Saturday!
DESCRIPTION:Pick up your reading packet\, register for events\, and grab some books to kick off your Summer Reading Adventure!! We have programs for elementary readers\, teens & tweens\, and adults! \nSign-up at the library while we’re open! 9am-4pm
URL:https://myerstown.lclibs.org/event/summer-learning-sign-up-saturday/
LOCATION:Myerstown Community Library\, 199 N. College Street\, Myerstown\, PA\, 17067\, United States
CATEGORIES:Adults,Children,Community Event,Family Program,Lebanon County Libraries,Myerstown Community Library,Summer Reading Program,Teens
ORGANIZER;CN="Sarah Bair":MAILTO:sbair@lclibs.org
END:VEVENT
BEGIN:VEVENT
DTSTART;TZID=America/New_York:20240531T103000
DTEND;TZID=America/New_York:20240531T113000
DTSTAMP:20260422T083330
CREATED:20240301T195818Z
LAST-MODIFIED:20251219T154155Z
UID:30610-1717151400-1717155000@myerstown.lclibs.org
SUMMARY:Preschool Story Time
DESCRIPTION:Join in the fun with stories\, songs\, and more that encourage development of Early Literacy skills in young children.
URL:https://myerstown.lclibs.org/event/preschool-story-time-2/2024-05-31/
LOCATION:Myerstown Community Library\, 199 N. College Street\, Myerstown\, PA\, 17067\, United States
CATEGORIES:Children,Myerstown Community Library,Storytime
ORGANIZER;CN="Sarah Bair":MAILTO:sbair@lclibs.org
END:VEVENT
BEGIN:VEVENT
DTSTART;VALUE=DATE:20240527
DTEND;VALUE=DATE:20240528
DTSTAMP:20260422T083330
CREATED:20240425T170431Z
LAST-MODIFIED:20240425T170431Z
UID:30817-1716768000-1716854399@myerstown.lclibs.org
SUMMARY:MCL CLOSED
DESCRIPTION:
URL:https://myerstown.lclibs.org/event/mcl-closed-3/
LOCATION:Myerstown Community Library\, 199 N. College Street\, Myerstown\, PA\, 17067\, United States
CATEGORIES:Lebanon County Libraries,Library Closure,Myerstown Community Library
ORGANIZER;CN="Sarah Bair":MAILTO:sbair@lclibs.org
END:VEVENT
BEGIN:VEVENT
DTSTART;TZID=America/New_York:20240525T130000
DTEND;TZID=America/New_York:20240525T153000
DTSTAMP:20260422T083330
CREATED:20240429T192608Z
LAST-MODIFIED:20240429T192608Z
UID:30824-1716642000-1716651000@myerstown.lclibs.org
SUMMARY:Story Time at the Isaac Meier Homestead
DESCRIPTION:Join Miss Sarah for story time at the Isaac Meier Homestead during their open house! Stop by for a few stories and a quick craft. See you there!
URL:https://myerstown.lclibs.org/event/story-time-at-the-isaac-meier-homestead/
CATEGORIES:Children,Community Event,Family Program,Lebanon County Libraries,Myerstown Community Library,Storytime
ORGANIZER;CN="Sarah Bair":MAILTO:sbair@lclibs.org
END:VEVENT
BEGIN:VEVENT
DTSTART;TZID=America/New_York:20240525T110000
DTEND;TZID=America/New_York:20240525T120000
DTSTAMP:20260422T083330
CREATED:20240212T201719Z
LAST-MODIFIED:20260112T223900Z
UID:30502-1716634800-1716638400@myerstown.lclibs.org
SUMMARY:BYOB Book Club
DESCRIPTION:BYOB – Bring Your Own Book Club! We discuss our favorite books and current reads.
URL:https://myerstown.lclibs.org/event/byob-book-club/2024-05-25/
LOCATION:Myerstown Community Library\, 199 N. College Street\, Myerstown\, PA\, 17067\, United States
CATEGORIES:Adult program,Adults,Book Club,Book Discussion,Myerstown Community Library
ORGANIZER;CN="Sarah Bair":MAILTO:sbair@lclibs.org
END:VEVENT
BEGIN:VEVENT
DTSTART;VALUE=DATE:20240525
DTEND;VALUE=DATE:20240526
DTSTAMP:20260422T083330
CREATED:20240425T170215Z
LAST-MODIFIED:20240425T170802Z
UID:30815-1716595200-1716681599@myerstown.lclibs.org
SUMMARY:MCL CLOSING @1PM
DESCRIPTION:
URL:https://myerstown.lclibs.org/event/mcl-closing-1pm/
LOCATION:Myerstown Community Library\, 199 N. College Street\, Myerstown\, PA\, 17067\, United States
CATEGORIES:Lebanon County Libraries,Library Closure,Myerstown Community Library
ORGANIZER;CN="Sarah Bair":MAILTO:sbair@lclibs.org
END:VEVENT
BEGIN:VEVENT
DTSTART;TZID=America/New_York:20240524T103000
DTEND;TZID=America/New_York:20240524T113000
DTSTAMP:20260422T083330
CREATED:20240301T195818Z
LAST-MODIFIED:20251219T154154Z
UID:30609-1716546600-1716550200@myerstown.lclibs.org
SUMMARY:Preschool Story Time
DESCRIPTION:Join in the fun with stories\, songs\, and more that encourage development of Early Literacy skills in young children.
URL:https://myerstown.lclibs.org/event/preschool-story-time-2/2024-05-24/
LOCATION:Myerstown Community Library\, 199 N. College Street\, Myerstown\, PA\, 17067\, United States
CATEGORIES:Children,Myerstown Community Library,Storytime
ORGANIZER;CN="Sarah Bair":MAILTO:sbair@lclibs.org
END:VEVENT
BEGIN:VEVENT
DTSTART;TZID=America/New_York:20240521T183000
DTEND;TZID=America/New_York:20240521T200000
DTSTAMP:20260422T083330
CREATED:20240212T195749Z
LAST-MODIFIED:20251219T175112Z
UID:31839-1716316200-1716321600@myerstown.lclibs.org
SUMMARY:Library Board Meeting
DESCRIPTION:The Library Board meets on the third Tuesday of each month at 6:30pm. These meetings are open to the public and are subject to change without notice.
URL:https://myerstown.lclibs.org/event/library-board-meeting/2024-05-21/
LOCATION:Myerstown Community Library\, 199 N. College Street\, Myerstown\, PA\, 17067\, United States
CATEGORIES:Adult program,Board Meeting,Myerstown Community Library
ORGANIZER;CN="Sarah Bair":MAILTO:sbair@lclibs.org
END:VEVENT
BEGIN:VEVENT
DTSTART;TZID=America/New_York:20240520T153000
DTEND;TZID=America/New_York:20240520T163000
DTSTAMP:20260422T083330
CREATED:20240212T194638Z
LAST-MODIFIED:20251223T210033Z
UID:30429-1716219000-1716222600@myerstown.lclibs.org
SUMMARY:PokeMondays
DESCRIPTION:Bring your deck or devices to play. No previous experience required!
URL:https://myerstown.lclibs.org/event/pokemondays-2/2024-05-20/
LOCATION:Myerstown Community Library\, 199 N. College Street\, Myerstown\, PA\, 17067\, United States
CATEGORIES:After-School Club,Children,Myerstown Community Library
ORGANIZER;CN="Sarah Bair":MAILTO:sbair@lclibs.org
END:VEVENT
BEGIN:VEVENT
DTSTART;TZID=America/New_York:20240518T110000
DTEND;TZID=America/New_York:20240518T120000
DTSTAMP:20260422T083330
CREATED:20240301T200314Z
LAST-MODIFIED:20260130T192711Z
UID:30568-1716030000-1716033600@myerstown.lclibs.org
SUMMARY:STEAM Saturdays
DESCRIPTION:Registration required. Recommended for ages 8-14.\n\nSTEAM stands for Science Technology Engineering Art and Math! “STEAM” Saturdays allow children to partake in building challenges\, experiments\, robotics\, and more!
URL:https://myerstown.lclibs.org/event/steam-saturdays/2024-05-18/
LOCATION:Myerstown Community Library\, 199 N. College Street\, Myerstown\, PA\, 17067\, United States
CATEGORIES:Children,Myerstown Community Library,STEM
ORGANIZER;CN="Sarah Bair":MAILTO:sbair@lclibs.org
END:VEVENT
BEGIN:VEVENT
DTSTART;TZID=America/New_York:20240517T103000
DTEND;TZID=America/New_York:20240517T113000
DTSTAMP:20260422T083330
CREATED:20240301T195818Z
LAST-MODIFIED:20251219T154154Z
UID:30608-1715941800-1715945400@myerstown.lclibs.org
SUMMARY:Preschool Story Time
DESCRIPTION:Join in the fun with stories\, songs\, and more that encourage development of Early Literacy skills in young children.
URL:https://myerstown.lclibs.org/event/preschool-story-time-2/2024-05-17/
LOCATION:Myerstown Community Library\, 199 N. College Street\, Myerstown\, PA\, 17067\, United States
CATEGORIES:Children,Myerstown Community Library,Storytime
ORGANIZER;CN="Sarah Bair":MAILTO:sbair@lclibs.org
END:VEVENT
BEGIN:VEVENT
DTSTART;TZID=America/New_York:20240515T103000
DTEND;TZID=America/New_York:20240515T113000
DTSTAMP:20260422T083330
CREATED:20240212T192844Z
LAST-MODIFIED:20241223T214010Z
UID:30381-1715769000-1715772600@myerstown.lclibs.org
SUMMARY:Sit & Knit
DESCRIPTION:A place to talk\, ask questions\, and share your love of knitting\, crocheting and everything that goes with it.
URL:https://myerstown.lclibs.org/event/sit-knit-2/2024-05-15/
LOCATION:Myerstown Community Library\, 199 N. College Street\, Myerstown\, PA\, 17067\, United States
CATEGORIES:Adult program,Adults,Craft Program,Myerstown Community Library
ORGANIZER;CN="Sarah Bair":MAILTO:sbair@lclibs.org
END:VEVENT
BEGIN:VEVENT
DTSTART;TZID=America/New_York:20240514T160000
DTEND;TZID=America/New_York:20240514T170000
DTSTAMP:20260422T083330
CREATED:20240424T180624Z
LAST-MODIFIED:20240424T180624Z
UID:30812-1715702400-1715706000@myerstown.lclibs.org
SUMMARY:Book Peeps Book Club
DESCRIPTION:We have a new program beginning in May! Do you love the Magic Tree House Series? Are you seven or older? Do you like snacks and crafts?? Then this program is for you!\n\nJoin the Book Peeps Book Club on Tuesday\, 5/14 at 4pm!\n Psst… This program is with Miss Amy!! 
URL:https://myerstown.lclibs.org/event/book-peeps-book-club/
LOCATION:Myerstown Community Library\, 199 N. College Street\, Myerstown\, PA\, 17067\, United States
CATEGORIES:After-School Club,Book Club,Book Discussion,Children,Lebanon County Libraries,Myerstown Community Library
ORGANIZER;CN="Sarah Bair":MAILTO:sbair@lclibs.org
END:VEVENT
BEGIN:VEVENT
DTSTART;TZID=America/New_York:20240510T103000
DTEND;TZID=America/New_York:20240510T113000
DTSTAMP:20260422T083330
CREATED:20240301T195818Z
LAST-MODIFIED:20251219T154103Z
UID:30607-1715337000-1715340600@myerstown.lclibs.org
SUMMARY:Preschool Story Time
DESCRIPTION:Join in the fun with stories\, songs\, and more that encourage development of Early Literacy skills in young children.
URL:https://myerstown.lclibs.org/event/preschool-story-time-2/2024-05-10/
LOCATION:Myerstown Community Library\, 199 N. College Street\, Myerstown\, PA\, 17067\, United States
CATEGORIES:Children,Myerstown Community Library,Storytime
ORGANIZER;CN="Sarah Bair":MAILTO:sbair@lclibs.org
END:VEVENT
BEGIN:VEVENT
DTSTART;TZID=America/New_York:20240509T173000
DTEND;TZID=America/New_York:20240509T183000
DTSTAMP:20260422T083330
CREATED:20240212T200633Z
LAST-MODIFIED:20240212T200633Z
UID:30478-1715275800-1715279400@myerstown.lclibs.org
SUMMARY:Great Discussions
DESCRIPTION:Join us for Great Discussions in the humanities and a review of the annual Great Decisions publication.
URL:https://myerstown.lclibs.org/event/great-discussions/2024-05-09/
LOCATION:Myerstown Community Library\, 199 N. College Street\, Myerstown\, PA\, 17067\, United States
CATEGORIES:Adult program,Adults,Book Discussion,Civic Literacy,Interest Group,Myerstown Community Library
ORGANIZER;CN="Sarah Bair":MAILTO:sbair@lclibs.org
END:VEVENT
BEGIN:VEVENT
DTSTART;TZID=America/New_York:20240508T173000
DTEND;TZID=America/New_York:20240508T193000
DTSTAMP:20260422T083330
CREATED:20240429T191008Z
LAST-MODIFIED:20240429T191008Z
UID:30820-1715189400-1715196600@myerstown.lclibs.org
SUMMARY:ELCO Family Literacy Night
DESCRIPTION:Join Miss Sarah at Family Literacy Night at the ELCO Middle School! This event is open to all elementary students in the ELCO School District.
URL:https://myerstown.lclibs.org/event/elco-family-literacy-night/
LOCATION:ELCO Middle School\, 60 Evergreen Dr\, Myerstown\, PA\, 17067\, United States
CATEGORIES:Children,Civic Literacy,Community Event,Family Program,Lebanon County Library System,Myerstown Community Library
ORGANIZER;CN="Sarah Bair":MAILTO:sbair@lclibs.org
END:VEVENT
BEGIN:VEVENT
DTSTART;TZID=America/New_York:20240504T133000
DTEND;TZID=America/New_York:20240504T153000
DTSTAMP:20260422T083330
CREATED:20240301T212344Z
LAST-MODIFIED:20240424T170719Z
UID:30703-1714829400-1714836600@myerstown.lclibs.org
SUMMARY:Lace Lovers
DESCRIPTION:Crochet\, tatting\, bobbin lace\, teneriffe\, knit\, hairpin\, fillet and so much more! Join us if you want to learn about lace\, and have some frilly fun! \nNo experience necessary! For more information\, contact Karen Wattai at 717-813-6148.
URL:https://myerstown.lclibs.org/event/lace-lovers-2/2024-05-04/
LOCATION:Myerstown Community Library\, 199 N. College Street\, Myerstown\, PA\, 17067\, United States
CATEGORIES:Adult program,Adults,Community Event,Craft Program,Myerstown Community Library
ORGANIZER;CN="Sarah Bair":MAILTO:sbair@lclibs.org
END:VEVENT
BEGIN:VEVENT
DTSTART;TZID=America/New_York:20240504T100000
DTEND;TZID=America/New_York:20240504T140000
DTSTAMP:20260422T083330
CREATED:20240415T212046Z
LAST-MODIFIED:20240415T212046Z
UID:30775-1714816800-1714831200@myerstown.lclibs.org
SUMMARY:Let's Play Day
DESCRIPTION:Join the Myerstown Community Library at Saint Andrews Presbyterian Church in Lebanon\, PA for the second annual Let’s Play Day! Connected Together – Lebanon County is hosting this event and we are joining in the fun with other community organizations. There are a variety of events all day long! Don’t miss out!
URL:https://myerstown.lclibs.org/event/lets-play-day/
CATEGORIES:Children,Community Event,Craft Program,Family Program,Interest Group,Lebanon County Libraries,Myerstown Community Library
ORGANIZER;CN="Sarah Bair":MAILTO:sbair@lclibs.org
END:VEVENT
BEGIN:VEVENT
DTSTART;VALUE=DATE:20240504
DTEND;VALUE=DATE:20240505
DTSTAMP:20260422T083330
CREATED:20240415T205050Z
LAST-MODIFIED:20240415T205050Z
UID:30773-1714780800-1714867199@myerstown.lclibs.org
SUMMARY:Free Comic Book Day
DESCRIPTION:Visit the library during this all-day event! We have comic books for early readers through high school. Grab-and-go activities are available as well. While supplies last- don’t miss out!
URL:https://myerstown.lclibs.org/event/free-comic-book-day/
LOCATION:Myerstown Community Library\, 199 N. College Street\, Myerstown\, PA\, 17067\, United States
CATEGORIES:Children,Community Event,Myerstown Community Library,STEM,Teens
ORGANIZER;CN="Sarah Bair":MAILTO:sbair@lclibs.org
END:VEVENT
BEGIN:VEVENT
DTSTART;TZID=America/New_York:20240503T103000
DTEND;TZID=America/New_York:20240503T113000
DTSTAMP:20260422T083330
CREATED:20240301T195818Z
LAST-MODIFIED:20251219T154103Z
UID:30606-1714732200-1714735800@myerstown.lclibs.org
SUMMARY:Preschool Story Time
DESCRIPTION:Join in the fun with stories\, songs\, and more that encourage development of Early Literacy skills in young children.
URL:https://myerstown.lclibs.org/event/preschool-story-time-2/2024-05-03/
LOCATION:Myerstown Community Library\, 199 N. College Street\, Myerstown\, PA\, 17067\, United States
CATEGORIES:Children,Myerstown Community Library,Storytime
ORGANIZER;CN="Sarah Bair":MAILTO:sbair@lclibs.org
END:VEVENT
BEGIN:VEVENT
DTSTART;TZID=America/New_York:20240501T103000
DTEND;TZID=America/New_York:20240501T113000
DTSTAMP:20260422T083330
CREATED:20240212T192844Z
LAST-MODIFIED:20241223T214010Z
UID:30380-1714559400-1714563000@myerstown.lclibs.org
SUMMARY:Sit & Knit
DESCRIPTION:A place to talk\, ask questions\, and share your love of knitting\, crocheting and everything that goes with it.
URL:https://myerstown.lclibs.org/event/sit-knit-2/2024-05-01/
LOCATION:Myerstown Community Library\, 199 N. College Street\, Myerstown\, PA\, 17067\, United States
CATEGORIES:Adult program,Adults,Craft Program,Myerstown Community Library
ORGANIZER;CN="Sarah Bair":MAILTO:sbair@lclibs.org
END:VEVENT
BEGIN:VEVENT
DTSTART;TZID=America/New_York:20240429T130000
DTEND;TZID=America/New_York:20240429T140000
DTSTAMP:20260422T083330
CREATED:20240301T202428Z
LAST-MODIFIED:20240301T202715Z
UID:30593-1714395600-1714399200@myerstown.lclibs.org
SUMMARY:Pollinators and Native Plants with PSU Master Gardener Anita Mentzer
DESCRIPTION:Join us for a presentation about pollinators and native plants with PSU Master Gardener\, Anita Mentzer! Registration is requested. Space is limited! \nGive us a call to register at 717-866-2800. \nThis program is hosted at the library in conjunction with the Longwood Gardens Community Read Program and PSU Master Gardeners.
URL:https://myerstown.lclibs.org/event/pollinators-and-native-plants-with-psu-master-gardener-anita-mentzer/
LOCATION:Myerstown Community Library\, 199 N. College Street\, Myerstown\, PA\, 17067\, United States
CATEGORIES:Adult program,Adults,Community Event,Myerstown Community Library
ORGANIZER;CN="Sarah Bair":MAILTO:sbair@lclibs.org
END:VEVENT
BEGIN:VEVENT
DTSTART;TZID=America/New_York:20240427T110000
DTEND;TZID=America/New_York:20240427T120000
DTSTAMP:20260422T083330
CREATED:20240212T201719Z
LAST-MODIFIED:20260112T223900Z
UID:30501-1714215600-1714219200@myerstown.lclibs.org
SUMMARY:BYOB Book Club
DESCRIPTION:BYOB – Bring Your Own Book Club! We discuss our favorite books and current reads.
URL:https://myerstown.lclibs.org/event/byob-book-club/2024-04-27/
LOCATION:Myerstown Community Library\, 199 N. College Street\, Myerstown\, PA\, 17067\, United States
CATEGORIES:Adult program,Adults,Book Club,Book Discussion,Myerstown Community Library
ORGANIZER;CN="Sarah Bair":MAILTO:sbair@lclibs.org
END:VEVENT
BEGIN:VEVENT
DTSTART;TZID=America/New_York:20240426T103000
DTEND;TZID=America/New_York:20240426T113000
DTSTAMP:20260422T083330
CREATED:20240301T195818Z
LAST-MODIFIED:20251219T154103Z
UID:30605-1714127400-1714131000@myerstown.lclibs.org
SUMMARY:Preschool Story Time
DESCRIPTION:Join in the fun with stories\, songs\, and more that encourage development of Early Literacy skills in young children.
URL:https://myerstown.lclibs.org/event/preschool-story-time-2/2024-04-26/
LOCATION:Myerstown Community Library\, 199 N. College Street\, Myerstown\, PA\, 17067\, United States
CATEGORIES:Children,Myerstown Community Library,Storytime
ORGANIZER;CN="Sarah Bair":MAILTO:sbair@lclibs.org
END:VEVENT
BEGIN:VEVENT
DTSTART;TZID=America/New_York:20240422T110000
DTEND;TZID=America/New_York:20240422T120000
DTSTAMP:20260422T083330
CREATED:20240301T204123Z
LAST-MODIFIED:20240301T204230Z
UID:30597-1713783600-1713787200@myerstown.lclibs.org
SUMMARY:The Secret Garden presented by the Delaware Museum of Nature and Science
DESCRIPTION:The Delaware Museum of Nature and Science is coming to the library to present their program related to “The Secret Garden” by Calista Brill\, and based on the classic novel by Frances Hodgson Burnett. \nPlease register for the program in advance. Space is limited! Give us a call to register at 717-866-2800.
URL:https://myerstown.lclibs.org/event/pollinators-and-native-plants-with-psu-master-gardener-anita-mentzer-2/
LOCATION:Myerstown Community Library\, 199 N. College Street\, Myerstown\, PA\, 17067\, United States
CATEGORIES:Children,Community Event,Family Program,Myerstown Community Library,STEM,Storytime
ORGANIZER;CN="Sarah Bair":MAILTO:sbair@lclibs.org
END:VEVENT
END:VCALENDAR