BEGIN:VCALENDAR
VERSION:2.0
PRODID:-//Myerstown Community Library - ECPv6.15.17.1//NONSGML v1.0//EN
CALSCALE:GREGORIAN
METHOD:PUBLISH
X-ORIGINAL-URL:https://myerstown.lclibs.org
X-WR-CALDESC:Events for Myerstown Community Library
REFRESH-INTERVAL;VALUE=DURATION:PT1H
X-Robots-Tag:noindex
X-PUBLISHED-TTL:PT1H
BEGIN:VTIMEZONE
TZID:America/New_York
BEGIN:DAYLIGHT
TZOFFSETFROM:-0500
TZOFFSETTO:-0400
TZNAME:EDT
DTSTART:20250309T070000
END:DAYLIGHT
BEGIN:STANDARD
TZOFFSETFROM:-0400
TZOFFSETTO:-0500
TZNAME:EST
DTSTART:20251102T060000
END:STANDARD
BEGIN:DAYLIGHT
TZOFFSETFROM:-0500
TZOFFSETTO:-0400
TZNAME:EDT
DTSTART:20260308T070000
END:DAYLIGHT
BEGIN:STANDARD
TZOFFSETFROM:-0400
TZOFFSETTO:-0500
TZNAME:EST
DTSTART:20261101T060000
END:STANDARD
BEGIN:DAYLIGHT
TZOFFSETFROM:-0500
TZOFFSETTO:-0400
TZNAME:EDT
DTSTART:20270314T070000
END:DAYLIGHT
BEGIN:STANDARD
TZOFFSETFROM:-0400
TZOFFSETTO:-0500
TZNAME:EST
DTSTART:20271107T060000
END:STANDARD
END:VTIMEZONE
BEGIN:VEVENT
DTSTART;TZID=America/New_York:20260421T183000
DTEND;TZID=America/New_York:20260421T200000
DTSTAMP:20260421T095251
CREATED:20240212T195749Z
LAST-MODIFIED:20251219T175224Z
UID:30781-1776796200-1776801600@myerstown.lclibs.org
SUMMARY:Library Board Meeting
DESCRIPTION:The Library Board meets on the third Tuesday of each month at 6:30pm. These meetings are open to the public and are subject to change without notice.
URL:https://myerstown.lclibs.org/event/library-board-meeting/2026-04-21/
LOCATION:Myerstown Community Library\, 199 N. College Street\, Myerstown\, PA\, 17067\, United States
CATEGORIES:Adult program,Board Meeting,Myerstown Community Library
ORGANIZER;CN="Sarah Bair":MAILTO:sbair@lclibs.org
END:VEVENT
BEGIN:VEVENT
DTSTART;TZID=America/New_York:20260423T113000
DTEND;TZID=America/New_York:20260423T123000
DTSTAMP:20260421T095251
CREATED:20240731T150629Z
LAST-MODIFIED:20250903T204631Z
UID:32062-1776943800-1776947400@myerstown.lclibs.org
SUMMARY:Smart Start Storytime
DESCRIPTION:Smart Start Storytime is a free\, 30 minute program for babies birth through two years of age and their caregivers. No registration is required and siblings are welcome.
URL:https://myerstown.lclibs.org/event/smart-start-storytime/2026-04-23/
LOCATION:Myerstown Community Library\, 199 N. College Street\, Myerstown\, PA\, 17067\, United States
CATEGORIES:Children,Family Program,Lebanon County Libraries,Myerstown Community Library,Smart Start Storytime,Storytime
ATTACH;FMTTYPE=image/png:https://myerstown.lclibs.org/wp-content/uploads/sites/4/2024/07/Smart-Start-525-x-525-px-min.png
ORGANIZER;CN="Michelle Hawk":MAILTO:hawk@lclibs.org
END:VEVENT
BEGIN:VEVENT
DTSTART;TZID=America/New_York:20260423T173000
DTEND;TZID=America/New_York:20260423T183000
DTSTAMP:20260421T095251
CREATED:20251222T211152Z
LAST-MODIFIED:20260113T013037Z
UID:32459-1776965400-1776969000@myerstown.lclibs.org
SUMMARY:Explorations in Music
DESCRIPTION:Join us for discussions on genre\, influence\, and music culture! Topics change monthly. No registration required. Lead by Greg Underkoffler.
URL:https://myerstown.lclibs.org/event/explorations-in-music-2/2026-04-23/
LOCATION:Myerstown Community Library\, 199 N. College Street\, Myerstown\, PA\, 17067\, United States
CATEGORIES:Adults,Lebanon County Libraries,Music,Myerstown Community Library
ORGANIZER;CN="Sarah Bair":MAILTO:sbair@lclibs.org
END:VEVENT
BEGIN:VEVENT
DTSTART;TZID=America/New_York:20260424T103000
DTEND;TZID=America/New_York:20260424T113000
DTSTAMP:20260421T095251
CREATED:20240301T195818Z
LAST-MODIFIED:20251219T154432Z
UID:30814-1777026600-1777030200@myerstown.lclibs.org
SUMMARY:Preschool Story Time
DESCRIPTION:Join in the fun with stories\, songs\, and more that encourage development of Early Literacy skills in young children.
URL:https://myerstown.lclibs.org/event/preschool-story-time-2/2026-04-24/
LOCATION:Myerstown Community Library\, 199 N. College Street\, Myerstown\, PA\, 17067\, United States
CATEGORIES:Children,Myerstown Community Library,Storytime
ORGANIZER;CN="Sarah Bair":MAILTO:sbair@lclibs.org
END:VEVENT
BEGIN:VEVENT
DTSTART;TZID=America/New_York:20260424T180000
DTEND;TZID=America/New_York:20260424T200000
DTSTAMP:20260421T095251
CREATED:20260414T162926Z
LAST-MODIFIED:20260414T162926Z
UID:32722-1777053600-1777060800@myerstown.lclibs.org
SUMMARY:The Librarians Film Showing
DESCRIPTION:*FREE FILM SCREENING – AFTER HOURS EVENT*Honor libraries and their workers during National Library Week by watching this documentary!\nIn “The Librarians\,” library workers emerge as first responders in the fight for democracy and our First Amendment Rights. Librarians connect the dots from heated school and library board meetings nationwide to lay bare the underpinnings of extremism fueling the censorship efforts. Despite facing harassment\, threats\, and laws aimed at criminalizing their work – “The Librarians” is a rallying cry for the freedom to read. Call to register – space is limited! 717-866-2800
URL:https://myerstown.lclibs.org/event/the-librarians-film-showing/
LOCATION:Myerstown Community Library\, 199 N. College Street\, Myerstown\, PA\, 17067\, United States
CATEGORIES:Adults,Civic Literacy,Lebanon County Libraries,Movie,Myerstown Community Library
ORGANIZER;CN="Sarah Bair":MAILTO:sbair@lclibs.org
END:VEVENT
BEGIN:VEVENT
DTSTART;TZID=America/New_York:20260425T110000
DTEND;TZID=America/New_York:20260425T120000
DTSTAMP:20260421T095251
CREATED:20240212T201719Z
LAST-MODIFIED:20260112T224030Z
UID:30819-1777114800-1777118400@myerstown.lclibs.org
SUMMARY:BYOB Book Club
DESCRIPTION:BYOB – Bring Your Own Book Club! We discuss our favorite books and current reads.
URL:https://myerstown.lclibs.org/event/byob-book-club/2026-04-25/
LOCATION:Myerstown Community Library\, 199 N. College Street\, Myerstown\, PA\, 17067\, United States
CATEGORIES:Adult program,Adults,Book Club,Book Discussion,Myerstown Community Library
ORGANIZER;CN="Sarah Bair":MAILTO:sbair@lclibs.org
END:VEVENT
BEGIN:VEVENT
DTSTART;TZID=America/New_York:20260428T100000
DTEND;TZID=America/New_York:20260428T140000
DTSTAMP:20260421T095251
CREATED:20260327T201521Z
LAST-MODIFIED:20260327T201521Z
UID:32700-1777370400-1777384800@myerstown.lclibs.org
SUMMARY:Tech Help
DESCRIPTION:Bring your device to receive one-on-one assistance with completing an online job application\, setting up email\, & more! Call the library at 717-866-2800 to register for your half-hour session.
URL:https://myerstown.lclibs.org/event/tech-help-8/
LOCATION:Myerstown Community Library\, 199 N. College Street\, Myerstown\, PA\, 17067\, United States
CATEGORIES:Adults,Computer Class,FITT Class,Lebanon County Libraries,Myerstown Community Library,Technology
ATTACH;FMTTYPE=image/png:https://myerstown.lclibs.org/wp-content/uploads/sites/4/2025/08/FITT-logo-square-min.png
ORGANIZER;CN="Michelle Hawk":MAILTO:hawk@lclibs.org
END:VEVENT
BEGIN:VEVENT
DTSTART;TZID=America/New_York:20260429T160000
DTEND;TZID=America/New_York:20260429T180000
DTSTAMP:20260421T095251
CREATED:20260414T163502Z
LAST-MODIFIED:20260414T163502Z
UID:32724-1777478400-1777485600@myerstown.lclibs.org
SUMMARY:Go Green\, Ride On Transit!
DESCRIPTION:Celebrate Earth Day at the library with Lebanon Transit\, Myerstown Vitality Partnership (MVP) and Chick-fil-a! Stop by to view a map of the NEW proposed fixed bus route through Eastern Lebanon County (ELCO)\, grab a chicken sandwich\, and take a tour of a Lebanon Transit bus!\n\nFree goodie bags and ice cream courtesy of Lebanon Transit will also be available while supplies last! Don’t miss out – this event is open to all ages and registration is not required. Join us\, Wednesday\, April 29 from 4 pm – 6pm!
URL:https://myerstown.lclibs.org/event/go-green-ride-on-transit/
LOCATION:Myerstown Community Library\, 199 N. College Street\, Myerstown\, PA\, 17067\, United States
CATEGORIES:Adults,Children,Community Event,Family Program,Food,Games,Lebanon County Libraries,Myerstown Community Library,Teens,Tweens
ORGANIZER;CN="Sarah Bair":MAILTO:sbair@lclibs.org
END:VEVENT
BEGIN:VEVENT
DTSTART;TZID=America/New_York:20260430T113000
DTEND;TZID=America/New_York:20260430T123000
DTSTAMP:20260421T095251
CREATED:20240731T150629Z
LAST-MODIFIED:20250903T204632Z
UID:32063-1777548600-1777552200@myerstown.lclibs.org
SUMMARY:Smart Start Storytime
DESCRIPTION:Smart Start Storytime is a free\, 30 minute program for babies birth through two years of age and their caregivers. No registration is required and siblings are welcome.
URL:https://myerstown.lclibs.org/event/smart-start-storytime/2026-04-30/
LOCATION:Myerstown Community Library\, 199 N. College Street\, Myerstown\, PA\, 17067\, United States
CATEGORIES:Children,Family Program,Lebanon County Libraries,Myerstown Community Library,Smart Start Storytime,Storytime
ATTACH;FMTTYPE=image/png:https://myerstown.lclibs.org/wp-content/uploads/sites/4/2024/07/Smart-Start-525-x-525-px-min.png
ORGANIZER;CN="Michelle Hawk":MAILTO:hawk@lclibs.org
END:VEVENT
BEGIN:VEVENT
DTSTART;TZID=America/New_York:20260501T103000
DTEND;TZID=America/New_York:20260501T113000
DTSTAMP:20260421T095251
CREATED:20240301T195818Z
LAST-MODIFIED:20251219T154432Z
UID:30826-1777631400-1777635000@myerstown.lclibs.org
SUMMARY:Preschool Story Time
DESCRIPTION:Join in the fun with stories\, songs\, and more that encourage development of Early Literacy skills in young children.
URL:https://myerstown.lclibs.org/event/preschool-story-time-2/2026-05-01/
LOCATION:Myerstown Community Library\, 199 N. College Street\, Myerstown\, PA\, 17067\, United States
CATEGORIES:Children,Myerstown Community Library,Storytime
ORGANIZER;CN="Sarah Bair":MAILTO:sbair@lclibs.org
END:VEVENT
BEGIN:VEVENT
DTSTART;VALUE=DATE:20260502
DTEND;VALUE=DATE:20260503
DTSTAMP:20260421T095251
CREATED:20260409T153145Z
LAST-MODIFIED:20260409T153145Z
UID:32715-1777680000-1777766399@myerstown.lclibs.org
SUMMARY:Free Comic Book Day
DESCRIPTION:Visit the library during this all-day event! We have comic books for early readers through high school. Grab-and-go activities are available as well. While supplies last- don’t miss out!
URL:https://myerstown.lclibs.org/event/free-comic-book-day-2/
LOCATION:Myerstown Community Library\, 199 N. College Street\, Myerstown\, PA\, 17067\, United States
CATEGORIES:Adults,Children,Community Event,Lebanon County Libraries,Myerstown Community Library,Teens,Tweens
ORGANIZER;CN="Sarah Bair":MAILTO:sbair@lclibs.org
END:VEVENT
BEGIN:VEVENT
DTSTART;TZID=America/New_York:20260504T153000
DTEND;TZID=America/New_York:20260504T163000
DTSTAMP:20260421T095251
CREATED:20251219T170131Z
LAST-MODIFIED:20251219T170131Z
UID:32306-1777908600-1777912200@myerstown.lclibs.org
SUMMARY:BYOB Teen+
DESCRIPTION:Are you into YA books and graphic novels? Do you want to chat about what you are reading? Join us for a fun Bring Your Own Book\, book club! Open to grades 9th and up. No registration required. Themes change monthly\, or come prepared to discuss your most recent read!
URL:https://myerstown.lclibs.org/event/byob-teen/2026-05-04/
LOCATION:Myerstown Community Library\, 199 N. College Street\, Myerstown\, PA\, 17067\, United States
CATEGORIES:After-School Club,Book Club,Book Discussion,Lebanon County Libraries,Myerstown Community Library,Teens
ORGANIZER;CN="Sarah Bair":MAILTO:sbair@lclibs.org
END:VEVENT
BEGIN:VEVENT
DTSTART;TZID=America/New_York:20260506T103000
DTEND;TZID=America/New_York:20260506T113000
DTSTAMP:20260421T095251
CREATED:20240212T192844Z
LAST-MODIFIED:20241223T214144Z
UID:30829-1778063400-1778067000@myerstown.lclibs.org
SUMMARY:Sit & Knit
DESCRIPTION:A place to talk\, ask questions\, and share your love of knitting\, crocheting and everything that goes with it.
URL:https://myerstown.lclibs.org/event/sit-knit-2/2026-05-06/
LOCATION:Myerstown Community Library\, 199 N. College Street\, Myerstown\, PA\, 17067\, United States
CATEGORIES:Adult program,Adults,Craft Program,Myerstown Community Library
ORGANIZER;CN="Sarah Bair":MAILTO:sbair@lclibs.org
END:VEVENT
BEGIN:VEVENT
DTSTART;TZID=America/New_York:20260506T130000
DTEND;TZID=America/New_York:20260506T150000
DTSTAMP:20260421T095251
CREATED:20251222T191440Z
LAST-MODIFIED:20251222T191440Z
UID:32483-1778072400-1778079600@myerstown.lclibs.org
SUMMARY:Lace Lovers
DESCRIPTION:A place to talk\, ask questions\, and share your love of lace\, knitting\, crocheting and everything that goes with it. No registration required!
URL:https://myerstown.lclibs.org/event/lace-lovers-3/2026-05-06/
LOCATION:Myerstown Community Library\, 199 N. College Street\, Myerstown\, PA\, 17067\, United States
CATEGORIES:Adults,Craft Program,Lebanon County Libraries,Myerstown Community Library
ORGANIZER;CN="Sarah Bair":MAILTO:sbair@lclibs.org
END:VEVENT
BEGIN:VEVENT
DTSTART;TZID=America/New_York:20260507T113000
DTEND;TZID=America/New_York:20260507T123000
DTSTAMP:20260421T095251
CREATED:20240731T150629Z
LAST-MODIFIED:20250903T204632Z
UID:32064-1778153400-1778157000@myerstown.lclibs.org
SUMMARY:Smart Start Storytime
DESCRIPTION:Smart Start Storytime is a free\, 30 minute program for babies birth through two years of age and their caregivers. No registration is required and siblings are welcome.
URL:https://myerstown.lclibs.org/event/smart-start-storytime/2026-05-07/
LOCATION:Myerstown Community Library\, 199 N. College Street\, Myerstown\, PA\, 17067\, United States
CATEGORIES:Children,Family Program,Lebanon County Libraries,Myerstown Community Library,Smart Start Storytime,Storytime
ATTACH;FMTTYPE=image/png:https://myerstown.lclibs.org/wp-content/uploads/sites/4/2024/07/Smart-Start-525-x-525-px-min.png
ORGANIZER;CN="Michelle Hawk":MAILTO:hawk@lclibs.org
END:VEVENT
BEGIN:VEVENT
DTSTART;TZID=America/New_York:20260508T103000
DTEND;TZID=America/New_York:20260508T113000
DTSTAMP:20260421T095251
CREATED:20240301T195818Z
LAST-MODIFIED:20251219T154432Z
UID:30831-1778236200-1778239800@myerstown.lclibs.org
SUMMARY:Preschool Story Time
DESCRIPTION:Join in the fun with stories\, songs\, and more that encourage development of Early Literacy skills in young children.
URL:https://myerstown.lclibs.org/event/preschool-story-time-2/2026-05-08/
LOCATION:Myerstown Community Library\, 199 N. College Street\, Myerstown\, PA\, 17067\, United States
CATEGORIES:Children,Myerstown Community Library,Storytime
ORGANIZER;CN="Sarah Bair":MAILTO:sbair@lclibs.org
END:VEVENT
BEGIN:VEVENT
DTSTART;TZID=America/New_York:20260511T153000
DTEND;TZID=America/New_York:20260511T163000
DTSTAMP:20260421T095251
CREATED:20251219T170935Z
LAST-MODIFIED:20260112T222609Z
UID:32329-1778513400-1778517000@myerstown.lclibs.org
SUMMARY:BYOB Jr.
DESCRIPTION:Are you a chapter book reader who wants to chat about what you’ve been reading lately? Join us for cookies and conversation at the library! Bring Your Own Book and be ready to share. No registration required.
URL:https://myerstown.lclibs.org/event/byob-jr/2026-05-11/
LOCATION:Myerstown Community Library\, 199 N. College Street\, Myerstown\, PA\, 17067\, United States
CATEGORIES:After-School Club,Book Club,Book Discussion,Lebanon County Libraries,Myerstown Community Library,Tweens
ORGANIZER;CN="Sarah Bair":MAILTO:sbair@lclibs.org
END:VEVENT
BEGIN:VEVENT
DTSTART;TZID=America/New_York:20260514T113000
DTEND;TZID=America/New_York:20260514T123000
DTSTAMP:20260421T095251
CREATED:20240731T150629Z
LAST-MODIFIED:20250903T204632Z
UID:32065-1778758200-1778761800@myerstown.lclibs.org
SUMMARY:Smart Start Storytime
DESCRIPTION:Smart Start Storytime is a free\, 30 minute program for babies birth through two years of age and their caregivers. No registration is required and siblings are welcome.
URL:https://myerstown.lclibs.org/event/smart-start-storytime/2026-05-14/
LOCATION:Myerstown Community Library\, 199 N. College Street\, Myerstown\, PA\, 17067\, United States
CATEGORIES:Children,Family Program,Lebanon County Libraries,Myerstown Community Library,Smart Start Storytime,Storytime
ATTACH;FMTTYPE=image/png:https://myerstown.lclibs.org/wp-content/uploads/sites/4/2024/07/Smart-Start-525-x-525-px-min.png
ORGANIZER;CN="Michelle Hawk":MAILTO:hawk@lclibs.org
END:VEVENT
BEGIN:VEVENT
DTSTART;TZID=America/New_York:20260514T173000
DTEND;TZID=America/New_York:20260514T183000
DTSTAMP:20260421T095251
CREATED:20240212T200633Z
LAST-MODIFIED:20240212T200633Z
UID:30832-1778779800-1778783400@myerstown.lclibs.org
SUMMARY:Great Discussions
DESCRIPTION:Join us for Great Discussions in the humanities and a review of the annual Great Decisions publication.
URL:https://myerstown.lclibs.org/event/great-discussions/2026-05-14/
LOCATION:Myerstown Community Library\, 199 N. College Street\, Myerstown\, PA\, 17067\, United States
CATEGORIES:Adult program,Adults,Book Discussion,Civic Literacy,Interest Group,Myerstown Community Library
ORGANIZER;CN="Sarah Bair":MAILTO:sbair@lclibs.org
END:VEVENT
BEGIN:VEVENT
DTSTART;TZID=America/New_York:20260515T103000
DTEND;TZID=America/New_York:20260515T113000
DTSTAMP:20260421T095251
CREATED:20240301T195818Z
LAST-MODIFIED:20251219T154432Z
UID:30834-1778841000-1778844600@myerstown.lclibs.org
SUMMARY:Preschool Story Time
DESCRIPTION:Join in the fun with stories\, songs\, and more that encourage development of Early Literacy skills in young children.
URL:https://myerstown.lclibs.org/event/preschool-story-time-2/2026-05-15/
LOCATION:Myerstown Community Library\, 199 N. College Street\, Myerstown\, PA\, 17067\, United States
CATEGORIES:Children,Myerstown Community Library,Storytime
ORGANIZER;CN="Sarah Bair":MAILTO:sbair@lclibs.org
END:VEVENT
BEGIN:VEVENT
DTSTART;TZID=America/New_York:20260516T120000
DTEND;TZID=America/New_York:20260516T150000
DTSTAMP:20260421T095251
CREATED:20260130T185732Z
LAST-MODIFIED:20260130T185732Z
UID:32649-1778932800-1778943600@myerstown.lclibs.org
SUMMARY:Family STEAM Day!
DESCRIPTION:Join us for a fun day of STEAM stations with the whole family! Drop in for an activity or two\, or stay the whole afternoon. This event is part of the WORLDWIDE Remake Learning Days festival!\nSTEAM stands for Science\, Technology\, Engineering\, Art\, and Math. Our STEAM stations will have families competing to create paper airplanes\, playing dice math games\, constructing marshmallow towers\, and so much more!\nRegistration is REQUIRED. Give the library a call to sign-up! See you there! 717-866-2800
URL:https://myerstown.lclibs.org/event/family-steam-day/
LOCATION:Myerstown Community Library\, 199 N. College Street\, Myerstown\, PA\, 17067\, United States
CATEGORIES:Children,Community Event,Family Program,Games,Lebanon County Libraries,Maker Space,Myerstown Community Library,STEM,Tweens
ORGANIZER;CN="Sarah Bair":MAILTO:sbair@lclibs.org
END:VEVENT
BEGIN:VEVENT
DTSTART;TZID=America/New_York:20260518T153000
DTEND;TZID=America/New_York:20260518T163000
DTSTAMP:20260421T095251
CREATED:20240212T194638Z
LAST-MODIFIED:20251223T210117Z
UID:30835-1779118200-1779121800@myerstown.lclibs.org
SUMMARY:PokeMondays
DESCRIPTION:Bring your deck or devices to play. No previous experience required!
URL:https://myerstown.lclibs.org/event/pokemondays-2/2026-05-18/
LOCATION:Myerstown Community Library\, 199 N. College Street\, Myerstown\, PA\, 17067\, United States
CATEGORIES:After-School Club,Children,Myerstown Community Library
ORGANIZER;CN="Sarah Bair":MAILTO:sbair@lclibs.org
END:VEVENT
BEGIN:VEVENT
DTSTART;VALUE=DATE:20260519
DTEND;VALUE=DATE:20260520
DTSTAMP:20260421T095251
CREATED:20260112T220600Z
LAST-MODIFIED:20260112T220600Z
UID:32522-1779148800-1779235199@myerstown.lclibs.org
SUMMARY:MCL CLOSED
DESCRIPTION:
URL:https://myerstown.lclibs.org/event/mcl-closed-8/2026-05-19/
LOCATION:Myerstown Community Library\, 199 N. College Street\, Myerstown\, PA\, 17067\, United States
CATEGORIES:Lebanon County Libraries,Library Closure,Myerstown Community Library
ORGANIZER;CN="Sarah Bair":MAILTO:sbair@lclibs.org
END:VEVENT
BEGIN:VEVENT
DTSTART;TZID=America/New_York:20260520T103000
DTEND;TZID=America/New_York:20260520T113000
DTSTAMP:20260421T095251
CREATED:20240212T192844Z
LAST-MODIFIED:20241223T214145Z
UID:30917-1779273000-1779276600@myerstown.lclibs.org
SUMMARY:Sit & Knit
DESCRIPTION:A place to talk\, ask questions\, and share your love of knitting\, crocheting and everything that goes with it.
URL:https://myerstown.lclibs.org/event/sit-knit-2/2026-05-20/
LOCATION:Myerstown Community Library\, 199 N. College Street\, Myerstown\, PA\, 17067\, United States
CATEGORIES:Adult program,Adults,Craft Program,Myerstown Community Library
ORGANIZER;CN="Sarah Bair":MAILTO:sbair@lclibs.org
END:VEVENT
BEGIN:VEVENT
DTSTART;TZID=America/New_York:20260520T130000
DTEND;TZID=America/New_York:20260520T150000
DTSTAMP:20260421T095251
CREATED:20251222T192732Z
LAST-MODIFIED:20251222T192732Z
UID:32392-1779282000-1779289200@myerstown.lclibs.org
SUMMARY:Lace Lovers
DESCRIPTION:A place to talk\, ask questions\, and share your love of lace\, knitting\, crocheting and everything that goes with it. No registration required!
URL:https://myerstown.lclibs.org/event/lace-lovers-4/2026-05-20/
LOCATION:Myerstown Community Library\, 199 N. College Street\, Myerstown\, PA\, 17067\, United States
CATEGORIES:Adults,Craft Program,Lebanon County Libraries,Myerstown Community Library
ORGANIZER;CN="Sarah Bair":MAILTO:sbair@lclibs.org
END:VEVENT
BEGIN:VEVENT
DTSTART;TZID=America/New_York:20260521T113000
DTEND;TZID=America/New_York:20260521T123000
DTSTAMP:20260421T095251
CREATED:20240731T150629Z
LAST-MODIFIED:20250903T204632Z
UID:32066-1779363000-1779366600@myerstown.lclibs.org
SUMMARY:Smart Start Storytime
DESCRIPTION:Smart Start Storytime is a free\, 30 minute program for babies birth through two years of age and their caregivers. No registration is required and siblings are welcome.
URL:https://myerstown.lclibs.org/event/smart-start-storytime/2026-05-21/
LOCATION:Myerstown Community Library\, 199 N. College Street\, Myerstown\, PA\, 17067\, United States
CATEGORIES:Children,Family Program,Lebanon County Libraries,Myerstown Community Library,Smart Start Storytime,Storytime
ATTACH;FMTTYPE=image/png:https://myerstown.lclibs.org/wp-content/uploads/sites/4/2024/07/Smart-Start-525-x-525-px-min.png
ORGANIZER;CN="Michelle Hawk":MAILTO:hawk@lclibs.org
END:VEVENT
BEGIN:VEVENT
DTSTART;TZID=America/New_York:20260521T170000
DTEND;TZID=America/New_York:20260521T190000
DTSTAMP:20260421T095251
CREATED:20241003T014859Z
LAST-MODIFIED:20250411T183838Z
UID:31266-1779382800-1779390000@myerstown.lclibs.org
SUMMARY:Chess Club
DESCRIPTION:Join us for FREE play and chess lessons for improving players!\nChess Club is open to ALL AGES and playing ability! No registration required!\nAll boards and sets are provided for you and this club is completely FREE!\nFor questions\, contact Michael Cook at myerstownchess@gmail.com or text/call 717-813-1427
URL:https://myerstown.lclibs.org/event/chess-club/2026-05-21/
LOCATION:Myerstown Community Library\, 199 N. College Street\, Myerstown\, PA\, 17067\, United States
CATEGORIES:Adults,Children,Community Event,Family Program,Games,Lebanon County Libraries,Lebanon County Library System,Myerstown Community Library,Teens,Tweens
ORGANIZER;CN="Sarah Bair":MAILTO:sbair@lclibs.org
END:VEVENT
BEGIN:VEVENT
DTSTART;TZID=America/New_York:20260522T103000
DTEND;TZID=America/New_York:20260522T113000
DTSTAMP:20260421T095251
CREATED:20240301T195818Z
LAST-MODIFIED:20251219T154432Z
UID:30837-1779445800-1779449400@myerstown.lclibs.org
SUMMARY:Preschool Story Time
DESCRIPTION:Join in the fun with stories\, songs\, and more that encourage development of Early Literacy skills in young children.
URL:https://myerstown.lclibs.org/event/preschool-story-time-2/2026-05-22/
LOCATION:Myerstown Community Library\, 199 N. College Street\, Myerstown\, PA\, 17067\, United States
CATEGORIES:Children,Myerstown Community Library,Storytime
ORGANIZER;CN="Sarah Bair":MAILTO:sbair@lclibs.org
END:VEVENT
BEGIN:VEVENT
DTSTART;VALUE=DATE:20260525
DTEND;VALUE=DATE:20260526
DTSTAMP:20260421T095251
CREATED:20260112T220600Z
LAST-MODIFIED:20260112T220600Z
UID:32523-1779667200-1779753599@myerstown.lclibs.org
SUMMARY:MCL CLOSED
DESCRIPTION:
URL:https://myerstown.lclibs.org/event/mcl-closed-8/2026-05-25/
LOCATION:Myerstown Community Library\, 199 N. College Street\, Myerstown\, PA\, 17067\, United States
CATEGORIES:Lebanon County Libraries,Library Closure,Myerstown Community Library
ORGANIZER;CN="Sarah Bair":MAILTO:sbair@lclibs.org
END:VEVENT
BEGIN:VEVENT
DTSTART;TZID=America/New_York:20260528T173000
DTEND;TZID=America/New_York:20260528T183000
DTSTAMP:20260421T095251
CREATED:20251222T211152Z
LAST-MODIFIED:20260113T013037Z
UID:32460-1779989400-1779993000@myerstown.lclibs.org
SUMMARY:Explorations in Music
DESCRIPTION:Join us for discussions on genre\, influence\, and music culture! Topics change monthly. No registration required. Lead by Greg Underkoffler.
URL:https://myerstown.lclibs.org/event/explorations-in-music-2/2026-05-28/
LOCATION:Myerstown Community Library\, 199 N. College Street\, Myerstown\, PA\, 17067\, United States
CATEGORIES:Adults,Lebanon County Libraries,Music,Myerstown Community Library
ORGANIZER;CN="Sarah Bair":MAILTO:sbair@lclibs.org
END:VEVENT
END:VCALENDAR