BEGIN:VCALENDAR
VERSION:2.0
PRODID:-//Myerstown Community Library - ECPv6.15.17.1//NONSGML v1.0//EN
CALSCALE:GREGORIAN
METHOD:PUBLISH
X-WR-CALNAME:Myerstown Community Library
X-ORIGINAL-URL:https://myerstown.lclibs.org
X-WR-CALDESC:Events for Myerstown Community Library
REFRESH-INTERVAL;VALUE=DURATION:PT1H
X-Robots-Tag:noindex
X-PUBLISHED-TTL:PT1H
BEGIN:VTIMEZONE
TZID:America/New_York
BEGIN:DAYLIGHT
TZOFFSETFROM:-0500
TZOFFSETTO:-0400
TZNAME:EDT
DTSTART:20250309T070000
END:DAYLIGHT
BEGIN:STANDARD
TZOFFSETFROM:-0400
TZOFFSETTO:-0500
TZNAME:EST
DTSTART:20251102T060000
END:STANDARD
BEGIN:DAYLIGHT
TZOFFSETFROM:-0500
TZOFFSETTO:-0400
TZNAME:EDT
DTSTART:20260308T070000
END:DAYLIGHT
BEGIN:STANDARD
TZOFFSETFROM:-0400
TZOFFSETTO:-0500
TZNAME:EST
DTSTART:20261101T060000
END:STANDARD
BEGIN:DAYLIGHT
TZOFFSETFROM:-0500
TZOFFSETTO:-0400
TZNAME:EDT
DTSTART:20270314T070000
END:DAYLIGHT
BEGIN:STANDARD
TZOFFSETFROM:-0400
TZOFFSETTO:-0500
TZNAME:EST
DTSTART:20271107T060000
END:STANDARD
END:VTIMEZONE
BEGIN:VEVENT
DTSTART;VALUE=DATE:20261103
DTEND;VALUE=DATE:20261104
DTSTAMP:20260421T081135
CREATED:20260112T220600Z
LAST-MODIFIED:20260112T220600Z
UID:32528-1793664000-1793750399@myerstown.lclibs.org
SUMMARY:MCL CLOSED
DESCRIPTION:
URL:https://myerstown.lclibs.org/event/mcl-closed-8/2026-11-03/
LOCATION:Myerstown Community Library\, 199 N. College Street\, Myerstown\, PA\, 17067\, United States
CATEGORIES:Lebanon County Libraries,Library Closure,Myerstown Community Library
ORGANIZER;CN="Sarah Bair":MAILTO:sbair@lclibs.org
END:VEVENT
BEGIN:VEVENT
DTSTART;TZID=America/New_York:20261104T103000
DTEND;TZID=America/New_York:20261104T113000
DTSTAMP:20260421T081135
CREATED:20240212T192844Z
LAST-MODIFIED:20241223T214145Z
UID:31349-1793788200-1793791800@myerstown.lclibs.org
SUMMARY:Sit & Knit
DESCRIPTION:A place to talk\, ask questions\, and share your love of knitting\, crocheting and everything that goes with it.
URL:https://myerstown.lclibs.org/event/sit-knit-2/2026-11-04/
LOCATION:Myerstown Community Library\, 199 N. College Street\, Myerstown\, PA\, 17067\, United States
CATEGORIES:Adult program,Adults,Craft Program,Myerstown Community Library
ORGANIZER;CN="Sarah Bair":MAILTO:sbair@lclibs.org
END:VEVENT
BEGIN:VEVENT
DTSTART;TZID=America/New_York:20261104T130000
DTEND;TZID=America/New_York:20261104T150000
DTSTAMP:20260421T081135
CREATED:20251222T191440Z
LAST-MODIFIED:20251222T191440Z
UID:32489-1793797200-1793804400@myerstown.lclibs.org
SUMMARY:Lace Lovers
DESCRIPTION:A place to talk\, ask questions\, and share your love of lace\, knitting\, crocheting and everything that goes with it. No registration required!
URL:https://myerstown.lclibs.org/event/lace-lovers-3/2026-11-04/
LOCATION:Myerstown Community Library\, 199 N. College Street\, Myerstown\, PA\, 17067\, United States
CATEGORIES:Adults,Craft Program,Lebanon County Libraries,Myerstown Community Library
ORGANIZER;CN="Sarah Bair":MAILTO:sbair@lclibs.org
END:VEVENT
BEGIN:VEVENT
DTSTART;TZID=America/New_York:20261106T103000
DTEND;TZID=America/New_York:20261106T113000
DTSTAMP:20260421T081135
CREATED:20240301T195818Z
LAST-MODIFIED:20251219T154514Z
UID:31353-1793961000-1793964600@myerstown.lclibs.org
SUMMARY:Preschool Story Time
DESCRIPTION:Join in the fun with stories\, songs\, and more that encourage development of Early Literacy skills in young children.
URL:https://myerstown.lclibs.org/event/preschool-story-time-2/2026-11-06/
LOCATION:Myerstown Community Library\, 199 N. College Street\, Myerstown\, PA\, 17067\, United States
CATEGORIES:Children,Myerstown Community Library,Storytime
ORGANIZER;CN="Sarah Bair":MAILTO:sbair@lclibs.org
END:VEVENT
BEGIN:VEVENT
DTSTART;TZID=America/New_York:20261109T153000
DTEND;TZID=America/New_York:20261109T163000
DTSTAMP:20260421T081135
CREATED:20251219T170935Z
LAST-MODIFIED:20260112T222609Z
UID:32335-1794238200-1794241800@myerstown.lclibs.org
SUMMARY:BYOB Jr.
DESCRIPTION:Are you a chapter book reader who wants to chat about what you’ve been reading lately? Join us for cookies and conversation at the library! Bring Your Own Book and be ready to share. No registration required.
URL:https://myerstown.lclibs.org/event/byob-jr/2026-11-09/
LOCATION:Myerstown Community Library\, 199 N. College Street\, Myerstown\, PA\, 17067\, United States
CATEGORIES:After-School Club,Book Club,Book Discussion,Lebanon County Libraries,Myerstown Community Library,Tweens
ORGANIZER;CN="Sarah Bair":MAILTO:sbair@lclibs.org
END:VEVENT
BEGIN:VEVENT
DTSTART;TZID=America/New_York:20261112T173000
DTEND;TZID=America/New_York:20261112T183000
DTSTAMP:20260421T081135
CREATED:20240212T200633Z
LAST-MODIFIED:20240212T200633Z
UID:31354-1794504600-1794508200@myerstown.lclibs.org
SUMMARY:Great Discussions
DESCRIPTION:Join us for Great Discussions in the humanities and a review of the annual Great Decisions publication.
URL:https://myerstown.lclibs.org/event/great-discussions/2026-11-12/
LOCATION:Myerstown Community Library\, 199 N. College Street\, Myerstown\, PA\, 17067\, United States
CATEGORIES:Adult program,Adults,Book Discussion,Civic Literacy,Interest Group,Myerstown Community Library
ORGANIZER;CN="Sarah Bair":MAILTO:sbair@lclibs.org
END:VEVENT
BEGIN:VEVENT
DTSTART;TZID=America/New_York:20261113T103000
DTEND;TZID=America/New_York:20261113T113000
DTSTAMP:20260421T081135
CREATED:20240301T195818Z
LAST-MODIFIED:20251219T154514Z
UID:31355-1794565800-1794569400@myerstown.lclibs.org
SUMMARY:Preschool Story Time
DESCRIPTION:Join in the fun with stories\, songs\, and more that encourage development of Early Literacy skills in young children.
URL:https://myerstown.lclibs.org/event/preschool-story-time-2/2026-11-13/
LOCATION:Myerstown Community Library\, 199 N. College Street\, Myerstown\, PA\, 17067\, United States
CATEGORIES:Children,Myerstown Community Library,Storytime
ORGANIZER;CN="Sarah Bair":MAILTO:sbair@lclibs.org
END:VEVENT
BEGIN:VEVENT
DTSTART;TZID=America/New_York:20261116T153000
DTEND;TZID=America/New_York:20261116T163000
DTSTAMP:20260421T081135
CREATED:20240212T194638Z
LAST-MODIFIED:20251223T210123Z
UID:31356-1794843000-1794846600@myerstown.lclibs.org
SUMMARY:PokeMondays
DESCRIPTION:Bring your deck or devices to play. No previous experience required!
URL:https://myerstown.lclibs.org/event/pokemondays-2/2026-11-16/
LOCATION:Myerstown Community Library\, 199 N. College Street\, Myerstown\, PA\, 17067\, United States
CATEGORIES:After-School Club,Children,Myerstown Community Library
ORGANIZER;CN="Sarah Bair":MAILTO:sbair@lclibs.org
END:VEVENT
BEGIN:VEVENT
DTSTART;TZID=America/New_York:20261117T183000
DTEND;TZID=America/New_York:20261117T200000
DTSTAMP:20260421T081135
CREATED:20240212T195749Z
LAST-MODIFIED:20251219T175237Z
UID:31357-1794940200-1794945600@myerstown.lclibs.org
SUMMARY:Library Board Meeting
DESCRIPTION:The Library Board meets on the third Tuesday of each month at 6:30pm. These meetings are open to the public and are subject to change without notice.
URL:https://myerstown.lclibs.org/event/library-board-meeting/2026-11-17/
LOCATION:Myerstown Community Library\, 199 N. College Street\, Myerstown\, PA\, 17067\, United States
CATEGORIES:Adult program,Board Meeting,Myerstown Community Library
ORGANIZER;CN="Sarah Bair":MAILTO:sbair@lclibs.org
END:VEVENT
BEGIN:VEVENT
DTSTART;TZID=America/New_York:20261118T103000
DTEND;TZID=America/New_York:20261118T113000
DTSTAMP:20260421T081135
CREATED:20240212T192844Z
LAST-MODIFIED:20240212T192844Z
UID:31391-1794997800-1795001400@myerstown.lclibs.org
SUMMARY:Sit & Knit
DESCRIPTION:A place to talk\, ask questions\, and share your love of knitting\, crocheting and everything that goes with it.
URL:https://myerstown.lclibs.org/event/sit-knit-2/2026-11-18/
LOCATION:Myerstown Community Library\, 199 N. College Street\, Myerstown\, PA\, 17067\, United States
CATEGORIES:Adult program,Adults,Craft Program,Myerstown Community Library
ORGANIZER;CN="Sarah Bair":MAILTO:sbair@lclibs.org
END:VEVENT
BEGIN:VEVENT
DTSTART;TZID=America/New_York:20261118T130000
DTEND;TZID=America/New_York:20261118T150000
DTSTAMP:20260421T081135
CREATED:20251222T192732Z
LAST-MODIFIED:20251222T192732Z
UID:32398-1795006800-1795014000@myerstown.lclibs.org
SUMMARY:Lace Lovers
DESCRIPTION:A place to talk\, ask questions\, and share your love of lace\, knitting\, crocheting and everything that goes with it. No registration required!
URL:https://myerstown.lclibs.org/event/lace-lovers-4/2026-11-18/
LOCATION:Myerstown Community Library\, 199 N. College Street\, Myerstown\, PA\, 17067\, United States
CATEGORIES:Adults,Craft Program,Lebanon County Libraries,Myerstown Community Library
ORGANIZER;CN="Sarah Bair":MAILTO:sbair@lclibs.org
END:VEVENT
BEGIN:VEVENT
DTSTART;TZID=America/New_York:20261119T170000
DTEND;TZID=America/New_York:20261119T190000
DTSTAMP:20260421T081135
CREATED:20241003T014859Z
LAST-MODIFIED:20250411T183839Z
UID:31358-1795107600-1795114800@myerstown.lclibs.org
SUMMARY:Chess Club
DESCRIPTION:Join us for FREE play and chess lessons for improving players!\nChess Club is open to ALL AGES and playing ability! No registration required!\nAll boards and sets are provided for you and this club is completely FREE!\nFor questions\, contact Michael Cook at myerstownchess@gmail.com or text/call 717-813-1427
URL:https://myerstown.lclibs.org/event/chess-club/2026-11-19/
LOCATION:Myerstown Community Library\, 199 N. College Street\, Myerstown\, PA\, 17067\, United States
CATEGORIES:Adults,Children,Community Event,Family Program,Games,Lebanon County Libraries,Lebanon County Library System,Myerstown Community Library,Teens,Tweens
ORGANIZER;CN="Sarah Bair":MAILTO:sbair@lclibs.org
END:VEVENT
BEGIN:VEVENT
DTSTART;TZID=America/New_York:20261120T103000
DTEND;TZID=America/New_York:20261120T113000
DTSTAMP:20260421T081135
CREATED:20240301T195818Z
LAST-MODIFIED:20251219T154514Z
UID:31359-1795170600-1795174200@myerstown.lclibs.org
SUMMARY:Preschool Story Time
DESCRIPTION:Join in the fun with stories\, songs\, and more that encourage development of Early Literacy skills in young children.
URL:https://myerstown.lclibs.org/event/preschool-story-time-2/2026-11-20/
LOCATION:Myerstown Community Library\, 199 N. College Street\, Myerstown\, PA\, 17067\, United States
CATEGORIES:Children,Myerstown Community Library,Storytime
ORGANIZER;CN="Sarah Bair":MAILTO:sbair@lclibs.org
END:VEVENT
BEGIN:VEVENT
DTSTART;TZID=America/New_York:20261121T110000
DTEND;TZID=America/New_York:20261121T120000
DTSTAMP:20260421T081135
CREATED:20240301T200314Z
LAST-MODIFIED:20260130T192850Z
UID:31360-1795258800-1795262400@myerstown.lclibs.org
SUMMARY:STEAM Saturdays
DESCRIPTION:Registration required. Recommended for ages 8-14.\n\nSTEAM stands for Science Technology Engineering Art and Math! “STEAM” Saturdays allow children to partake in building challenges\, experiments\, robotics\, and more!
URL:https://myerstown.lclibs.org/event/steam-saturdays/2026-11-21/
LOCATION:Myerstown Community Library\, 199 N. College Street\, Myerstown\, PA\, 17067\, United States
CATEGORIES:Children,Myerstown Community Library,STEM
ORGANIZER;CN="Sarah Bair":MAILTO:sbair@lclibs.org
END:VEVENT
BEGIN:VEVENT
DTSTART;VALUE=DATE:20261125
DTEND;VALUE=DATE:20261126
DTSTAMP:20260421T081135
CREATED:20260113T011252Z
LAST-MODIFIED:20260113T011252Z
UID:32624-1795564800-1795651199@myerstown.lclibs.org
SUMMARY:MCL CLOSING @2PM
DESCRIPTION:
URL:https://myerstown.lclibs.org/event/mcl-closing-2pm-2/2026-11-25/
LOCATION:Myerstown Community Library\, 199 N. College Street\, Myerstown\, PA\, 17067\, United States
CATEGORIES:Lebanon County Libraries,Library Closure,Myerstown Community Library
ORGANIZER;CN="Sarah Bair":MAILTO:sbair@lclibs.org
END:VEVENT
BEGIN:VEVENT
DTSTART;VALUE=DATE:20261126
DTEND;VALUE=DATE:20261127
DTSTAMP:20260421T081135
CREATED:20260112T220600Z
LAST-MODIFIED:20260112T220600Z
UID:32529-1795651200-1795737599@myerstown.lclibs.org
SUMMARY:MCL CLOSED
DESCRIPTION:
URL:https://myerstown.lclibs.org/event/mcl-closed-8/2026-11-26/
LOCATION:Myerstown Community Library\, 199 N. College Street\, Myerstown\, PA\, 17067\, United States
CATEGORIES:Lebanon County Libraries,Library Closure,Myerstown Community Library
ORGANIZER;CN="Sarah Bair":MAILTO:sbair@lclibs.org
END:VEVENT
BEGIN:VEVENT
DTSTART;VALUE=DATE:20261127
DTEND;VALUE=DATE:20261128
DTSTAMP:20260421T081135
CREATED:20260112T220600Z
LAST-MODIFIED:20260112T220600Z
UID:32531-1795737600-1795823999@myerstown.lclibs.org
SUMMARY:MCL CLOSED
DESCRIPTION:
URL:https://myerstown.lclibs.org/event/mcl-closed-8/2026-11-27/
LOCATION:Myerstown Community Library\, 199 N. College Street\, Myerstown\, PA\, 17067\, United States
CATEGORIES:Lebanon County Libraries,Library Closure,Myerstown Community Library
ORGANIZER;CN="Sarah Bair":MAILTO:sbair@lclibs.org
END:VEVENT
BEGIN:VEVENT
DTSTART;TZID=America/New_York:20261128T110000
DTEND;TZID=America/New_York:20261128T120000
DTSTAMP:20260421T081135
CREATED:20240212T201719Z
LAST-MODIFIED:20260112T224043Z
UID:31365-1795863600-1795867200@myerstown.lclibs.org
SUMMARY:BYOB Book Club
DESCRIPTION:BYOB – Bring Your Own Book Club! We discuss our favorite books and current reads.
URL:https://myerstown.lclibs.org/event/byob-book-club/2026-11-28/
LOCATION:Myerstown Community Library\, 199 N. College Street\, Myerstown\, PA\, 17067\, United States
CATEGORIES:Adult program,Adults,Book Club,Book Discussion,Myerstown Community Library
ORGANIZER;CN="Sarah Bair":MAILTO:sbair@lclibs.org
END:VEVENT
BEGIN:VEVENT
DTSTART;TZID=America/New_York:20261202T103000
DTEND;TZID=America/New_York:20261202T113000
DTSTAMP:20260421T081135
CREATED:20240212T192844Z
LAST-MODIFIED:20241223T214145Z
UID:31366-1796207400-1796211000@myerstown.lclibs.org
SUMMARY:Sit & Knit
DESCRIPTION:A place to talk\, ask questions\, and share your love of knitting\, crocheting and everything that goes with it.
URL:https://myerstown.lclibs.org/event/sit-knit-2/2026-12-02/
LOCATION:Myerstown Community Library\, 199 N. College Street\, Myerstown\, PA\, 17067\, United States
CATEGORIES:Adult program,Adults,Craft Program,Myerstown Community Library
ORGANIZER;CN="Sarah Bair":MAILTO:sbair@lclibs.org
END:VEVENT
BEGIN:VEVENT
DTSTART;TZID=America/New_York:20261202T130000
DTEND;TZID=America/New_York:20261202T150000
DTSTAMP:20260421T081135
CREATED:20251222T191440Z
LAST-MODIFIED:20251222T191440Z
UID:32490-1796216400-1796223600@myerstown.lclibs.org
SUMMARY:Lace Lovers
DESCRIPTION:A place to talk\, ask questions\, and share your love of lace\, knitting\, crocheting and everything that goes with it. No registration required!
URL:https://myerstown.lclibs.org/event/lace-lovers-3/2026-12-02/
LOCATION:Myerstown Community Library\, 199 N. College Street\, Myerstown\, PA\, 17067\, United States
CATEGORIES:Adults,Craft Program,Lebanon County Libraries,Myerstown Community Library
ORGANIZER;CN="Sarah Bair":MAILTO:sbair@lclibs.org
END:VEVENT
BEGIN:VEVENT
DTSTART;TZID=America/New_York:20261204T103000
DTEND;TZID=America/New_York:20261204T113000
DTSTAMP:20260421T081135
CREATED:20240301T195818Z
LAST-MODIFIED:20251219T154514Z
UID:31369-1796380200-1796383800@myerstown.lclibs.org
SUMMARY:Preschool Story Time
DESCRIPTION:Join in the fun with stories\, songs\, and more that encourage development of Early Literacy skills in young children.
URL:https://myerstown.lclibs.org/event/preschool-story-time-2/2026-12-04/
LOCATION:Myerstown Community Library\, 199 N. College Street\, Myerstown\, PA\, 17067\, United States
CATEGORIES:Children,Myerstown Community Library,Storytime
ORGANIZER;CN="Sarah Bair":MAILTO:sbair@lclibs.org
END:VEVENT
BEGIN:VEVENT
DTSTART;TZID=America/New_York:20261207T153000
DTEND;TZID=America/New_York:20261207T163000
DTSTAMP:20260421T081135
CREATED:20251219T170131Z
LAST-MODIFIED:20251219T170131Z
UID:32311-1796657400-1796661000@myerstown.lclibs.org
SUMMARY:BYOB Teen+
DESCRIPTION:Are you into YA books and graphic novels? Do you want to chat about what you are reading? Join us for a fun Bring Your Own Book\, book club! Open to grades 9th and up. No registration required. Themes change monthly\, or come prepared to discuss your most recent read!
URL:https://myerstown.lclibs.org/event/byob-teen/2026-12-07/
LOCATION:Myerstown Community Library\, 199 N. College Street\, Myerstown\, PA\, 17067\, United States
CATEGORIES:After-School Club,Book Club,Book Discussion,Lebanon County Libraries,Myerstown Community Library,Teens
ORGANIZER;CN="Sarah Bair":MAILTO:sbair@lclibs.org
END:VEVENT
BEGIN:VEVENT
DTSTART;TZID=America/New_York:20261210T173000
DTEND;TZID=America/New_York:20261210T183000
DTSTAMP:20260421T081135
CREATED:20240212T200633Z
LAST-MODIFIED:20240212T200633Z
UID:31372-1796923800-1796927400@myerstown.lclibs.org
SUMMARY:Great Discussions
DESCRIPTION:Join us for Great Discussions in the humanities and a review of the annual Great Decisions publication.
URL:https://myerstown.lclibs.org/event/great-discussions/2026-12-10/
LOCATION:Myerstown Community Library\, 199 N. College Street\, Myerstown\, PA\, 17067\, United States
CATEGORIES:Adult program,Adults,Book Discussion,Civic Literacy,Interest Group,Myerstown Community Library
ORGANIZER;CN="Sarah Bair":MAILTO:sbair@lclibs.org
END:VEVENT
BEGIN:VEVENT
DTSTART;TZID=America/New_York:20261211T103000
DTEND;TZID=America/New_York:20261211T113000
DTSTAMP:20260421T081135
CREATED:20240301T195818Z
LAST-MODIFIED:20251219T154514Z
UID:31373-1796985000-1796988600@myerstown.lclibs.org
SUMMARY:Preschool Story Time
DESCRIPTION:Join in the fun with stories\, songs\, and more that encourage development of Early Literacy skills in young children.
URL:https://myerstown.lclibs.org/event/preschool-story-time-2/2026-12-11/
LOCATION:Myerstown Community Library\, 199 N. College Street\, Myerstown\, PA\, 17067\, United States
CATEGORIES:Children,Myerstown Community Library,Storytime
ORGANIZER;CN="Sarah Bair":MAILTO:sbair@lclibs.org
END:VEVENT
BEGIN:VEVENT
DTSTART;TZID=America/New_York:20261214T153000
DTEND;TZID=America/New_York:20261214T163000
DTSTAMP:20260421T081135
CREATED:20251219T170935Z
LAST-MODIFIED:20260112T222640Z
UID:32337-1797262200-1797265800@myerstown.lclibs.org
SUMMARY:BYOB Jr.
DESCRIPTION:Are you a chapter book reader who wants to chat about what you’ve been reading lately? Join us for cookies and conversation at the library! Bring Your Own Book and be ready to share. No registration required.
URL:https://myerstown.lclibs.org/event/byob-jr/2026-12-14/
LOCATION:Myerstown Community Library\, 199 N. College Street\, Myerstown\, PA\, 17067\, United States
CATEGORIES:After-School Club,Book Club,Book Discussion,Lebanon County Libraries,Myerstown Community Library,Tweens
ORGANIZER;CN="Sarah Bair":MAILTO:sbair@lclibs.org
END:VEVENT
BEGIN:VEVENT
DTSTART;TZID=America/New_York:20261215T183000
DTEND;TZID=America/New_York:20261215T200000
DTSTAMP:20260421T081135
CREATED:20240212T195749Z
LAST-MODIFIED:20251219T175237Z
UID:31375-1797359400-1797364800@myerstown.lclibs.org
SUMMARY:Library Board Meeting
DESCRIPTION:The Library Board meets on the third Tuesday of each month at 6:30pm. These meetings are open to the public and are subject to change without notice.
URL:https://myerstown.lclibs.org/event/library-board-meeting/2026-12-15/
LOCATION:Myerstown Community Library\, 199 N. College Street\, Myerstown\, PA\, 17067\, United States
CATEGORIES:Adult program,Board Meeting,Myerstown Community Library
ORGANIZER;CN="Sarah Bair":MAILTO:sbair@lclibs.org
END:VEVENT
BEGIN:VEVENT
DTSTART;TZID=America/New_York:20261216T103000
DTEND;TZID=America/New_York:20261216T113000
DTSTAMP:20260421T081135
CREATED:20240212T192844Z
LAST-MODIFIED:20240212T192844Z
UID:31392-1797417000-1797420600@myerstown.lclibs.org
SUMMARY:Sit & Knit
DESCRIPTION:A place to talk\, ask questions\, and share your love of knitting\, crocheting and everything that goes with it.
URL:https://myerstown.lclibs.org/event/sit-knit-2/2026-12-16/
LOCATION:Myerstown Community Library\, 199 N. College Street\, Myerstown\, PA\, 17067\, United States
CATEGORIES:Adult program,Adults,Craft Program,Myerstown Community Library
ORGANIZER;CN="Sarah Bair":MAILTO:sbair@lclibs.org
END:VEVENT
BEGIN:VEVENT
DTSTART;TZID=America/New_York:20261216T130000
DTEND;TZID=America/New_York:20261216T150000
DTSTAMP:20260421T081135
CREATED:20251222T192732Z
LAST-MODIFIED:20251222T192732Z
UID:32400-1797426000-1797433200@myerstown.lclibs.org
SUMMARY:Lace Lovers
DESCRIPTION:A place to talk\, ask questions\, and share your love of lace\, knitting\, crocheting and everything that goes with it. No registration required!
URL:https://myerstown.lclibs.org/event/lace-lovers-4/2026-12-16/
LOCATION:Myerstown Community Library\, 199 N. College Street\, Myerstown\, PA\, 17067\, United States
CATEGORIES:Adults,Craft Program,Lebanon County Libraries,Myerstown Community Library
ORGANIZER;CN="Sarah Bair":MAILTO:sbair@lclibs.org
END:VEVENT
BEGIN:VEVENT
DTSTART;TZID=America/New_York:20261217T170000
DTEND;TZID=America/New_York:20261217T190000
DTSTAMP:20260421T081135
CREATED:20241003T014859Z
LAST-MODIFIED:20250411T183839Z
UID:31376-1797526800-1797534000@myerstown.lclibs.org
SUMMARY:Chess Club
DESCRIPTION:Join us for FREE play and chess lessons for improving players!\nChess Club is open to ALL AGES and playing ability! No registration required!\nAll boards and sets are provided for you and this club is completely FREE!\nFor questions\, contact Michael Cook at myerstownchess@gmail.com or text/call 717-813-1427
URL:https://myerstown.lclibs.org/event/chess-club/2026-12-17/
LOCATION:Myerstown Community Library\, 199 N. College Street\, Myerstown\, PA\, 17067\, United States
CATEGORIES:Adults,Children,Community Event,Family Program,Games,Lebanon County Libraries,Lebanon County Library System,Myerstown Community Library,Teens,Tweens
ORGANIZER;CN="Sarah Bair":MAILTO:sbair@lclibs.org
END:VEVENT
BEGIN:VEVENT
DTSTART;TZID=America/New_York:20261218T103000
DTEND;TZID=America/New_York:20261218T113000
DTSTAMP:20260421T081135
CREATED:20240301T195818Z
LAST-MODIFIED:20251219T154514Z
UID:31377-1797589800-1797593400@myerstown.lclibs.org
SUMMARY:Preschool Story Time
DESCRIPTION:Join in the fun with stories\, songs\, and more that encourage development of Early Literacy skills in young children.
URL:https://myerstown.lclibs.org/event/preschool-story-time-2/2026-12-18/
LOCATION:Myerstown Community Library\, 199 N. College Street\, Myerstown\, PA\, 17067\, United States
CATEGORIES:Children,Myerstown Community Library,Storytime
ORGANIZER;CN="Sarah Bair":MAILTO:sbair@lclibs.org
END:VEVENT
END:VCALENDAR