BEGIN:VCALENDAR
VERSION:2.0
PRODID:-//Myerstown Community Library - ECPv6.15.17.1//NONSGML v1.0//EN
CALSCALE:GREGORIAN
METHOD:PUBLISH
X-WR-CALNAME:Myerstown Community Library
X-ORIGINAL-URL:https://myerstown.lclibs.org
X-WR-CALDESC:Events for Myerstown Community Library
REFRESH-INTERVAL;VALUE=DURATION:PT1H
X-Robots-Tag:noindex
X-PUBLISHED-TTL:PT1H
BEGIN:VTIMEZONE
TZID:America/New_York
BEGIN:DAYLIGHT
TZOFFSETFROM:-0500
TZOFFSETTO:-0400
TZNAME:EDT
DTSTART:20260308T070000
END:DAYLIGHT
BEGIN:STANDARD
TZOFFSETFROM:-0400
TZOFFSETTO:-0500
TZNAME:EST
DTSTART:20261101T060000
END:STANDARD
BEGIN:DAYLIGHT
TZOFFSETFROM:-0500
TZOFFSETTO:-0400
TZNAME:EDT
DTSTART:20270314T070000
END:DAYLIGHT
BEGIN:STANDARD
TZOFFSETFROM:-0400
TZOFFSETTO:-0500
TZNAME:EST
DTSTART:20271107T060000
END:STANDARD
BEGIN:DAYLIGHT
TZOFFSETFROM:-0500
TZOFFSETTO:-0400
TZNAME:EDT
DTSTART:20280312T070000
END:DAYLIGHT
BEGIN:STANDARD
TZOFFSETFROM:-0400
TZOFFSETTO:-0500
TZNAME:EST
DTSTART:20281105T060000
END:STANDARD
END:VTIMEZONE
BEGIN:VEVENT
DTSTART;VALUE=DATE:20270101
DTEND;VALUE=DATE:20270102
DTSTAMP:20260421T133045
CREATED:20260112T220600Z
LAST-MODIFIED:20260112T220600Z
UID:32534-1798761600-1798847999@myerstown.lclibs.org
SUMMARY:MCL CLOSED
DESCRIPTION:
URL:https://myerstown.lclibs.org/event/mcl-closed-8/2027-01-01/
LOCATION:Myerstown Community Library\, 199 N. College Street\, Myerstown\, PA\, 17067\, United States
CATEGORIES:Lebanon County Libraries,Library Closure,Myerstown Community Library
ORGANIZER;CN="Sarah Bair":MAILTO:sbair@lclibs.org
END:VEVENT
BEGIN:VEVENT
DTSTART;TZID=America/New_York:20270104T153000
DTEND;TZID=America/New_York:20270104T163000
DTSTAMP:20260421T133045
CREATED:20251219T170131Z
LAST-MODIFIED:20251219T170131Z
UID:32312-1799076600-1799080200@myerstown.lclibs.org
SUMMARY:BYOB Teen+
DESCRIPTION:Are you into YA books and graphic novels? Do you want to chat about what you are reading? Join us for a fun Bring Your Own Book\, book club! Open to grades 9th and up. No registration required. Themes change monthly\, or come prepared to discuss your most recent read!
URL:https://myerstown.lclibs.org/event/byob-teen/2027-01-04/
LOCATION:Myerstown Community Library\, 199 N. College Street\, Myerstown\, PA\, 17067\, United States
CATEGORIES:After-School Club,Book Club,Book Discussion,Lebanon County Libraries,Myerstown Community Library,Teens
ORGANIZER;CN="Sarah Bair":MAILTO:sbair@lclibs.org
END:VEVENT
BEGIN:VEVENT
DTSTART;TZID=America/New_York:20270106T103000
DTEND;TZID=America/New_York:20270106T113000
DTSTAMP:20260421T133045
CREATED:20240212T192844Z
LAST-MODIFIED:20240212T192844Z
UID:31431-1799231400-1799235000@myerstown.lclibs.org
SUMMARY:Sit & Knit
DESCRIPTION:A place to talk\, ask questions\, and share your love of knitting\, crocheting and everything that goes with it.
URL:https://myerstown.lclibs.org/event/sit-knit-2/2027-01-06/
LOCATION:Myerstown Community Library\, 199 N. College Street\, Myerstown\, PA\, 17067\, United States
CATEGORIES:Adult program,Adults,Craft Program,Myerstown Community Library
ORGANIZER;CN="Sarah Bair":MAILTO:sbair@lclibs.org
END:VEVENT
BEGIN:VEVENT
DTSTART;TZID=America/New_York:20270106T130000
DTEND;TZID=America/New_York:20270106T150000
DTSTAMP:20260421T133045
CREATED:20251222T191440Z
LAST-MODIFIED:20251222T191440Z
UID:32491-1799240400-1799247600@myerstown.lclibs.org
SUMMARY:Lace Lovers
DESCRIPTION:A place to talk\, ask questions\, and share your love of lace\, knitting\, crocheting and everything that goes with it. No registration required!
URL:https://myerstown.lclibs.org/event/lace-lovers-3/2027-01-06/
LOCATION:Myerstown Community Library\, 199 N. College Street\, Myerstown\, PA\, 17067\, United States
CATEGORIES:Adults,Craft Program,Lebanon County Libraries,Myerstown Community Library
ORGANIZER;CN="Sarah Bair":MAILTO:sbair@lclibs.org
END:VEVENT
BEGIN:VEVENT
DTSTART;TZID=America/New_York:20270108T103000
DTEND;TZID=America/New_York:20270108T113000
DTSTAMP:20260421T133045
CREATED:20240301T195818Z
LAST-MODIFIED:20251219T154530Z
UID:31435-1799404200-1799407800@myerstown.lclibs.org
SUMMARY:Preschool Story Time
DESCRIPTION:Join in the fun with stories\, songs\, and more that encourage development of Early Literacy skills in young children.
URL:https://myerstown.lclibs.org/event/preschool-story-time-2/2027-01-08/
LOCATION:Myerstown Community Library\, 199 N. College Street\, Myerstown\, PA\, 17067\, United States
CATEGORIES:Children,Myerstown Community Library,Storytime
ORGANIZER;CN="Sarah Bair":MAILTO:sbair@lclibs.org
END:VEVENT
BEGIN:VEVENT
DTSTART;TZID=America/New_York:20270111T153000
DTEND;TZID=America/New_York:20270111T163000
DTSTAMP:20260421T133045
CREATED:20251219T170935Z
LAST-MODIFIED:20260112T222641Z
UID:32338-1799681400-1799685000@myerstown.lclibs.org
SUMMARY:BYOB Jr.
DESCRIPTION:Are you a chapter book reader who wants to chat about what you’ve been reading lately? Join us for cookies and conversation at the library! Bring Your Own Book and be ready to share. No registration required.
URL:https://myerstown.lclibs.org/event/byob-jr/2027-01-11/
LOCATION:Myerstown Community Library\, 199 N. College Street\, Myerstown\, PA\, 17067\, United States
CATEGORIES:After-School Club,Book Club,Book Discussion,Lebanon County Libraries,Myerstown Community Library,Tweens
ORGANIZER;CN="Sarah Bair":MAILTO:sbair@lclibs.org
END:VEVENT
BEGIN:VEVENT
DTSTART;TZID=America/New_York:20270114T173000
DTEND;TZID=America/New_York:20270114T183000
DTSTAMP:20260421T133045
CREATED:20240212T200633Z
LAST-MODIFIED:20240212T200633Z
UID:31523-1799947800-1799951400@myerstown.lclibs.org
SUMMARY:Great Discussions
DESCRIPTION:Join us for Great Discussions in the humanities and a review of the annual Great Decisions publication.
URL:https://myerstown.lclibs.org/event/great-discussions/2027-01-14/
LOCATION:Myerstown Community Library\, 199 N. College Street\, Myerstown\, PA\, 17067\, United States
CATEGORIES:Adult program,Adults,Book Discussion,Civic Literacy,Interest Group,Myerstown Community Library
ORGANIZER;CN="Sarah Bair":MAILTO:sbair@lclibs.org
END:VEVENT
BEGIN:VEVENT
DTSTART;TZID=America/New_York:20270115T103000
DTEND;TZID=America/New_York:20270115T113000
DTSTAMP:20260421T133045
CREATED:20240301T195818Z
LAST-MODIFIED:20251219T154530Z
UID:31524-1800009000-1800012600@myerstown.lclibs.org
SUMMARY:Preschool Story Time
DESCRIPTION:Join in the fun with stories\, songs\, and more that encourage development of Early Literacy skills in young children.
URL:https://myerstown.lclibs.org/event/preschool-story-time-2/2027-01-15/
LOCATION:Myerstown Community Library\, 199 N. College Street\, Myerstown\, PA\, 17067\, United States
CATEGORIES:Children,Myerstown Community Library,Storytime
ORGANIZER;CN="Sarah Bair":MAILTO:sbair@lclibs.org
END:VEVENT
BEGIN:VEVENT
DTSTART;TZID=America/New_York:20270116T110000
DTEND;TZID=America/New_York:20270116T120000
DTSTAMP:20260421T133045
CREATED:20240301T200314Z
LAST-MODIFIED:20260130T192851Z
UID:31527-1800097200-1800100800@myerstown.lclibs.org
SUMMARY:STEAM Saturdays
DESCRIPTION:Registration required. Recommended for ages 8-14.\n\nSTEAM stands for Science Technology Engineering Art and Math! “STEAM” Saturdays allow children to partake in building challenges\, experiments\, robotics\, and more!
URL:https://myerstown.lclibs.org/event/steam-saturdays/2027-01-16/
LOCATION:Myerstown Community Library\, 199 N. College Street\, Myerstown\, PA\, 17067\, United States
CATEGORIES:Children,Myerstown Community Library,STEM
ORGANIZER;CN="Sarah Bair":MAILTO:sbair@lclibs.org
END:VEVENT
BEGIN:VEVENT
DTSTART;TZID=America/New_York:20270118T153000
DTEND;TZID=America/New_York:20270118T163000
DTSTAMP:20260421T133045
CREATED:20240212T194638Z
LAST-MODIFIED:20251223T210124Z
UID:31529-1800286200-1800289800@myerstown.lclibs.org
SUMMARY:PokeMondays
DESCRIPTION:Bring your deck or devices to play. No previous experience required!
URL:https://myerstown.lclibs.org/event/pokemondays-2/2027-01-18/
LOCATION:Myerstown Community Library\, 199 N. College Street\, Myerstown\, PA\, 17067\, United States
CATEGORIES:After-School Club,Children,Myerstown Community Library
ORGANIZER;CN="Sarah Bair":MAILTO:sbair@lclibs.org
END:VEVENT
BEGIN:VEVENT
DTSTART;TZID=America/New_York:20270119T183000
DTEND;TZID=America/New_York:20270119T200000
DTSTAMP:20260421T133045
CREATED:20240212T195749Z
LAST-MODIFIED:20251219T175237Z
UID:31531-1800383400-1800388800@myerstown.lclibs.org
SUMMARY:Library Board Meeting
DESCRIPTION:The Library Board meets on the third Tuesday of each month at 6:30pm. These meetings are open to the public and are subject to change without notice.
URL:https://myerstown.lclibs.org/event/library-board-meeting/2027-01-19/
LOCATION:Myerstown Community Library\, 199 N. College Street\, Myerstown\, PA\, 17067\, United States
CATEGORIES:Adult program,Board Meeting,Myerstown Community Library
ORGANIZER;CN="Sarah Bair":MAILTO:sbair@lclibs.org
END:VEVENT
BEGIN:VEVENT
DTSTART;TZID=America/New_York:20270120T130000
DTEND;TZID=America/New_York:20270120T150000
DTSTAMP:20260421T133045
CREATED:20251222T192732Z
LAST-MODIFIED:20251222T192732Z
UID:32401-1800450000-1800457200@myerstown.lclibs.org
SUMMARY:Lace Lovers
DESCRIPTION:A place to talk\, ask questions\, and share your love of lace\, knitting\, crocheting and everything that goes with it. No registration required!
URL:https://myerstown.lclibs.org/event/lace-lovers-4/2027-01-20/
LOCATION:Myerstown Community Library\, 199 N. College Street\, Myerstown\, PA\, 17067\, United States
CATEGORIES:Adults,Craft Program,Lebanon County Libraries,Myerstown Community Library
ORGANIZER;CN="Sarah Bair":MAILTO:sbair@lclibs.org
END:VEVENT
BEGIN:VEVENT
DTSTART;TZID=America/New_York:20270121T170000
DTEND;TZID=America/New_York:20270121T190000
DTSTAMP:20260421T133045
CREATED:20241003T014859Z
LAST-MODIFIED:20241003T014859Z
UID:31676-1800550800-1800558000@myerstown.lclibs.org
SUMMARY:Chess Club
DESCRIPTION:Join us for FREE play and chess lessons for improving players!\nChess Club is open to ALL AGES and playing ability! No registration required!\nAll boards and sets are provided for you and this club is completely FREE!\nFor questions\, contact Michael Cook at myerstownchess@gmail.com or text/call 717-813-1427
URL:https://myerstown.lclibs.org/event/chess-club/2027-01-21/
LOCATION:Myerstown Community Library\, 199 N. College Street\, Myerstown\, PA\, 17067\, United States
CATEGORIES:Adults,Children,Community Event,Family Program,Games,Lebanon County Libraries,Lebanon County Library System,Myerstown Community Library,Teens,Tweens
ORGANIZER;CN="Sarah Bair":MAILTO:sbair@lclibs.org
END:VEVENT
BEGIN:VEVENT
DTSTART;TZID=America/New_York:20270122T103000
DTEND;TZID=America/New_York:20270122T113000
DTSTAMP:20260421T133045
CREATED:20240301T195818Z
LAST-MODIFIED:20251219T154531Z
UID:31533-1800613800-1800617400@myerstown.lclibs.org
SUMMARY:Preschool Story Time
DESCRIPTION:Join in the fun with stories\, songs\, and more that encourage development of Early Literacy skills in young children.
URL:https://myerstown.lclibs.org/event/preschool-story-time-2/2027-01-22/
LOCATION:Myerstown Community Library\, 199 N. College Street\, Myerstown\, PA\, 17067\, United States
CATEGORIES:Children,Myerstown Community Library,Storytime
ORGANIZER;CN="Sarah Bair":MAILTO:sbair@lclibs.org
END:VEVENT
BEGIN:VEVENT
DTSTART;TZID=America/New_York:20270128T173000
DTEND;TZID=America/New_York:20270128T183000
DTSTAMP:20260421T133045
CREATED:20251222T211152Z
LAST-MODIFIED:20260113T013108Z
UID:32468-1801157400-1801161000@myerstown.lclibs.org
SUMMARY:Explorations in Music
DESCRIPTION:Join us for discussions on genre\, influence\, and music culture! Topics change monthly. No registration required. Lead by Greg Underkoffler.
URL:https://myerstown.lclibs.org/event/explorations-in-music-2/2027-01-28/
LOCATION:Myerstown Community Library\, 199 N. College Street\, Myerstown\, PA\, 17067\, United States
CATEGORIES:Adults,Lebanon County Libraries,Music,Myerstown Community Library
ORGANIZER;CN="Sarah Bair":MAILTO:sbair@lclibs.org
END:VEVENT
BEGIN:VEVENT
DTSTART;TZID=America/New_York:20270129T103000
DTEND;TZID=America/New_York:20270129T113000
DTSTAMP:20260421T133045
CREATED:20240301T195818Z
LAST-MODIFIED:20251219T154531Z
UID:31541-1801218600-1801222200@myerstown.lclibs.org
SUMMARY:Preschool Story Time
DESCRIPTION:Join in the fun with stories\, songs\, and more that encourage development of Early Literacy skills in young children.
URL:https://myerstown.lclibs.org/event/preschool-story-time-2/2027-01-29/
LOCATION:Myerstown Community Library\, 199 N. College Street\, Myerstown\, PA\, 17067\, United States
CATEGORIES:Children,Myerstown Community Library,Storytime
ORGANIZER;CN="Sarah Bair":MAILTO:sbair@lclibs.org
END:VEVENT
BEGIN:VEVENT
DTSTART;TZID=America/New_York:20270130T110000
DTEND;TZID=America/New_York:20270130T120000
DTSTAMP:20260421T133045
CREATED:20240212T201719Z
LAST-MODIFIED:20260112T224043Z
UID:31542-1801306800-1801310400@myerstown.lclibs.org
SUMMARY:BYOB Book Club
DESCRIPTION:BYOB – Bring Your Own Book Club! We discuss our favorite books and current reads.
URL:https://myerstown.lclibs.org/event/byob-book-club/2027-01-30/
LOCATION:Myerstown Community Library\, 199 N. College Street\, Myerstown\, PA\, 17067\, United States
CATEGORIES:Adult program,Adults,Book Club,Book Discussion,Myerstown Community Library
ORGANIZER;CN="Sarah Bair":MAILTO:sbair@lclibs.org
END:VEVENT
BEGIN:VEVENT
DTSTART;TZID=America/New_York:20270201T153000
DTEND;TZID=America/New_York:20270201T163000
DTSTAMP:20260421T133045
CREATED:20251219T170131Z
LAST-MODIFIED:20251219T170131Z
UID:32314-1801495800-1801499400@myerstown.lclibs.org
SUMMARY:BYOB Teen+
DESCRIPTION:Are you into YA books and graphic novels? Do you want to chat about what you are reading? Join us for a fun Bring Your Own Book\, book club! Open to grades 9th and up. No registration required. Themes change monthly\, or come prepared to discuss your most recent read!
URL:https://myerstown.lclibs.org/event/byob-teen/2027-02-01/
LOCATION:Myerstown Community Library\, 199 N. College Street\, Myerstown\, PA\, 17067\, United States
CATEGORIES:After-School Club,Book Club,Book Discussion,Lebanon County Libraries,Myerstown Community Library,Teens
ORGANIZER;CN="Sarah Bair":MAILTO:sbair@lclibs.org
END:VEVENT
BEGIN:VEVENT
DTSTART;TZID=America/New_York:20270203T103000
DTEND;TZID=America/New_York:20270203T113000
DTSTAMP:20260421T133045
CREATED:20240212T192844Z
LAST-MODIFIED:20240212T192844Z
UID:31543-1801650600-1801654200@myerstown.lclibs.org
SUMMARY:Sit & Knit
DESCRIPTION:A place to talk\, ask questions\, and share your love of knitting\, crocheting and everything that goes with it.
URL:https://myerstown.lclibs.org/event/sit-knit-2/2027-02-03/
LOCATION:Myerstown Community Library\, 199 N. College Street\, Myerstown\, PA\, 17067\, United States
CATEGORIES:Adult program,Adults,Craft Program,Myerstown Community Library
ORGANIZER;CN="Sarah Bair":MAILTO:sbair@lclibs.org
END:VEVENT
BEGIN:VEVENT
DTSTART;TZID=America/New_York:20270203T130000
DTEND;TZID=America/New_York:20270203T150000
DTSTAMP:20260421T133045
CREATED:20251222T191440Z
LAST-MODIFIED:20251222T191440Z
UID:32492-1801659600-1801666800@myerstown.lclibs.org
SUMMARY:Lace Lovers
DESCRIPTION:A place to talk\, ask questions\, and share your love of lace\, knitting\, crocheting and everything that goes with it. No registration required!
URL:https://myerstown.lclibs.org/event/lace-lovers-3/2027-02-03/
LOCATION:Myerstown Community Library\, 199 N. College Street\, Myerstown\, PA\, 17067\, United States
CATEGORIES:Adults,Craft Program,Lebanon County Libraries,Myerstown Community Library
ORGANIZER;CN="Sarah Bair":MAILTO:sbair@lclibs.org
END:VEVENT
BEGIN:VEVENT
DTSTART;TZID=America/New_York:20270205T103000
DTEND;TZID=America/New_York:20270205T113000
DTSTAMP:20260421T133045
CREATED:20240301T195818Z
LAST-MODIFIED:20251219T154531Z
UID:31549-1801823400-1801827000@myerstown.lclibs.org
SUMMARY:Preschool Story Time
DESCRIPTION:Join in the fun with stories\, songs\, and more that encourage development of Early Literacy skills in young children.
URL:https://myerstown.lclibs.org/event/preschool-story-time-2/2027-02-05/
LOCATION:Myerstown Community Library\, 199 N. College Street\, Myerstown\, PA\, 17067\, United States
CATEGORIES:Children,Myerstown Community Library,Storytime
ORGANIZER;CN="Sarah Bair":MAILTO:sbair@lclibs.org
END:VEVENT
BEGIN:VEVENT
DTSTART;TZID=America/New_York:20270208T153000
DTEND;TZID=America/New_York:20270208T163000
DTSTAMP:20260421T133045
CREATED:20251219T170935Z
LAST-MODIFIED:20260112T222641Z
UID:32339-1802100600-1802104200@myerstown.lclibs.org
SUMMARY:BYOB Jr.
DESCRIPTION:Are you a chapter book reader who wants to chat about what you’ve been reading lately? Join us for cookies and conversation at the library! Bring Your Own Book and be ready to share. No registration required.
URL:https://myerstown.lclibs.org/event/byob-jr/2027-02-08/
LOCATION:Myerstown Community Library\, 199 N. College Street\, Myerstown\, PA\, 17067\, United States
CATEGORIES:After-School Club,Book Club,Book Discussion,Lebanon County Libraries,Myerstown Community Library,Tweens
ORGANIZER;CN="Sarah Bair":MAILTO:sbair@lclibs.org
END:VEVENT
BEGIN:VEVENT
DTSTART;TZID=America/New_York:20270211T173000
DTEND;TZID=America/New_York:20270211T183000
DTSTAMP:20260421T133045
CREATED:20240212T200633Z
LAST-MODIFIED:20240212T200633Z
UID:31552-1802367000-1802370600@myerstown.lclibs.org
SUMMARY:Great Discussions
DESCRIPTION:Join us for Great Discussions in the humanities and a review of the annual Great Decisions publication.
URL:https://myerstown.lclibs.org/event/great-discussions/2027-02-11/
LOCATION:Myerstown Community Library\, 199 N. College Street\, Myerstown\, PA\, 17067\, United States
CATEGORIES:Adult program,Adults,Book Discussion,Civic Literacy,Interest Group,Myerstown Community Library
ORGANIZER;CN="Sarah Bair":MAILTO:sbair@lclibs.org
END:VEVENT
BEGIN:VEVENT
DTSTART;TZID=America/New_York:20270212T103000
DTEND;TZID=America/New_York:20270212T113000
DTSTAMP:20260421T133045
CREATED:20240301T195818Z
LAST-MODIFIED:20251219T154531Z
UID:31553-1802428200-1802431800@myerstown.lclibs.org
SUMMARY:Preschool Story Time
DESCRIPTION:Join in the fun with stories\, songs\, and more that encourage development of Early Literacy skills in young children.
URL:https://myerstown.lclibs.org/event/preschool-story-time-2/2027-02-12/
LOCATION:Myerstown Community Library\, 199 N. College Street\, Myerstown\, PA\, 17067\, United States
CATEGORIES:Children,Myerstown Community Library,Storytime
ORGANIZER;CN="Sarah Bair":MAILTO:sbair@lclibs.org
END:VEVENT
BEGIN:VEVENT
DTSTART;TZID=America/New_York:20270215T153000
DTEND;TZID=America/New_York:20270215T163000
DTSTAMP:20260421T133045
CREATED:20240212T194638Z
LAST-MODIFIED:20251223T210124Z
UID:31554-1802705400-1802709000@myerstown.lclibs.org
SUMMARY:PokeMondays
DESCRIPTION:Bring your deck or devices to play. No previous experience required!
URL:https://myerstown.lclibs.org/event/pokemondays-2/2027-02-15/
LOCATION:Myerstown Community Library\, 199 N. College Street\, Myerstown\, PA\, 17067\, United States
CATEGORIES:After-School Club,Children,Myerstown Community Library
ORGANIZER;CN="Sarah Bair":MAILTO:sbair@lclibs.org
END:VEVENT
BEGIN:VEVENT
DTSTART;TZID=America/New_York:20270216T183000
DTEND;TZID=America/New_York:20270216T200000
DTSTAMP:20260421T133045
CREATED:20240212T195749Z
LAST-MODIFIED:20251219T175238Z
UID:31555-1802802600-1802808000@myerstown.lclibs.org
SUMMARY:Library Board Meeting
DESCRIPTION:The Library Board meets on the third Tuesday of each month at 6:30pm. These meetings are open to the public and are subject to change without notice.
URL:https://myerstown.lclibs.org/event/library-board-meeting/2027-02-16/
LOCATION:Myerstown Community Library\, 199 N. College Street\, Myerstown\, PA\, 17067\, United States
CATEGORIES:Adult program,Board Meeting,Myerstown Community Library
ORGANIZER;CN="Sarah Bair":MAILTO:sbair@lclibs.org
END:VEVENT
BEGIN:VEVENT
DTSTART;TZID=America/New_York:20270217T130000
DTEND;TZID=America/New_York:20270217T150000
DTSTAMP:20260421T133045
CREATED:20251222T192732Z
LAST-MODIFIED:20251222T192732Z
UID:32402-1802869200-1802876400@myerstown.lclibs.org
SUMMARY:Lace Lovers
DESCRIPTION:A place to talk\, ask questions\, and share your love of lace\, knitting\, crocheting and everything that goes with it. No registration required!
URL:https://myerstown.lclibs.org/event/lace-lovers-4/2027-02-17/
LOCATION:Myerstown Community Library\, 199 N. College Street\, Myerstown\, PA\, 17067\, United States
CATEGORIES:Adults,Craft Program,Lebanon County Libraries,Myerstown Community Library
ORGANIZER;CN="Sarah Bair":MAILTO:sbair@lclibs.org
END:VEVENT
BEGIN:VEVENT
DTSTART;TZID=America/New_York:20270218T170000
DTEND;TZID=America/New_York:20270218T190000
DTSTAMP:20260421T133045
CREATED:20241003T014859Z
LAST-MODIFIED:20241003T014859Z
UID:31677-1802970000-1802977200@myerstown.lclibs.org
SUMMARY:Chess Club
DESCRIPTION:Join us for FREE play and chess lessons for improving players!\nChess Club is open to ALL AGES and playing ability! No registration required!\nAll boards and sets are provided for you and this club is completely FREE!\nFor questions\, contact Michael Cook at myerstownchess@gmail.com or text/call 717-813-1427
URL:https://myerstown.lclibs.org/event/chess-club/2027-02-18/
LOCATION:Myerstown Community Library\, 199 N. College Street\, Myerstown\, PA\, 17067\, United States
CATEGORIES:Adults,Children,Community Event,Family Program,Games,Lebanon County Libraries,Lebanon County Library System,Myerstown Community Library,Teens,Tweens
ORGANIZER;CN="Sarah Bair":MAILTO:sbair@lclibs.org
END:VEVENT
BEGIN:VEVENT
DTSTART;TZID=America/New_York:20270219T103000
DTEND;TZID=America/New_York:20270219T113000
DTSTAMP:20260421T133045
CREATED:20240301T195818Z
LAST-MODIFIED:20251219T154531Z
UID:31559-1803033000-1803036600@myerstown.lclibs.org
SUMMARY:Preschool Story Time
DESCRIPTION:Join in the fun with stories\, songs\, and more that encourage development of Early Literacy skills in young children.
URL:https://myerstown.lclibs.org/event/preschool-story-time-2/2027-02-19/
LOCATION:Myerstown Community Library\, 199 N. College Street\, Myerstown\, PA\, 17067\, United States
CATEGORIES:Children,Myerstown Community Library,Storytime
ORGANIZER;CN="Sarah Bair":MAILTO:sbair@lclibs.org
END:VEVENT
BEGIN:VEVENT
DTSTART;TZID=America/New_York:20270220T110000
DTEND;TZID=America/New_York:20270220T120000
DTSTAMP:20260421T133045
CREATED:20240301T200314Z
LAST-MODIFIED:20260130T192851Z
UID:31561-1803121200-1803124800@myerstown.lclibs.org
SUMMARY:STEAM Saturdays
DESCRIPTION:Registration required. Recommended for ages 8-14.\n\nSTEAM stands for Science Technology Engineering Art and Math! “STEAM” Saturdays allow children to partake in building challenges\, experiments\, robotics\, and more!
URL:https://myerstown.lclibs.org/event/steam-saturdays/2027-02-20/
LOCATION:Myerstown Community Library\, 199 N. College Street\, Myerstown\, PA\, 17067\, United States
CATEGORIES:Children,Myerstown Community Library,STEM
ORGANIZER;CN="Sarah Bair":MAILTO:sbair@lclibs.org
END:VEVENT
END:VCALENDAR