BEGIN:VCALENDAR
VERSION:2.0
PRODID:-//Myerstown Community Library - ECPv6.15.17.1//NONSGML v1.0//EN
CALSCALE:GREGORIAN
METHOD:PUBLISH
X-ORIGINAL-URL:https://myerstown.lclibs.org
X-WR-CALDESC:Events for Myerstown Community Library
REFRESH-INTERVAL;VALUE=DURATION:PT1H
X-Robots-Tag:noindex
X-PUBLISHED-TTL:PT1H
BEGIN:VTIMEZONE
TZID:America/New_York
BEGIN:DAYLIGHT
TZOFFSETFROM:-0500
TZOFFSETTO:-0400
TZNAME:EDT
DTSTART:20230312T070000
END:DAYLIGHT
BEGIN:STANDARD
TZOFFSETFROM:-0400
TZOFFSETTO:-0500
TZNAME:EST
DTSTART:20231105T060000
END:STANDARD
BEGIN:DAYLIGHT
TZOFFSETFROM:-0500
TZOFFSETTO:-0400
TZNAME:EDT
DTSTART:20240310T070000
END:DAYLIGHT
BEGIN:STANDARD
TZOFFSETFROM:-0400
TZOFFSETTO:-0500
TZNAME:EST
DTSTART:20241103T060000
END:STANDARD
BEGIN:DAYLIGHT
TZOFFSETFROM:-0500
TZOFFSETTO:-0400
TZNAME:EDT
DTSTART:20250309T070000
END:DAYLIGHT
BEGIN:STANDARD
TZOFFSETFROM:-0400
TZOFFSETTO:-0500
TZNAME:EST
DTSTART:20251102T060000
END:STANDARD
END:VTIMEZONE
BEGIN:VEVENT
DTSTART;TZID=America/New_York:20240916T153000
DTEND;TZID=America/New_York:20240916T163000
DTSTAMP:20260422T052713
CREATED:20240212T194638Z
LAST-MODIFIED:20251223T210033Z
UID:30433-1726500600-1726504200@myerstown.lclibs.org
SUMMARY:PokeMondays
DESCRIPTION:Bring your deck or devices to play. No previous experience required!
URL:https://myerstown.lclibs.org/event/pokemondays-2/2024-09-16/
LOCATION:Myerstown Community Library\, 199 N. College Street\, Myerstown\, PA\, 17067\, United States
CATEGORIES:After-School Club,Children,Myerstown Community Library
ORGANIZER;CN="Sarah Bair":MAILTO:sbair@lclibs.org
END:VEVENT
BEGIN:VEVENT
DTSTART;TZID=America/New_York:20240913T130000
DTEND;TZID=America/New_York:20240913T140000
DTSTAMP:20260422T052713
CREATED:20240814T153357Z
LAST-MODIFIED:20240814T153357Z
UID:31142-1726232400-1726236000@myerstown.lclibs.org
SUMMARY:Using Google Accounts
DESCRIPTION:Learn how to create and use a Google Account which can be used from any computer with internet to access email\, word processing\, file storage\, and more. Call the library at 717-866-2800 to register. Space is limited!
URL:https://myerstown.lclibs.org/event/using-google-accounts/
LOCATION:Myerstown Community Library\, 199 N. College Street\, Myerstown\, PA\, 17067\, United States
CATEGORIES:Adult program,Adults,Computer Class,FITT Class,Lebanon County Libraries,Myerstown Community Library,Technology
ORGANIZER;CN="Michelle Hawk":MAILTO:hawk@lclibs.org
END:VEVENT
BEGIN:VEVENT
DTSTART;TZID=America/New_York:20240913T103000
DTEND;TZID=America/New_York:20240913T113000
DTSTAMP:20260422T052713
CREATED:20240301T195818Z
LAST-MODIFIED:20251219T154215Z
UID:30625-1726223400-1726227000@myerstown.lclibs.org
SUMMARY:Preschool Story Time
DESCRIPTION:Join in the fun with stories\, songs\, and more that encourage development of Early Literacy skills in young children.
URL:https://myerstown.lclibs.org/event/preschool-story-time-2/2024-09-13/
LOCATION:Myerstown Community Library\, 199 N. College Street\, Myerstown\, PA\, 17067\, United States
CATEGORIES:Children,Myerstown Community Library,Storytime
ORGANIZER;CN="Sarah Bair":MAILTO:sbair@lclibs.org
END:VEVENT
BEGIN:VEVENT
DTSTART;TZID=America/New_York:20240912T173000
DTEND;TZID=America/New_York:20240912T183000
DTSTAMP:20260422T052713
CREATED:20240212T200633Z
LAST-MODIFIED:20240212T200633Z
UID:30482-1726162200-1726165800@myerstown.lclibs.org
SUMMARY:Great Discussions
DESCRIPTION:Join us for Great Discussions in the humanities and a review of the annual Great Decisions publication.
URL:https://myerstown.lclibs.org/event/great-discussions/2024-09-12/
LOCATION:Myerstown Community Library\, 199 N. College Street\, Myerstown\, PA\, 17067\, United States
CATEGORIES:Adult program,Adults,Book Discussion,Civic Literacy,Interest Group,Myerstown Community Library
ORGANIZER;CN="Sarah Bair":MAILTO:sbair@lclibs.org
END:VEVENT
BEGIN:VEVENT
DTSTART;TZID=America/New_York:20240911T173000
DTEND;TZID=America/New_York:20240911T183000
DTSTAMP:20260422T052713
CREATED:20240905T182133Z
LAST-MODIFIED:20250609T165154Z
UID:31162-1726075800-1726079400@myerstown.lclibs.org
SUMMARY:Explorations in Music
DESCRIPTION:Join in the discussion! Each month\, on the second Wednesday at 6pm\, we will meet at the library to discuss music culture\, genre\, and influence. This group is open to the public\, and discussions are moderated. Share your thoughts and lend your voice!\n\nSeptember – Apple Music’s 100 Best AlbumsOctober – Cover Songs and Tribute AlbumsNovember – What is country music?December – Holiday Music
URL:https://myerstown.lclibs.org/event/explorations-in-music/2024-09-11/
LOCATION:Myerstown Community Library\, 199 N. College Street\, Myerstown\, PA\, 17067\, United States
CATEGORIES:Adult program,Adults,Interest Group,Lebanon County Libraries,Lebanon County Library System,Music,Myerstown Community Library
ORGANIZER;CN="Sarah Bair":MAILTO:sbair@lclibs.org
END:VEVENT
BEGIN:VEVENT
DTSTART;TZID=America/New_York:20240907T120000
DTEND;TZID=America/New_York:20240907T153000
DTSTAMP:20260422T052713
CREATED:20240905T181422Z
LAST-MODIFIED:20240905T181422Z
UID:31160-1725710400-1725723000@myerstown.lclibs.org
SUMMARY:Arcade Afternoon
DESCRIPTION:Join us for fun and games! Classic 80s and 90s games\, plus a few new ones! Single player\, four player games\, and more! No quarters required! \nCall the library to register: 717-866-2800.
URL:https://myerstown.lclibs.org/event/arcade-afternoon/
LOCATION:Myerstown Community Library\, 199 N. College Street\, Myerstown\, PA\, 17067\, United States
CATEGORIES:Lebanon County Libraries,Lebanon County Library System,Myerstown Community Library,Technology,Teens,Tweens,YA Program
ORGANIZER;CN="Sarah Bair":MAILTO:sbair@lclibs.org
END:VEVENT
BEGIN:VEVENT
DTSTART;TZID=America/New_York:20240906T130000
DTEND;TZID=America/New_York:20240906T140000
DTSTAMP:20260422T052713
CREATED:20240814T151814Z
LAST-MODIFIED:20240814T151814Z
UID:31140-1725627600-1725631200@myerstown.lclibs.org
SUMMARY:Email Basics class
DESCRIPTION:Learn the basics of using email\, including how to create an email account\, send and receive emails\, attach files\, and print from an email. Call the library at 717-866-2800 to register – space is limited.
URL:https://myerstown.lclibs.org/event/email-basics-class/
LOCATION:Myerstown Community Library\, 199 N. College Street\, Myerstown\, PA\, 17067\, United States
CATEGORIES:Adult program,Adults,Computer Class,FITT Class,Lebanon County Libraries,Myerstown Community Library,Technology
ORGANIZER;CN="Michelle Hawk":MAILTO:hawk@lclibs.org
END:VEVENT
BEGIN:VEVENT
DTSTART;TZID=America/New_York:20240906T103000
DTEND;TZID=America/New_York:20240906T113000
DTSTAMP:20260422T052713
CREATED:20240301T195818Z
LAST-MODIFIED:20251219T154215Z
UID:30624-1725618600-1725622200@myerstown.lclibs.org
SUMMARY:Preschool Story Time
DESCRIPTION:Join in the fun with stories\, songs\, and more that encourage development of Early Literacy skills in young children.
URL:https://myerstown.lclibs.org/event/preschool-story-time-2/2024-09-06/
LOCATION:Myerstown Community Library\, 199 N. College Street\, Myerstown\, PA\, 17067\, United States
CATEGORIES:Children,Myerstown Community Library,Storytime
ORGANIZER;CN="Sarah Bair":MAILTO:sbair@lclibs.org
END:VEVENT
BEGIN:VEVENT
DTSTART;TZID=America/New_York:20240904T103000
DTEND;TZID=America/New_York:20240904T113000
DTSTAMP:20260422T052713
CREATED:20240212T192844Z
LAST-MODIFIED:20241223T214032Z
UID:30389-1725445800-1725449400@myerstown.lclibs.org
SUMMARY:Sit & Knit
DESCRIPTION:A place to talk\, ask questions\, and share your love of knitting\, crocheting and everything that goes with it.
URL:https://myerstown.lclibs.org/event/sit-knit-2/2024-09-04/
LOCATION:Myerstown Community Library\, 199 N. College Street\, Myerstown\, PA\, 17067\, United States
CATEGORIES:Adult program,Adults,Craft Program,Myerstown Community Library
ORGANIZER;CN="Sarah Bair":MAILTO:sbair@lclibs.org
END:VEVENT
BEGIN:VEVENT
DTSTART;VALUE=DATE:20240902
DTEND;VALUE=DATE:20240903
DTSTAMP:20260422T052713
CREATED:20240802T153938Z
LAST-MODIFIED:20240802T153938Z
UID:31130-1725235200-1725321599@myerstown.lclibs.org
SUMMARY:MCL CLOSED FOR LABOR DAY
DESCRIPTION:
URL:https://myerstown.lclibs.org/event/mcl-closed-for-labor-day/
LOCATION:Myerstown Community Library\, 199 N. College Street\, Myerstown\, PA\, 17067\, United States
CATEGORIES:Lebanon County Libraries,Lebanon County Library System,Library Closure,Myerstown Community Library
ORGANIZER;CN="Sarah Bair":MAILTO:sbair@lclibs.org
END:VEVENT
BEGIN:VEVENT
DTSTART;TZID=America/New_York:20240831T110000
DTEND;TZID=America/New_York:20240831T120000
DTSTAMP:20260422T052713
CREATED:20240212T201719Z
LAST-MODIFIED:20260112T223901Z
UID:30505-1725102000-1725105600@myerstown.lclibs.org
SUMMARY:BYOB Book Club
DESCRIPTION:BYOB – Bring Your Own Book Club! We discuss our favorite books and current reads.
URL:https://myerstown.lclibs.org/event/byob-book-club/2024-08-31/
LOCATION:Myerstown Community Library\, 199 N. College Street\, Myerstown\, PA\, 17067\, United States
CATEGORIES:Adult program,Adults,Book Club,Book Discussion,Myerstown Community Library
ORGANIZER;CN="Sarah Bair":MAILTO:sbair@lclibs.org
END:VEVENT
BEGIN:VEVENT
DTSTART;TZID=America/New_York:20240830T103000
DTEND;TZID=America/New_York:20240830T113000
DTSTAMP:20260422T052713
CREATED:20240301T195818Z
LAST-MODIFIED:20251219T154214Z
UID:30623-1725013800-1725017400@myerstown.lclibs.org
SUMMARY:Preschool Story Time
DESCRIPTION:Join in the fun with stories\, songs\, and more that encourage development of Early Literacy skills in young children.
URL:https://myerstown.lclibs.org/event/preschool-story-time-2/2024-08-30/
LOCATION:Myerstown Community Library\, 199 N. College Street\, Myerstown\, PA\, 17067\, United States
CATEGORIES:Children,Myerstown Community Library,Storytime
ORGANIZER;CN="Sarah Bair":MAILTO:sbair@lclibs.org
END:VEVENT
BEGIN:VEVENT
DTSTART;TZID=America/New_York:20240829T170000
DTEND;TZID=America/New_York:20240829T190000
DTSTAMP:20260422T052713
CREATED:20240731T223006Z
LAST-MODIFIED:20240731T223006Z
UID:31121-1724950800-1724958000@myerstown.lclibs.org
SUMMARY:Roll for initiative! D&D at the library!
DESCRIPTION:Join our adventure guild and test out your skills! We are looking for paladins\, wizards\, bards\, and warlocks to join us on our adventure as we train to fight monsters\, beasts\, and other mythical creatures!\n\nThis is a Dungeons & Dragons (D&D) roleplaying group that meets once a month.\nRecommended for ages 14 and up! Beginners welcome – we will teach you!\nREGISTRATION IS REQUIRED.
URL:https://myerstown.lclibs.org/event/roll-for-initiative-dd-at-the-library-3/
LOCATION:Myerstown Community Library\, 199 N. College Street\, Myerstown\, PA\, 17067\, United States
CATEGORIES:Adult program,Adults,Community Event,Lebanon County Libraries,Lebanon County Library System,Myerstown Community Library,Teens,YA Program
ORGANIZER;CN="Sarah Bair":MAILTO:sbair@lclibs.org
END:VEVENT
BEGIN:VEVENT
DTSTART;TZID=America/New_York:20240828T170000
DTEND;TZID=America/New_York:20240828T190000
DTSTAMP:20260422T052713
CREATED:20240731T222508Z
LAST-MODIFIED:20240731T222508Z
UID:31119-1724864400-1724871600@myerstown.lclibs.org
SUMMARY:Adult Craft Night
DESCRIPTION:Looking for date night ideas? Want an evening out of the house? Join us for this FREE evening of crafting. If you’re not a “crafter”\, don’t worry\, you can still have fun! \n*REGISTRATION REQUIRED* Ages 18 and up \nAugust Craft: String Art
URL:https://myerstown.lclibs.org/event/adult-craft-night-3/
LOCATION:Myerstown Community Library\, 199 N. College Street\, Myerstown\, PA\, 17067\, United States
CATEGORIES:Adult program,Adults,Craft Program,Lebanon County Libraries,Lebanon County Library System,Myerstown Community Library
ORGANIZER;CN="Sarah Bair":MAILTO:sbair@lclibs.org
END:VEVENT
BEGIN:VEVENT
DTSTART;TZID=America/New_York:20240823T103000
DTEND;TZID=America/New_York:20240823T113000
DTSTAMP:20260422T052713
CREATED:20240301T195818Z
LAST-MODIFIED:20251219T154214Z
UID:30622-1724409000-1724412600@myerstown.lclibs.org
SUMMARY:Preschool Story Time
DESCRIPTION:Join in the fun with stories\, songs\, and more that encourage development of Early Literacy skills in young children.
URL:https://myerstown.lclibs.org/event/preschool-story-time-2/2024-08-23/
LOCATION:Myerstown Community Library\, 199 N. College Street\, Myerstown\, PA\, 17067\, United States
CATEGORIES:Children,Myerstown Community Library,Storytime
ORGANIZER;CN="Sarah Bair":MAILTO:sbair@lclibs.org
END:VEVENT
BEGIN:VEVENT
DTSTART;TZID=America/New_York:20240821T180000
DTEND;TZID=America/New_York:20240821T183000
DTSTAMP:20260422T052713
CREATED:20240731T220604Z
LAST-MODIFIED:20240731T220604Z
UID:31115-1724263200-1724265000@myerstown.lclibs.org
SUMMARY:Lebanon County Reads Book Club
DESCRIPTION:Join in the discussion of the 2024 Lebanon County Reads Winner\, “The House is On Fire” by Rachel Beanland! \nRegister by calling the library at 717-866-2800.
URL:https://myerstown.lclibs.org/event/lebanon-county-reads-book-club/
LOCATION:Myerstown Community Library\, 199 N. College Street\, Myerstown\, PA\, 17067\, United States
CATEGORIES:Adult program,Adults,Book Club,Book Discussion,Lebanon County Libraries,Lebanon County Library System,Lebanon County Reads,Myerstown Community Library
ORGANIZER;CN="Sarah Bair":MAILTO:sbair@lclibs.org
END:VEVENT
BEGIN:VEVENT
DTSTART;TZID=America/New_York:20240821T103000
DTEND;TZID=America/New_York:20240821T113000
DTSTAMP:20260422T052713
CREATED:20240212T192844Z
LAST-MODIFIED:20241223T214032Z
UID:30388-1724236200-1724239800@myerstown.lclibs.org
SUMMARY:Sit & Knit
DESCRIPTION:A place to talk\, ask questions\, and share your love of knitting\, crocheting and everything that goes with it.
URL:https://myerstown.lclibs.org/event/sit-knit-2/2024-08-21/
LOCATION:Myerstown Community Library\, 199 N. College Street\, Myerstown\, PA\, 17067\, United States
CATEGORIES:Adult program,Adults,Craft Program,Myerstown Community Library
ORGANIZER;CN="Sarah Bair":MAILTO:sbair@lclibs.org
END:VEVENT
BEGIN:VEVENT
DTSTART;TZID=America/New_York:20240820T183000
DTEND;TZID=America/New_York:20240820T200000
DTSTAMP:20260422T052713
CREATED:20240212T195749Z
LAST-MODIFIED:20251219T175113Z
UID:30457-1724178600-1724184000@myerstown.lclibs.org
SUMMARY:Library Board Meeting
DESCRIPTION:The Library Board meets on the third Tuesday of each month at 6:30pm. These meetings are open to the public and are subject to change without notice.
URL:https://myerstown.lclibs.org/event/library-board-meeting/2024-08-20/
LOCATION:Myerstown Community Library\, 199 N. College Street\, Myerstown\, PA\, 17067\, United States
CATEGORIES:Adult program,Board Meeting,Myerstown Community Library
ORGANIZER;CN="Sarah Bair":MAILTO:sbair@lclibs.org
END:VEVENT
BEGIN:VEVENT
DTSTART;TZID=America/New_York:20240820T100000
DTEND;TZID=America/New_York:20240820T140000
DTSTAMP:20260422T052713
CREATED:20240715T151540Z
LAST-MODIFIED:20240715T151540Z
UID:31068-1724148000-1724162400@myerstown.lclibs.org
SUMMARY:Tech Help
DESCRIPTION:Lose the stress and gain tech confidence with Tech Help! \nReserve your 30 minute session for one-on-one help with your device or task (like creating an email account\, filling out a job application\, and more)! \nReserve your spot at the library or call 717-866-2800. \nTech Help is made possible by The Bishop Foundation.
URL:https://myerstown.lclibs.org/event/tech-help/
LOCATION:Myerstown Community Library\, 199 N. College Street\, Myerstown\, PA\, 17067\, United States
CATEGORIES:Adult program,Adults,Computer Class,FITT Class,Lebanon County Libraries,Myerstown Community Library,Technology
ORGANIZER;CN="Michelle Hawk":MAILTO:hawk@lclibs.org
END:VEVENT
BEGIN:VEVENT
DTSTART;TZID=America/New_York:20240819T153000
DTEND;TZID=America/New_York:20240819T163000
DTSTAMP:20260422T052713
CREATED:20240212T194638Z
LAST-MODIFIED:20251223T210033Z
UID:30432-1724081400-1724085000@myerstown.lclibs.org
SUMMARY:PokeMondays
DESCRIPTION:Bring your deck or devices to play. No previous experience required!
URL:https://myerstown.lclibs.org/event/pokemondays-2/2024-08-19/
LOCATION:Myerstown Community Library\, 199 N. College Street\, Myerstown\, PA\, 17067\, United States
CATEGORIES:After-School Club,Children,Myerstown Community Library
ORGANIZER;CN="Sarah Bair":MAILTO:sbair@lclibs.org
END:VEVENT
BEGIN:VEVENT
DTSTART;TZID=America/New_York:20240819T110000
DTEND;TZID=America/New_York:20240819T113000
DTSTAMP:20260422T052713
CREATED:20240523T222906Z
LAST-MODIFIED:20240523T222906Z
UID:30856-1724065200-1724067000@myerstown.lclibs.org
SUMMARY:ABC Babies and Books
DESCRIPTION:An interactive story time for children ages 0-2 and their caregivers. No registration required! \nThis program is in lieu of Smart Start Story Time during the summer months.
URL:https://myerstown.lclibs.org/event/abc-babies-and-books/2024-08-19/
LOCATION:Myerstown Community Library\, 199 N. College Street\, Myerstown\, PA\, 17067\, United States
CATEGORIES:Children,Storytime,Summer Reading Program
ORGANIZER;CN="Sarah Bair":MAILTO:sbair@lclibs.org
END:VEVENT
BEGIN:VEVENT
DTSTART;TZID=America/New_York:20240817T110000
DTEND;TZID=America/New_York:20240817T120000
DTSTAMP:20260422T052713
CREATED:20240301T200314Z
LAST-MODIFIED:20260130T192712Z
UID:30571-1723892400-1723896000@myerstown.lclibs.org
SUMMARY:STEAM Saturdays
DESCRIPTION:Registration required. Recommended for ages 8-14.\n\nSTEAM stands for Science Technology Engineering Art and Math! “STEAM” Saturdays allow children to partake in building challenges\, experiments\, robotics\, and more!
URL:https://myerstown.lclibs.org/event/steam-saturdays/2024-08-17/
LOCATION:Myerstown Community Library\, 199 N. College Street\, Myerstown\, PA\, 17067\, United States
CATEGORIES:Children,Myerstown Community Library,STEM
ORGANIZER;CN="Sarah Bair":MAILTO:sbair@lclibs.org
END:VEVENT
BEGIN:VEVENT
DTSTART;TZID=America/New_York:20240816T103000
DTEND;TZID=America/New_York:20240816T113000
DTSTAMP:20260422T052713
CREATED:20240301T195818Z
LAST-MODIFIED:20251219T154214Z
UID:30621-1723804200-1723807800@myerstown.lclibs.org
SUMMARY:Preschool Story Time
DESCRIPTION:Join in the fun with stories\, songs\, and more that encourage development of Early Literacy skills in young children.
URL:https://myerstown.lclibs.org/event/preschool-story-time-2/2024-08-16/
LOCATION:Myerstown Community Library\, 199 N. College Street\, Myerstown\, PA\, 17067\, United States
CATEGORIES:Children,Myerstown Community Library,Storytime
ORGANIZER;CN="Sarah Bair":MAILTO:sbair@lclibs.org
END:VEVENT
BEGIN:VEVENT
DTSTART;TZID=America/New_York:20240815T180000
DTEND;TZID=America/New_York:20240815T190000
DTSTAMP:20260422T052713
CREATED:20240627T195531Z
LAST-MODIFIED:20240627T195531Z
UID:31058-1723744800-1723748400@myerstown.lclibs.org
SUMMARY:Robert Trout Book Talk
DESCRIPTION:Join us for this book talk and Q&A with published local author Bob Trout! Check out his books at the library! \nBob will be giving out and signing his books at this event for FREE!
URL:https://myerstown.lclibs.org/event/robert-trout-book-talk-2/
LOCATION:Myerstown Community Library\, 199 N. College Street\, Myerstown\, PA\, 17067\, United States
CATEGORIES:Book Discussion,Children,Community Event,Family Program,Lebanon County Library System,Myerstown Community Library
ORGANIZER;CN="Sarah Bair":MAILTO:sbair@lclibs.org
END:VEVENT
BEGIN:VEVENT
DTSTART;TZID=America/New_York:20240814T170000
DTEND;TZID=America/New_York:20240814T183000
DTSTAMP:20260422T052713
CREATED:20240617T171001Z
LAST-MODIFIED:20240731T211953Z
UID:31011-1723654800-1723660200@myerstown.lclibs.org
SUMMARY:4th Annual Pet Show
DESCRIPTION:Stop by the library to register your fuzzy friend or your scaled sidekick for our 4th Annual Pet Show! \nPets must be pre-registered! \nAwards will be given for Best Dressed\, Best Trick\, and more! \nHot dogs and cookies will be available for our human friends! This event will be outside!
URL:https://myerstown.lclibs.org/event/4th-annual-pet-show/
LOCATION:Myerstown Community Library\, 199 N. College Street\, Myerstown\, PA\, 17067\, United States
CATEGORIES:Children,Community Event,Family Program,Lebanon County Library System,Myerstown Community Library,Summer Reading Program
ORGANIZER;CN="Sarah Bair":MAILTO:sbair@lclibs.org
END:VEVENT
BEGIN:VEVENT
DTSTART;TZID=America/New_York:20240812T110000
DTEND;TZID=America/New_York:20240812T113000
DTSTAMP:20260422T052713
CREATED:20240523T222906Z
LAST-MODIFIED:20240523T222906Z
UID:30855-1723460400-1723462200@myerstown.lclibs.org
SUMMARY:ABC Babies and Books
DESCRIPTION:An interactive story time for children ages 0-2 and their caregivers. No registration required! \nThis program is in lieu of Smart Start Story Time during the summer months.
URL:https://myerstown.lclibs.org/event/abc-babies-and-books/2024-08-12/
LOCATION:Myerstown Community Library\, 199 N. College Street\, Myerstown\, PA\, 17067\, United States
CATEGORIES:Children,Storytime,Summer Reading Program
ORGANIZER;CN="Sarah Bair":MAILTO:sbair@lclibs.org
END:VEVENT
BEGIN:VEVENT
DTSTART;TZID=America/New_York:20240809T103000
DTEND;TZID=America/New_York:20240809T113000
DTSTAMP:20260422T052713
CREATED:20240301T195818Z
LAST-MODIFIED:20251219T154214Z
UID:30620-1723199400-1723203000@myerstown.lclibs.org
SUMMARY:Preschool Story Time
DESCRIPTION:Join in the fun with stories\, songs\, and more that encourage development of Early Literacy skills in young children.
URL:https://myerstown.lclibs.org/event/preschool-story-time-2/2024-08-09/
LOCATION:Myerstown Community Library\, 199 N. College Street\, Myerstown\, PA\, 17067\, United States
CATEGORIES:Children,Myerstown Community Library,Storytime
ORGANIZER;CN="Sarah Bair":MAILTO:sbair@lclibs.org
END:VEVENT
BEGIN:VEVENT
DTSTART;TZID=America/New_York:20240808T173000
DTEND;TZID=America/New_York:20240808T183000
DTSTAMP:20260422T052713
CREATED:20240212T200633Z
LAST-MODIFIED:20240212T200633Z
UID:30481-1723138200-1723141800@myerstown.lclibs.org
SUMMARY:Great Discussions
DESCRIPTION:Join us for Great Discussions in the humanities and a review of the annual Great Decisions publication.
URL:https://myerstown.lclibs.org/event/great-discussions/2024-08-08/
LOCATION:Myerstown Community Library\, 199 N. College Street\, Myerstown\, PA\, 17067\, United States
CATEGORIES:Adult program,Adults,Book Discussion,Civic Literacy,Interest Group,Myerstown Community Library
ORGANIZER;CN="Sarah Bair":MAILTO:sbair@lclibs.org
END:VEVENT
BEGIN:VEVENT
DTSTART;TZID=America/New_York:20240807T103000
DTEND;TZID=America/New_York:20240807T113000
DTSTAMP:20260422T052713
CREATED:20240212T192844Z
LAST-MODIFIED:20241223T214011Z
UID:30387-1723026600-1723030200@myerstown.lclibs.org
SUMMARY:Sit & Knit
DESCRIPTION:A place to talk\, ask questions\, and share your love of knitting\, crocheting and everything that goes with it.
URL:https://myerstown.lclibs.org/event/sit-knit-2/2024-08-07/
LOCATION:Myerstown Community Library\, 199 N. College Street\, Myerstown\, PA\, 17067\, United States
CATEGORIES:Adult program,Adults,Craft Program,Myerstown Community Library
ORGANIZER;CN="Sarah Bair":MAILTO:sbair@lclibs.org
END:VEVENT
BEGIN:VEVENT
DTSTART;TZID=America/New_York:20240806T120000
DTEND;TZID=America/New_York:20240806T160000
DTSTAMP:20260422T052713
CREATED:20240524T165445Z
LAST-MODIFIED:20240524T165445Z
UID:30865-1722945600-1722960000@myerstown.lclibs.org
SUMMARY:Be a Space Scientist!
DESCRIPTION:This program is hosted by the library and presented by the North Museum of Nature & Science of Lancaster! This is a drop-in program presented in stations around the library with a variety of science activities.\nNo registration is required.\n\nThis FREE program is recommended for grades K-6th. You do NOT need to attend all of the sessions consecutively.
URL:https://myerstown.lclibs.org/event/be-a-space-scientist/2024-08-06/
LOCATION:Myerstown Community Library\, 199 N. College Street\, Myerstown\, PA\, 17067\, United States
CATEGORIES:Children,Family Program,Lebanon County Libraries,Myerstown Community Library,STEM,Summer Reading Program
ORGANIZER;CN="Sarah Bair":MAILTO:sbair@lclibs.org
END:VEVENT
END:VCALENDAR