BEGIN:VCALENDAR
VERSION:2.0
PRODID:-//Myerstown Community Library - ECPv6.15.17.1//NONSGML v1.0//EN
CALSCALE:GREGORIAN
METHOD:PUBLISH
X-WR-CALNAME:Myerstown Community Library
X-ORIGINAL-URL:https://myerstown.lclibs.org
X-WR-CALDESC:Events for Myerstown Community Library
REFRESH-INTERVAL;VALUE=DURATION:PT1H
X-Robots-Tag:noindex
X-PUBLISHED-TTL:PT1H
BEGIN:VTIMEZONE
TZID:America/New_York
BEGIN:DAYLIGHT
TZOFFSETFROM:-0500
TZOFFSETTO:-0400
TZNAME:EDT
DTSTART:20230312T070000
END:DAYLIGHT
BEGIN:STANDARD
TZOFFSETFROM:-0400
TZOFFSETTO:-0500
TZNAME:EST
DTSTART:20231105T060000
END:STANDARD
BEGIN:DAYLIGHT
TZOFFSETFROM:-0500
TZOFFSETTO:-0400
TZNAME:EDT
DTSTART:20240310T070000
END:DAYLIGHT
BEGIN:STANDARD
TZOFFSETFROM:-0400
TZOFFSETTO:-0500
TZNAME:EST
DTSTART:20241103T060000
END:STANDARD
BEGIN:DAYLIGHT
TZOFFSETFROM:-0500
TZOFFSETTO:-0400
TZNAME:EDT
DTSTART:20250309T070000
END:DAYLIGHT
BEGIN:STANDARD
TZOFFSETFROM:-0400
TZOFFSETTO:-0500
TZNAME:EST
DTSTART:20251102T060000
END:STANDARD
END:VTIMEZONE
BEGIN:VEVENT
DTSTART;VALUE=DATE:20240504
DTEND;VALUE=DATE:20240505
DTSTAMP:20260422T212232
CREATED:20240415T205050Z
LAST-MODIFIED:20240415T205050Z
UID:30773-1714780800-1714867199@myerstown.lclibs.org
SUMMARY:Free Comic Book Day
DESCRIPTION:Visit the library during this all-day event! We have comic books for early readers through high school. Grab-and-go activities are available as well. While supplies last- don’t miss out!
URL:https://myerstown.lclibs.org/event/free-comic-book-day/
LOCATION:Myerstown Community Library\, 199 N. College Street\, Myerstown\, PA\, 17067\, United States
CATEGORIES:Children,Community Event,Myerstown Community Library,STEM,Teens
ORGANIZER;CN="Sarah Bair":MAILTO:sbair@lclibs.org
END:VEVENT
BEGIN:VEVENT
DTSTART;TZID=America/New_York:20240503T103000
DTEND;TZID=America/New_York:20240503T113000
DTSTAMP:20260422T212232
CREATED:20240301T195818Z
LAST-MODIFIED:20251219T154103Z
UID:30606-1714732200-1714735800@myerstown.lclibs.org
SUMMARY:Preschool Story Time
DESCRIPTION:Join in the fun with stories\, songs\, and more that encourage development of Early Literacy skills in young children.
URL:https://myerstown.lclibs.org/event/preschool-story-time-2/2024-05-03/
LOCATION:Myerstown Community Library\, 199 N. College Street\, Myerstown\, PA\, 17067\, United States
CATEGORIES:Children,Myerstown Community Library,Storytime
ORGANIZER;CN="Sarah Bair":MAILTO:sbair@lclibs.org
END:VEVENT
BEGIN:VEVENT
DTSTART;TZID=America/New_York:20240502T113000
DTEND;TZID=America/New_York:20240502T123000
DTSTAMP:20260422T212232
CREATED:20221021T142906Z
LAST-MODIFIED:20221021T142906Z
UID:30112-1714649400-1714653000@myerstown.lclibs.org
SUMMARY:Smart Start Storytime
DESCRIPTION:Smart Start Storytime is a free\, 30 minute program for babies birth through two years of age and their parents\, grandparents\, and caregivers. No registration is required and siblings are welcome to attend!
URL:https://myerstown.lclibs.org/event/smart-start-storytime-3/2024-05-02/
LOCATION:Myerstown Community Library\, 199 N. College Street\, Myerstown\, PA\, 17067\, United States
CATEGORIES:Children,Family Program,Lebanon County Libraries,Lebanon County Library System,Myerstown Community Library,Smart Start Storytime,Storytime
ORGANIZER;CN="Michelle Hawk":MAILTO:hawk@lclibs.org
END:VEVENT
BEGIN:VEVENT
DTSTART;TZID=America/New_York:20240501T103000
DTEND;TZID=America/New_York:20240501T113000
DTSTAMP:20260422T212232
CREATED:20240212T192844Z
LAST-MODIFIED:20241223T214010Z
UID:30380-1714559400-1714563000@myerstown.lclibs.org
SUMMARY:Sit & Knit
DESCRIPTION:A place to talk\, ask questions\, and share your love of knitting\, crocheting and everything that goes with it.
URL:https://myerstown.lclibs.org/event/sit-knit-2/2024-05-01/
LOCATION:Myerstown Community Library\, 199 N. College Street\, Myerstown\, PA\, 17067\, United States
CATEGORIES:Adult program,Adults,Craft Program,Myerstown Community Library
ORGANIZER;CN="Sarah Bair":MAILTO:sbair@lclibs.org
END:VEVENT
BEGIN:VEVENT
DTSTART;TZID=America/New_York:20240430T150000
DTEND;TZID=America/New_York:20240430T160000
DTSTAMP:20260422T212232
CREATED:20240315T131406Z
LAST-MODIFIED:20240315T131406Z
UID:30734-1714489200-1714492800@myerstown.lclibs.org
SUMMARY:Cyber Security
DESCRIPTION:We’ll discuss how to identify cyber security threats such as phishing\, viruses\, and ransomware. Participants will also learn the difference between antivirus software and internet security programs\, as well as things to consider when purchasing antivirus software for a home computer. Call 717-866-2800 to register; space is limited. \nBrought to you by The Bishop Foundation.
URL:https://myerstown.lclibs.org/event/cyber-security/
LOCATION:Myerstown Community Library\, 199 N. College Street\, Myerstown\, PA\, 17067\, United States
CATEGORIES:Adult program,Adults,FITT Class,Lebanon County Libraries,Myerstown Community Library,Technology
ORGANIZER;CN="Michelle Hawk":MAILTO:hawk@lclibs.org
END:VEVENT
BEGIN:VEVENT
DTSTART;TZID=America/New_York:20240429T130000
DTEND;TZID=America/New_York:20240429T140000
DTSTAMP:20260422T212232
CREATED:20240301T202428Z
LAST-MODIFIED:20240301T202715Z
UID:30593-1714395600-1714399200@myerstown.lclibs.org
SUMMARY:Pollinators and Native Plants with PSU Master Gardener Anita Mentzer
DESCRIPTION:Join us for a presentation about pollinators and native plants with PSU Master Gardener\, Anita Mentzer! Registration is requested. Space is limited! \nGive us a call to register at 717-866-2800. \nThis program is hosted at the library in conjunction with the Longwood Gardens Community Read Program and PSU Master Gardeners.
URL:https://myerstown.lclibs.org/event/pollinators-and-native-plants-with-psu-master-gardener-anita-mentzer/
LOCATION:Myerstown Community Library\, 199 N. College Street\, Myerstown\, PA\, 17067\, United States
CATEGORIES:Adult program,Adults,Community Event,Myerstown Community Library
ORGANIZER;CN="Sarah Bair":MAILTO:sbair@lclibs.org
END:VEVENT
BEGIN:VEVENT
DTSTART;TZID=America/New_York:20240427T110000
DTEND;TZID=America/New_York:20240427T120000
DTSTAMP:20260422T212232
CREATED:20240212T201719Z
LAST-MODIFIED:20260112T223900Z
UID:30501-1714215600-1714219200@myerstown.lclibs.org
SUMMARY:BYOB Book Club
DESCRIPTION:BYOB – Bring Your Own Book Club! We discuss our favorite books and current reads.
URL:https://myerstown.lclibs.org/event/byob-book-club/2024-04-27/
LOCATION:Myerstown Community Library\, 199 N. College Street\, Myerstown\, PA\, 17067\, United States
CATEGORIES:Adult program,Adults,Book Club,Book Discussion,Myerstown Community Library
ORGANIZER;CN="Sarah Bair":MAILTO:sbair@lclibs.org
END:VEVENT
BEGIN:VEVENT
DTSTART;TZID=America/New_York:20240426T103000
DTEND;TZID=America/New_York:20240426T113000
DTSTAMP:20260422T212232
CREATED:20240301T195818Z
LAST-MODIFIED:20251219T154103Z
UID:30605-1714127400-1714131000@myerstown.lclibs.org
SUMMARY:Preschool Story Time
DESCRIPTION:Join in the fun with stories\, songs\, and more that encourage development of Early Literacy skills in young children.
URL:https://myerstown.lclibs.org/event/preschool-story-time-2/2024-04-26/
LOCATION:Myerstown Community Library\, 199 N. College Street\, Myerstown\, PA\, 17067\, United States
CATEGORIES:Children,Myerstown Community Library,Storytime
ORGANIZER;CN="Sarah Bair":MAILTO:sbair@lclibs.org
END:VEVENT
BEGIN:VEVENT
DTSTART;TZID=America/New_York:20240425T113000
DTEND;TZID=America/New_York:20240425T123000
DTSTAMP:20260422T212232
CREATED:20221021T142906Z
LAST-MODIFIED:20221021T142906Z
UID:30111-1714044600-1714048200@myerstown.lclibs.org
SUMMARY:Smart Start Storytime
DESCRIPTION:Smart Start Storytime is a free\, 30 minute program for babies birth through two years of age and their parents\, grandparents\, and caregivers. No registration is required and siblings are welcome to attend!
URL:https://myerstown.lclibs.org/event/smart-start-storytime-3/2024-04-25/
LOCATION:Myerstown Community Library\, 199 N. College Street\, Myerstown\, PA\, 17067\, United States
CATEGORIES:Children,Family Program,Lebanon County Libraries,Lebanon County Library System,Myerstown Community Library,Smart Start Storytime,Storytime
ORGANIZER;CN="Michelle Hawk":MAILTO:hawk@lclibs.org
END:VEVENT
BEGIN:VEVENT
DTSTART;TZID=America/New_York:20240422T110000
DTEND;TZID=America/New_York:20240422T120000
DTSTAMP:20260422T212232
CREATED:20240301T204123Z
LAST-MODIFIED:20240301T204230Z
UID:30597-1713783600-1713787200@myerstown.lclibs.org
SUMMARY:The Secret Garden presented by the Delaware Museum of Nature and Science
DESCRIPTION:The Delaware Museum of Nature and Science is coming to the library to present their program related to “The Secret Garden” by Calista Brill\, and based on the classic novel by Frances Hodgson Burnett. \nPlease register for the program in advance. Space is limited! Give us a call to register at 717-866-2800.
URL:https://myerstown.lclibs.org/event/pollinators-and-native-plants-with-psu-master-gardener-anita-mentzer-2/
LOCATION:Myerstown Community Library\, 199 N. College Street\, Myerstown\, PA\, 17067\, United States
CATEGORIES:Children,Community Event,Family Program,Myerstown Community Library,STEM,Storytime
ORGANIZER;CN="Sarah Bair":MAILTO:sbair@lclibs.org
END:VEVENT
BEGIN:VEVENT
DTSTART;TZID=America/New_York:20240413T130000
DTEND;TZID=America/New_York:20240413T140000
DTSTAMP:20260422T212232
CREATED:20240328T192829Z
LAST-MODIFIED:20240328T192829Z
UID:30756-1713013200-1713016800@myerstown.lclibs.org
SUMMARY:Afternoon of Bad Art
DESCRIPTION:Come create and have fun; no artistic ability required! Leave the idea of making something beautiful at the door! Registration required; stop in or call at 717-866-2800. This event is recommended for adults and teens.
URL:https://myerstown.lclibs.org/event/afternoon-of-bad-art/
LOCATION:Myerstown Community Library\, 199 N. College Street\, Myerstown\, PA\, 17067\, United States
CATEGORIES:Adult program,Adults,Community Event,Craft Program,Myerstown Community Library,Teens,YA Program
ORGANIZER;CN="Sarah Bair":MAILTO:sbair@lclibs.org
END:VEVENT
BEGIN:VEVENT
DTSTART;TZID=America/New_York:20240410T160000
DTEND;TZID=America/New_York:20240410T180000
DTSTAMP:20260422T212232
CREATED:20240328T190904Z
LAST-MODIFIED:20240328T190904Z
UID:30749-1712764800-1712772000@myerstown.lclibs.org
SUMMARY:Paws to Read
DESCRIPTION:Stop by the library at 11am and 4pm to read to our furry friends! \nCassie is here from 11am-12pm. Chai and Latte are here from 4pm-6pm.
URL:https://myerstown.lclibs.org/event/paws-to-read-3/
LOCATION:Myerstown Community Library\, 199 N. College Street\, Myerstown\, PA\, 17067\, United States
CATEGORIES:Children,Community Event,Family Program,Myerstown Community Library
ORGANIZER;CN="Sarah Bair":MAILTO:sbair@lclibs.org
END:VEVENT
BEGIN:VEVENT
DTSTART;TZID=America/New_York:20240410T110000
DTEND;TZID=America/New_York:20240410T120000
DTSTAMP:20260422T212232
CREATED:20240328T190716Z
LAST-MODIFIED:20240328T191004Z
UID:30747-1712746800-1712750400@myerstown.lclibs.org
SUMMARY:Paws to Read
DESCRIPTION:Stop by the library at 11am and 4pm to read to our furry friends! \nCassie is here from 11am-12pm. Chai and Latte are here from 4pm-6pm.
URL:https://myerstown.lclibs.org/event/paws-to-read-2/
LOCATION:Myerstown Community Library\, 199 N. College Street\, Myerstown\, PA\, 17067\, United States
CATEGORIES:Children,Community Event,Family Program,Myerstown Community Library
ORGANIZER;CN="Sarah Bair":MAILTO:sbair@lclibs.org
END:VEVENT
BEGIN:VEVENT
DTSTART;TZID=America/New_York:20240409T160000
DTEND;TZID=America/New_York:20240409T170000
DTSTAMP:20260422T212232
CREATED:20240301T201824Z
LAST-MODIFIED:20240301T201824Z
UID:30591-1712678400-1712682000@myerstown.lclibs.org
SUMMARY:Longwood Gardens Book Club
DESCRIPTION:Join us for a local book club where we will read and discuss “The Last Garden in England” by Julia Kelly. Patrons that register in advance will receive one admission ticket (for up to four people) to Longwood Gardens. Call 717-866-2800 to register! \nThis program is hosted at the library in conjunction with the Longwood Gardens Community Read Program.
URL:https://myerstown.lclibs.org/event/longwood-gardens-book-club/
LOCATION:Myerstown Community Library\, 199 N. College Street\, Myerstown\, PA\, 17067\, United States
CATEGORIES:Adult program,Adults,Book Club,Book Discussion,Community Event,Myerstown Community Library
ORGANIZER;CN="Sarah Bair":MAILTO:sbair@lclibs.org
END:VEVENT
BEGIN:VEVENT
DTSTART;TZID=America/New_York:20240323T110000
DTEND;TZID=America/New_York:20240323T120000
DTSTAMP:20260422T212232
CREATED:20240212T202320Z
LAST-MODIFIED:20240212T202320Z
UID:30524-1711191600-1711195200@myerstown.lclibs.org
SUMMARY:BYOB Book Club
DESCRIPTION:BYOB – Bring Your Own Book Club! We discuss our favorite books and current reads.
URL:https://myerstown.lclibs.org/event/byob-book-club-2/
LOCATION:Myerstown Community Library\, 199 N. College Street\, Myerstown\, PA\, 17067\, United States
CATEGORIES:Adult program,Adults,Book Club,Book Discussion,Myerstown Community Library
ORGANIZER;CN="Sarah Bair":MAILTO:sbair@lclibs.org
END:VEVENT
BEGIN:VEVENT
DTSTART;TZID=America/New_York:20240318T153000
DTEND;TZID=America/New_York:20240318T163000
DTSTAMP:20260422T212232
CREATED:20240212T194638Z
LAST-MODIFIED:20251223T210032Z
UID:30425-1710775800-1710779400@myerstown.lclibs.org
SUMMARY:PokeMondays
DESCRIPTION:Bring your deck or devices to play. No previous experience required!
URL:https://myerstown.lclibs.org/event/pokemondays-2/2024-03-18/
LOCATION:Myerstown Community Library\, 199 N. College Street\, Myerstown\, PA\, 17067\, United States
CATEGORIES:After-School Club,Children,Myerstown Community Library
ORGANIZER;CN="Sarah Bair":MAILTO:sbair@lclibs.org
END:VEVENT
BEGIN:VEVENT
DTSTART;TZID=America/New_York:20240316T110000
DTEND;TZID=America/New_York:20240316T120000
DTSTAMP:20260422T212232
CREATED:20240301T200314Z
LAST-MODIFIED:20260130T192710Z
UID:30566-1710586800-1710590400@myerstown.lclibs.org
SUMMARY:STEAM Saturdays
DESCRIPTION:Registration required. Recommended for ages 8-14.\n\nSTEAM stands for Science Technology Engineering Art and Math! “STEAM” Saturdays allow children to partake in building challenges\, experiments\, robotics\, and more!
URL:https://myerstown.lclibs.org/event/steam-saturdays/2024-03-16/
LOCATION:Myerstown Community Library\, 199 N. College Street\, Myerstown\, PA\, 17067\, United States
CATEGORIES:Children,Myerstown Community Library,STEM
ORGANIZER;CN="Sarah Bair":MAILTO:sbair@lclibs.org
END:VEVENT
BEGIN:VEVENT
DTSTART;TZID=America/New_York:20240314T173000
DTEND;TZID=America/New_York:20240314T183000
DTSTAMP:20260422T212232
CREATED:20240212T200633Z
LAST-MODIFIED:20240212T200633Z
UID:30476-1710437400-1710441000@myerstown.lclibs.org
SUMMARY:Great Discussions
DESCRIPTION:Join us for Great Discussions in the humanities and a review of the annual Great Decisions publication.
URL:https://myerstown.lclibs.org/event/great-discussions/2024-03-14/
LOCATION:Myerstown Community Library\, 199 N. College Street\, Myerstown\, PA\, 17067\, United States
CATEGORIES:Adult program,Adults,Book Discussion,Civic Literacy,Interest Group,Myerstown Community Library
ORGANIZER;CN="Sarah Bair":MAILTO:sbair@lclibs.org
END:VEVENT
BEGIN:VEVENT
DTSTART;TZID=America/New_York:20240308T103000
DTEND;TZID=America/New_York:20240308T113000
DTSTAMP:20260422T212232
CREATED:20240301T195818Z
LAST-MODIFIED:20260112T221446Z
UID:30564-1709893800-1709897400@myerstown.lclibs.org
SUMMARY:Preschool Story Time
DESCRIPTION:Join in the fun with stories\, songs\, and more that encourage development of Early Literacy skills in young children.
URL:https://myerstown.lclibs.org/event/preschool-story-time-2/2024-03-08/
LOCATION:Myerstown Community Library\, 199 N. College Street\, Myerstown\, PA\, 17067\, United States
CATEGORIES:Children,Myerstown Community Library,Storytime
ORGANIZER;CN="Sarah Bair":MAILTO:sbair@lclibs.org
END:VEVENT
BEGIN:VEVENT
DTSTART;TZID=America/New_York:20240306T140000
DTEND;TZID=America/New_York:20240306T150000
DTSTAMP:20260422T212232
CREATED:20240227T154322Z
LAST-MODIFIED:20240227T154322Z
UID:30558-1709733600-1709737200@myerstown.lclibs.org
SUMMARY:Google Accounts
DESCRIPTION:Learn how to create a free Google Account which can be used from any computer with Internet to access email\, word processing\, file storage\, and more. Call 717-866-2800 to register. Space is limited.
URL:https://myerstown.lclibs.org/event/google-accounts/
LOCATION:Myerstown Community Library\, 199 N. College Street\, Myerstown\, PA\, 17067\, United States
CATEGORIES:Adults,FITT Class,Lebanon County Libraries,Myerstown Community Library,Technology
ORGANIZER;CN="Michelle Hawk":MAILTO:hawk@lclibs.org
END:VEVENT
BEGIN:VEVENT
DTSTART;TZID=America/New_York:20240304T140000
DTEND;TZID=America/New_York:20240304T150000
DTSTAMP:20260422T212232
CREATED:20240227T154024Z
LAST-MODIFIED:20240227T154024Z
UID:30556-1709560800-1709564400@myerstown.lclibs.org
SUMMARY:Email Basics
DESCRIPTION:Learn the basics of email including how to create an email account\, send and receive emails\, attach files\, and print from an email. Call 717-866-2800 to register. Space is limited.
URL:https://myerstown.lclibs.org/event/email-basics/
LOCATION:Myerstown Community Library\, 199 N. College Street\, Myerstown\, PA\, 17067\, United States
CATEGORIES:Adults,FITT Class,Lebanon County Libraries,Myerstown Community Library,Technology
ORGANIZER;CN="Michelle Hawk":MAILTO:hawk@lclibs.org
END:VEVENT
BEGIN:VEVENT
DTSTART;TZID=America/New_York:20240302T133000
DTEND;TZID=America/New_York:20240302T153000
DTSTAMP:20260422T212232
CREATED:20240301T212344Z
LAST-MODIFIED:20240424T170646Z
UID:30701-1709386200-1709393400@myerstown.lclibs.org
SUMMARY:Lace Lovers
DESCRIPTION:Crochet\, tatting\, bobbin lace\, teneriffe\, knit\, hairpin\, fillet and so much more! Join us if you want to learn about lace\, and have some frilly fun! \nNo experience necessary! For more information\, contact Karen Wattai at 717-813-6148.
URL:https://myerstown.lclibs.org/event/lace-lovers-2/2024-03-02/
LOCATION:Myerstown Community Library\, 199 N. College Street\, Myerstown\, PA\, 17067\, United States
CATEGORIES:Adult program,Adults,Community Event,Craft Program,Myerstown Community Library
ORGANIZER;CN="Sarah Bair":MAILTO:sbair@lclibs.org
END:VEVENT
BEGIN:VEVENT
DTSTART;TZID=America/New_York:20240227T154500
DTEND;TZID=America/New_York:20240227T164500
DTSTAMP:20260422T212232
CREATED:20240124T161350Z
LAST-MODIFIED:20240124T161350Z
UID:30343-1709048700-1709052300@myerstown.lclibs.org
SUMMARY:Intro to Excel
DESCRIPTION:Excel is a program that allows users to format\, organize\, and calculate data in a spreadsheet. Learn what a spreadsheet is\, about different ways to use them\, and how you can make your own. Call 717-866-2800 to register. Space is limited.
URL:https://myerstown.lclibs.org/event/intro-to-excel/
LOCATION:Myerstown Community Library\, 199 N. College Street\, Myerstown\, PA\, 17067\, United States
CATEGORIES:Adult program,FITT Class,Lebanon County Libraries,Myerstown Community Library,Technology
ORGANIZER;CN="Michelle Hawk":MAILTO:hawk@lclibs.org
END:VEVENT
BEGIN:VEVENT
DTSTART;TZID=America/New_York:20240224T110000
DTEND;TZID=America/New_York:20240224T120000
DTSTAMP:20260422T212232
CREATED:20240212T201719Z
LAST-MODIFIED:20260112T223859Z
UID:30500-1708772400-1708776000@myerstown.lclibs.org
SUMMARY:BYOB Book Club
DESCRIPTION:BYOB – Bring Your Own Book Club! We discuss our favorite books and current reads.
URL:https://myerstown.lclibs.org/event/byob-book-club/2024-02-24/
LOCATION:Myerstown Community Library\, 199 N. College Street\, Myerstown\, PA\, 17067\, United States
CATEGORIES:Adult program,Adults,Book Club,Book Discussion,Myerstown Community Library
ORGANIZER;CN="Sarah Bair":MAILTO:sbair@lclibs.org
END:VEVENT
BEGIN:VEVENT
DTSTART;TZID=America/New_York:20240221T103000
DTEND;TZID=America/New_York:20240221T113000
DTSTAMP:20260422T212232
CREATED:20240212T192844Z
LAST-MODIFIED:20241223T213911Z
UID:30375-1708511400-1708515000@myerstown.lclibs.org
SUMMARY:Sit & Knit
DESCRIPTION:A place to talk\, ask questions\, and share your love of knitting\, crocheting and everything that goes with it.
URL:https://myerstown.lclibs.org/event/sit-knit-2/2024-02-21/
LOCATION:Myerstown Community Library\, 199 N. College Street\, Myerstown\, PA\, 17067\, United States
CATEGORIES:Adult program,Adults,Craft Program,Myerstown Community Library
ORGANIZER;CN="Sarah Bair":MAILTO:sbair@lclibs.org
END:VEVENT
BEGIN:VEVENT
DTSTART;TZID=America/New_York:20240220T183000
DTEND;TZID=America/New_York:20240220T200000
DTSTAMP:20260422T212232
CREATED:20240212T195749Z
LAST-MODIFIED:20251219T175111Z
UID:30451-1708453800-1708459200@myerstown.lclibs.org
SUMMARY:Library Board Meeting
DESCRIPTION:The Library Board meets on the third Tuesday of each month at 6:30pm. These meetings are open to the public and are subject to change without notice.
URL:https://myerstown.lclibs.org/event/library-board-meeting/2024-02-20/
LOCATION:Myerstown Community Library\, 199 N. College Street\, Myerstown\, PA\, 17067\, United States
CATEGORIES:Adult program,Board Meeting,Myerstown Community Library
ORGANIZER;CN="Sarah Bair":MAILTO:sbair@lclibs.org
END:VEVENT
BEGIN:VEVENT
DTSTART;TZID=America/New_York:20240214T170000
DTEND;TZID=America/New_York:20240214T190000
DTSTAMP:20260422T212232
CREATED:20240206T160017Z
LAST-MODIFIED:20240206T160017Z
UID:30357-1707930000-1707937200@myerstown.lclibs.org
SUMMARY:New Director Meet & Greet
DESCRIPTION:Come and meet our new director\, Sarah Bair! Drop in at the library and share some book recommendations with her!
URL:https://myerstown.lclibs.org/event/new-director-meet-greet/
LOCATION:Myerstown Community Library\, 199 N. College Street\, Myerstown\, PA\, 17067\, United States
CATEGORIES:Myerstown Community Library
END:VEVENT
BEGIN:VEVENT
DTSTART;TZID=America/New_York:20240212T153000
DTEND;TZID=America/New_York:20240212T163000
DTSTAMP:20260422T212232
CREATED:20240206T195137Z
LAST-MODIFIED:20240206T195137Z
UID:30371-1707751800-1707755400@myerstown.lclibs.org
SUMMARY:PokeMondays
DESCRIPTION:Do you like Pokemon? So do we! Bring your deck or devices to play! No previous experience required.
URL:https://myerstown.lclibs.org/event/pokemondays/
LOCATION:Myerstown Community Library\, 199 N. College Street\, Myerstown\, PA\, 17067\, United States
CATEGORIES:After-School Club,Children,Myerstown Community Library
ORGANIZER;CN="Sarah Bair":MAILTO:sbair@lclibs.org
END:VEVENT
BEGIN:VEVENT
DTSTART;TZID=America/New_York:20240131T173000
DTEND;TZID=America/New_York:20240131T183000
DTSTAMP:20260422T212232
CREATED:20231214T202913Z
LAST-MODIFIED:20231214T202913Z
UID:30315-1706722200-1706725800@myerstown.lclibs.org
SUMMARY:iPhones Part 2
DESCRIPTION:Participants should bring their iPhones to class. Learn about text messaging\, using images and screenshots\, text size\, managing contacts\, adding “favorites\,” and more. Call 717-866-2800 to register. Space is limited.
URL:https://myerstown.lclibs.org/event/iphones-part-2/
LOCATION:Myerstown Community Library\, 199 N. College Street\, Myerstown\, PA\, 17067\, United States
CATEGORIES:Adult program,FITT Class,Lebanon County Libraries,Myerstown Community Library,Technology
ORGANIZER;CN="Michelle Hawk":MAILTO:hawk@lclibs.org
END:VEVENT
BEGIN:VEVENT
DTSTART;TZID=America/New_York:20240124T173000
DTEND;TZID=America/New_York:20240124T183000
DTSTAMP:20260422T212232
CREATED:20231214T202710Z
LAST-MODIFIED:20231214T202710Z
UID:30313-1706117400-1706121000@myerstown.lclibs.org
SUMMARY:iPhones Part 1
DESCRIPTION:Participants should bring their iPhones to class. Learn about text messaging\, using images and screenshots\, text size\, managing contacts\, adding “favorites\,” and more. Call 717-866-2800 to register. Space is limited.
URL:https://myerstown.lclibs.org/event/iphones-part-1/
LOCATION:Myerstown Community Library\, 199 N. College Street\, Myerstown\, PA\, 17067\, United States
CATEGORIES:Adult program,FITT Class,Lebanon County Libraries,Myerstown Community Library,Technology
ORGANIZER;CN="Michelle Hawk":MAILTO:hawk@lclibs.org
END:VEVENT
END:VCALENDAR