BEGIN:VCALENDAR
VERSION:2.0
PRODID:-//Myerstown Community Library - ECPv6.15.17.1//NONSGML v1.0//EN
CALSCALE:GREGORIAN
METHOD:PUBLISH
X-WR-CALNAME:Myerstown Community Library
X-ORIGINAL-URL:https://myerstown.lclibs.org
X-WR-CALDESC:Events for Myerstown Community Library
REFRESH-INTERVAL;VALUE=DURATION:PT1H
X-Robots-Tag:noindex
X-PUBLISHED-TTL:PT1H
BEGIN:VTIMEZONE
TZID:America/New_York
BEGIN:DAYLIGHT
TZOFFSETFROM:-0500
TZOFFSETTO:-0400
TZNAME:EDT
DTSTART:20220313T070000
END:DAYLIGHT
BEGIN:STANDARD
TZOFFSETFROM:-0400
TZOFFSETTO:-0500
TZNAME:EST
DTSTART:20221106T060000
END:STANDARD
BEGIN:DAYLIGHT
TZOFFSETFROM:-0500
TZOFFSETTO:-0400
TZNAME:EDT
DTSTART:20230312T070000
END:DAYLIGHT
BEGIN:STANDARD
TZOFFSETFROM:-0400
TZOFFSETTO:-0500
TZNAME:EST
DTSTART:20231105T060000
END:STANDARD
BEGIN:DAYLIGHT
TZOFFSETFROM:-0500
TZOFFSETTO:-0400
TZNAME:EDT
DTSTART:20240310T070000
END:DAYLIGHT
BEGIN:STANDARD
TZOFFSETFROM:-0400
TZOFFSETTO:-0500
TZNAME:EST
DTSTART:20241103T060000
END:STANDARD
BEGIN:DAYLIGHT
TZOFFSETFROM:-0500
TZOFFSETTO:-0400
TZNAME:EDT
DTSTART:20250309T070000
END:DAYLIGHT
BEGIN:STANDARD
TZOFFSETFROM:-0400
TZOFFSETTO:-0500
TZNAME:EST
DTSTART:20251102T060000
END:STANDARD
END:VTIMEZONE
BEGIN:VEVENT
DTSTART;TZID=America/New_York:20240221T103000
DTEND;TZID=America/New_York:20240221T113000
DTSTAMP:20260423T011338
CREATED:20240212T192844Z
LAST-MODIFIED:20241223T213911Z
UID:30375-1708511400-1708515000@myerstown.lclibs.org
SUMMARY:Sit & Knit
DESCRIPTION:A place to talk\, ask questions\, and share your love of knitting\, crocheting and everything that goes with it.
URL:https://myerstown.lclibs.org/event/sit-knit-2/2024-02-21/
LOCATION:Myerstown Community Library\, 199 N. College Street\, Myerstown\, PA\, 17067\, United States
CATEGORIES:Adult program,Adults,Craft Program,Myerstown Community Library
ORGANIZER;CN="Sarah Bair":MAILTO:sbair@lclibs.org
END:VEVENT
BEGIN:VEVENT
DTSTART;TZID=America/New_York:20240220T183000
DTEND;TZID=America/New_York:20240220T200000
DTSTAMP:20260423T011338
CREATED:20240212T195749Z
LAST-MODIFIED:20251219T175111Z
UID:30451-1708453800-1708459200@myerstown.lclibs.org
SUMMARY:Library Board Meeting
DESCRIPTION:The Library Board meets on the third Tuesday of each month at 6:30pm. These meetings are open to the public and are subject to change without notice.
URL:https://myerstown.lclibs.org/event/library-board-meeting/2024-02-20/
LOCATION:Myerstown Community Library\, 199 N. College Street\, Myerstown\, PA\, 17067\, United States
CATEGORIES:Adult program,Board Meeting,Myerstown Community Library
ORGANIZER;CN="Sarah Bair":MAILTO:sbair@lclibs.org
END:VEVENT
BEGIN:VEVENT
DTSTART;TZID=America/New_York:20240214T170000
DTEND;TZID=America/New_York:20240214T190000
DTSTAMP:20260423T011338
CREATED:20240206T160017Z
LAST-MODIFIED:20240206T160017Z
UID:30357-1707930000-1707937200@myerstown.lclibs.org
SUMMARY:New Director Meet & Greet
DESCRIPTION:Come and meet our new director\, Sarah Bair! Drop in at the library and share some book recommendations with her!
URL:https://myerstown.lclibs.org/event/new-director-meet-greet/
LOCATION:Myerstown Community Library\, 199 N. College Street\, Myerstown\, PA\, 17067\, United States
CATEGORIES:Myerstown Community Library
END:VEVENT
BEGIN:VEVENT
DTSTART;TZID=America/New_York:20240212T153000
DTEND;TZID=America/New_York:20240212T163000
DTSTAMP:20260423T011338
CREATED:20240206T195137Z
LAST-MODIFIED:20240206T195137Z
UID:30371-1707751800-1707755400@myerstown.lclibs.org
SUMMARY:PokeMondays
DESCRIPTION:Do you like Pokemon? So do we! Bring your deck or devices to play! No previous experience required.
URL:https://myerstown.lclibs.org/event/pokemondays/
LOCATION:Myerstown Community Library\, 199 N. College Street\, Myerstown\, PA\, 17067\, United States
CATEGORIES:After-School Club,Children,Myerstown Community Library
ORGANIZER;CN="Sarah Bair":MAILTO:sbair@lclibs.org
END:VEVENT
BEGIN:VEVENT
DTSTART;TZID=America/New_York:20240131T173000
DTEND;TZID=America/New_York:20240131T183000
DTSTAMP:20260423T011338
CREATED:20231214T202913Z
LAST-MODIFIED:20231214T202913Z
UID:30315-1706722200-1706725800@myerstown.lclibs.org
SUMMARY:iPhones Part 2
DESCRIPTION:Participants should bring their iPhones to class. Learn about text messaging\, using images and screenshots\, text size\, managing contacts\, adding “favorites\,” and more. Call 717-866-2800 to register. Space is limited.
URL:https://myerstown.lclibs.org/event/iphones-part-2/
LOCATION:Myerstown Community Library\, 199 N. College Street\, Myerstown\, PA\, 17067\, United States
CATEGORIES:Adult program,FITT Class,Lebanon County Libraries,Myerstown Community Library,Technology
ORGANIZER;CN="Michelle Hawk":MAILTO:hawk@lclibs.org
END:VEVENT
BEGIN:VEVENT
DTSTART;TZID=America/New_York:20240124T173000
DTEND;TZID=America/New_York:20240124T183000
DTSTAMP:20260423T011338
CREATED:20231214T202710Z
LAST-MODIFIED:20231214T202710Z
UID:30313-1706117400-1706121000@myerstown.lclibs.org
SUMMARY:iPhones Part 1
DESCRIPTION:Participants should bring their iPhones to class. Learn about text messaging\, using images and screenshots\, text size\, managing contacts\, adding “favorites\,” and more. Call 717-866-2800 to register. Space is limited.
URL:https://myerstown.lclibs.org/event/iphones-part-1/
LOCATION:Myerstown Community Library\, 199 N. College Street\, Myerstown\, PA\, 17067\, United States
CATEGORIES:Adult program,FITT Class,Lebanon County Libraries,Myerstown Community Library,Technology
ORGANIZER;CN="Michelle Hawk":MAILTO:hawk@lclibs.org
END:VEVENT
BEGIN:VEVENT
DTSTART;TZID=America/New_York:20231229T103000
DTEND;TZID=America/New_York:20231229T113000
DTSTAMP:20260423T011338
CREATED:20230907T163921Z
LAST-MODIFIED:20231227T234853Z
UID:30228-1703845800-1703849400@myerstown.lclibs.org
SUMMARY:Preschool Story Time
DESCRIPTION:
URL:https://myerstown.lclibs.org/event/preschool-story-time/2023-12-29/
LOCATION:Myerstown Community Library\, 199 N. College Street\, Myerstown\, PA\, 17067\, United States
CATEGORIES:Children,Storytime
END:VEVENT
BEGIN:VEVENT
DTSTART;TZID=America/New_York:20231120T153000
DTEND;TZID=America/New_York:20231120T164500
DTSTAMP:20260423T011338
CREATED:20231031T150621Z
LAST-MODIFIED:20231031T150621Z
UID:30301-1700494200-1700498700@myerstown.lclibs.org
SUMMARY:Pokémon Club
DESCRIPTION:
URL:https://myerstown.lclibs.org/event/pokemon-club/2023-11-20/
LOCATION:Myerstown Community Library\, 199 N. College Street\, Myerstown\, PA\, 17067\, United States
END:VEVENT
BEGIN:VEVENT
DTSTART;TZID=America/New_York:20231118T140000
DTEND;TZID=America/New_York:20231118T150000
DTSTAMP:20260423T011338
CREATED:20231031T150949Z
LAST-MODIFIED:20231031T150949Z
UID:30305-1700316000-1700319600@myerstown.lclibs.org
SUMMARY:Crafternoon
DESCRIPTION:
URL:https://myerstown.lclibs.org/event/crafternoon/
LOCATION:Myerstown Community Library\, 199 N. College Street\, Myerstown\, PA\, 17067\, United States
END:VEVENT
BEGIN:VEVENT
DTSTART;TZID=America/New_York:20231017T180000
DTEND;TZID=America/New_York:20231017T200000
DTSTAMP:20260423T011338
CREATED:20230811T180611Z
LAST-MODIFIED:20231003T202049Z
UID:30206-1697565600-1697572800@myerstown.lclibs.org
SUMMARY:R.E.A.D. Speaker Series
DESCRIPTION:
URL:https://myerstown.lclibs.org/event/r-e-a-d-speaker-series/
LOCATION:Myerstown Community Library\, 199 N. College Street\, Myerstown\, PA\, 17067\, United States
END:VEVENT
BEGIN:VEVENT
DTSTART;TZID=America/New_York:20231014T100000
DTEND;TZID=America/New_York:20231014T113000
DTSTAMP:20260423T011338
CREATED:20231003T205756Z
LAST-MODIFIED:20231003T205756Z
UID:30286-1697277600-1697283000@myerstown.lclibs.org
SUMMARY:Inner Artist
DESCRIPTION:
URL:https://myerstown.lclibs.org/event/inner-artist-2/
LOCATION:Myerstown Community Library\, 199 N. College Street\, Myerstown\, PA\, 17067\, United States
END:VEVENT
BEGIN:VEVENT
DTSTART;TZID=America/New_York:20230914T113000
DTEND;TZID=America/New_York:20230914T123000
DTSTAMP:20260423T011338
CREATED:20221021T142906Z
LAST-MODIFIED:20230810T142627Z
UID:29602-1694691000-1694694600@myerstown.lclibs.org
SUMMARY:Smart Start Storytime
DESCRIPTION:Smart Start Storytime is a free\, 30 minute program for babies birth through two years of age and their parents\, grandparents\, and caregivers. No registration is required and siblings are welcome to attend!
URL:https://myerstown.lclibs.org/event/smart-start-storytime-3/2023-09-14/
LOCATION:Myerstown Community Library\, 199 N. College Street\, Myerstown\, PA\, 17067\, United States
CATEGORIES:Children,Family Program,Lebanon County Libraries,Lebanon County Library System,Myerstown Community Library,Smart Start Storytime,Storytime
ORGANIZER;CN="Michelle Hawk":MAILTO:hawk@lclibs.org
END:VEVENT
BEGIN:VEVENT
DTSTART;TZID=America/New_York:20230906T103000
DTEND;TZID=America/New_York:20230906T120000
DTSTAMP:20260423T011338
CREATED:20230811T182225Z
LAST-MODIFIED:20231227T234953Z
UID:30211-1693996200-1694001600@myerstown.lclibs.org
SUMMARY:Sit & Knit
DESCRIPTION:
URL:https://myerstown.lclibs.org/event/sit-knit/2023-09-06/
LOCATION:Myerstown Community Library\, 199 N. College Street\, Myerstown\, PA\, 17067\, United States
END:VEVENT
BEGIN:VEVENT
DTSTART;TZID=America/New_York:20230706T103000
DTEND;TZID=America/New_York:20230706T113000
DTSTAMP:20260423T011338
CREATED:20230630T143820Z
LAST-MODIFIED:20230630T143820Z
UID:30052-1688639400-1688643000@myerstown.lclibs.org
SUMMARY:Paws to Read
DESCRIPTION:
URL:https://myerstown.lclibs.org/event/paws-to-read/2023-07-06/
LOCATION:Myerstown Community Library\, 199 N. College Street\, Myerstown\, PA\, 17067\, United States
END:VEVENT
BEGIN:VEVENT
DTSTART;TZID=America/New_York:20230630T103000
DTEND;TZID=America/New_York:20230630T113000
DTSTAMP:20260423T011338
CREATED:20230630T143120Z
LAST-MODIFIED:20230719T222521Z
UID:30036-1688121000-1688124600@myerstown.lclibs.org
SUMMARY:Preschool Storytime
DESCRIPTION:
URL:https://myerstown.lclibs.org/event/preschool-storytime/2023-06-30/
LOCATION:Myerstown Community Library\, 199 N. College Street\, Myerstown\, PA\, 17067\, United States
END:VEVENT
END:VCALENDAR